BEGIN:VCALENDAR
VERSION:2.0
PRODID:-//wp-events-plugin.com//7.2.3.1//EN
TZID:Europe/Ljubljana
X-WR-TIMEZONE:Europe/Ljubljana
BEGIN:VEVENT
UID:1984@kjuc.si
DTSTART;TZID=Europe/Ljubljana;VALUE=DATE:20250520
DTEND;TZID=Europe/Ljubljana;VALUE=DATE:20250621
DTSTAMP:20250521T115706Z
URL:https://www.kjuc.si/dogodki/matjaz-berdon-utrinki-iz-narave-odprtje-fo
 tografske-razstave-2/
SUMMARY:Matjaž Berdon: Utrinki iz narave - fotografska razstava
DESCRIPTION:\n\nO avtorju\n\nMatjaž Berdon živi in ustvarja v kraju Ošev
 ljek\, občini Renče - Vogrsko. S fotografijo se resneje ukvarja od leta 
 2010\, ko je začel obiskovati delavnico digitalne fotografije na MDI Gori
 ške pod mentorstvom priznanega pokojnega mojstra fotografije Mirka Bijukl
 iča. Vodenje le te je leta 2018 tudi sam prevzel. Širino fotografije je 
 kasneje plemenitil z mentorjema Andrejem Petrovič in Suzano Uršič ter s
  klubskimi kolegi &nbsp\;Kluba Zagon iz Šempetra\, Foto kluba Nova Gorica
  in UNITRI Nova Gorica\, katerih tudi član je.\n\nSvoja dela predstavlja 
 na vsakoletnih skupinskih fotografskih razstavah\, ki jih v različnih ob
 činah organizira MDI Goriške. Prvič se je samostojno predstavil javnost
 i\, ko je leta 2016 izdal zbirko pesmi in fotografij z naslovom Spomini ni
 koli ne zamrejo. Leta 2023 je Klub Zagon v Novi Gorici organiziral dve nje
 govi samostojni razstavi. Do sedaj je bilo kar nekaj njegovih fotografij o
 bjavljenih na uradnem Facebook profilu Canon Slovenija. Nekatere kot fotog
 rafije tedna ali meseca\, trikrat pa kot naslovni profil. Lani je sodelova
 l na natečajih v Sloveniji in Nemčiji\, kjer je bilo sprejetih več njeg
 ovih fotografij. Z eno si je v Nemčiji prislužil diplomo. Večina omenje
 nih fotografij\, ki so nastale v zadnjem obdobju\, je v tej Matjaževi sam
 ostojni razstavi.\n\nVsak fotograf ima svoj edinstven stil\, ki izraža nj
 egov značaj in osebno umetniško vizijo. Matjaž najraje fotografira nara
 vo\, predvsem gore\, kamor se podaja v najzgodnejših urah\, da lahko z na
 jvišjih vrhov ujame prve žarke&nbsp\; jutranje zarje. Fantastične podob
 e\, ki jih ovekoveči v HDR-tehniki\, gledalcu jemljejo dih. Njegova ljube
 zen do fotografije se ne ustavi samo na vrhu sveta. Velikokrat ga iz razse
 žnega pogleda na pokrajino z vrhov popelje v jutranje čarobno prebujanje
  svetlobe v dolini\, katere motivi so včasih oplemeniteni z meglicami.&nb
 sp\; V zadnjih letih je našel nov izziv v fotografiranju z dolgim časom\
 , s katerim ujame čarobnost\, ki jo s prostim očesom ni mogoče videti. 
 Prevzela ga je voda\, njena nenehno spreminjajoča se narava\, moč\, prod
 ornost\, in zrcalni odsevi na mirni gladini.
ATTACH;FMTTYPE=image/jpeg:https://www.kjuc.si/wp-content/uploads/2025/05/f
 oto-zahod.jpg
CATEGORIES:Razstave
LOCATION:Knjižnica Jožeta Udoviča Cerknica\, Partizanska cesta 22\, Cerk
 nica\, Slovenia
GEO:45.795484;14.362483
X-APPLE-STRUCTURED-LOCATION;VALUE=URI;X-ADDRESS=Partizanska cesta 22\, Cerk
 nica\, Slovenia;X-APPLE-RADIUS=100;X-TITLE=Knjižnica Jožeta Udoviča Cer
 knica:geo:45.795484,14.362483
END:VEVENT
BEGIN:VTIMEZONE
TZID:Europe/Ljubljana
X-LIC-LOCATION:Europe/Ljubljana
BEGIN:DAYLIGHT
DTSTART:20250330T030000
TZOFFSETFROM:+0100
TZOFFSETTO:+0200
TZNAME:CEST
END:DAYLIGHT
END:VTIMEZONE
END:VCALENDAR