BEGIN:VCALENDAR
VERSION:2.0
PRODID:-//wp-events-plugin.com//7.2.3.1//EN
TZID:Europe/Ljubljana
X-WR-TIMEZONE:Europe/Ljubljana
BEGIN:VEVENT
UID:1096@kjuc.si
DTSTART;TZID=Europe/Ljubljana:20210305T170000
DTEND;TZID=Europe/Ljubljana:20210305T171500
DTSTAMP:20250331T103632Z
URL:https://www.kjuc.si/dogodki/minute-za-pravljico/
SUMMARY:Minute za pravljico
DESCRIPTION:\n&nbsp\;\nNa YouTube KJUC lahko prisluhnete pravljičarki Anit
 i Leskovec.\nhttps://www.youtube.com/watch?v=GdO3R-sY9mA
ATTACH;FMTTYPE=image/jpeg:https://www.kjuc.si/wp-content/uploads/2025/03/v
 abilo-1-5.jpg
CATEGORIES:Prireditev,Za otroke
LOCATION:Knjižnica Jožeta Udoviča Cerknica\, Partizanska cesta 22\, Cerk
 nica\, Slovenia
GEO:45.795484;14.362483
X-APPLE-STRUCTURED-LOCATION;VALUE=URI;X-ADDRESS=Partizanska cesta 22\, Cerk
 nica\, Slovenia;X-APPLE-RADIUS=100;X-TITLE=Knjižnica Jožeta Udoviča Cer
 knica:geo:45.795484,14.362483
END:VEVENT
BEGIN:VTIMEZONE
TZID:Europe/Ljubljana
X-LIC-LOCATION:Europe/Ljubljana
BEGIN:STANDARD
DTSTART:20201025T020000
TZOFFSETFROM:+0200
TZOFFSETTO:+0100
TZNAME:CET
END:STANDARD
END:VTIMEZONE
END:VCALENDAR