BEGIN:VCALENDAR
VERSION:2.0
PRODID:-//wp-events-plugin.com//7.2.3.1//EN
TZID:Europe/Ljubljana
X-WR-TIMEZONE:Europe/Ljubljana
BEGIN:VEVENT
UID:1367@kjuc.si
DTSTART;TZID=Europe/Ljubljana;VALUE=DATE:20221105
DTEND;TZID=Europe/Ljubljana;VALUE=DATE:20221207
DTSTAMP:20250331T104044Z
URL:https://www.kjuc.si/dogodki/mk-glina-razstava-unikatnih-izdelkov-rokod
 elke-in-ustvarjalke-iz-gline-kristine-maticic/
SUMMARY:MK GLINA - razstava unikatnih izdelkov rokodelke in ustvarjalke iz 
 gline Kristine Matičič
DESCRIPTION:\n\nMK GLINA nov dec 2022
ATTACH;FMTTYPE=image/jpeg:https://www.kjuc.si/wp-content/uploads/2025/03/M
 K-GLINA-nov-dec-2022-page-001.jpg
CATEGORIES:Razstave
LOCATION:Knjižnica Jožeta Udoviča Cerknica\, Partizanska cesta 22\, Cerk
 nica\, Slovenia
GEO:45.795484;14.362483
X-APPLE-STRUCTURED-LOCATION;VALUE=URI;X-ADDRESS=Partizanska cesta 22\, Cerk
 nica\, Slovenia;X-APPLE-RADIUS=100;X-TITLE=Knjižnica Jožeta Udoviča Cer
 knica:geo:45.795484,14.362483
END:VEVENT
BEGIN:VTIMEZONE
TZID:Europe/Ljubljana
X-LIC-LOCATION:Europe/Ljubljana
BEGIN:STANDARD
DTSTART:20221030T020000
TZOFFSETFROM:+0200
TZOFFSETTO:+0100
TZNAME:CET
END:STANDARD
END:VTIMEZONE
END:VCALENDAR