BEGIN:VCALENDAR
VERSION:2.0
PRODID:-//wp-events-plugin.com//7.2.3.1//EN
TZID:Europe/Ljubljana
X-WR-TIMEZONE:Europe/Ljubljana
BEGIN:VEVENT
UID:497@kjuc.si
DTSTART;TZID=Europe/Ljubljana:20170907T170000
DTEND;TZID=Europe/Ljubljana:20170907T180000
DTSTAMP:20250331T101031Z
URL:https://www.kjuc.si/dogodki/morska-pravljicna-urica-z-ustvarjalno-dela
 vnico-za-otroke-od-4-leta-dalje/
SUMMARY:Morska pravljična urica z ustvarjalno delavnico za otroke od 4. le
 ta dalje
DESCRIPTION:\n\n[gallery link="none" columns="2" size="full" ids="eyJ1cmwiO
 iJodHRwczpcL1wvd3d3LmtqdWMuc2lcL3dwLWNvbnRlbnRcL3VwbG9hZHNcLzIwMTdcLzA4XC9
 QOTA3MDAxMC5qcGciLCJ0aXRsZSI6IlA5MDcwMDEwIiwiY2FwdGlvbiI6IiIsImFsdCI6IiIsI
 mRlc2NyaXB0aW9uIjoiIn0=\,eyJ1cmwiOiJodHRwczpcL1wvd3d3LmtqdWMuc2lcL3dwLWNvb
 nRlbnRcL3VwbG9hZHNcLzIwMTdcLzA4XC9QOTA3MDAxMS5qcGciLCJ0aXRsZSI6IlA5MDcwMDE
 xIiwiY2FwdGlvbiI6IiIsImFsdCI6IiIsImRlc2NyaXB0aW9uIjoiIn0=\,eyJ1cmwiOiJodHR
 wczpcL1wvd3d3LmtqdWMuc2lcL3dwLWNvbnRlbnRcL3VwbG9hZHNcLzIwMTdcLzA4XC9QOTA3M
 DAxMi5qcGciLCJ0aXRsZSI6IlA5MDcwMDEyIiwiY2FwdGlvbiI6IiIsImFsdCI6IiIsImRlc2N
 yaXB0aW9uIjoiIn0=\,eyJ1cmwiOiJodHRwczpcL1wvd3d3LmtqdWMuc2lcL3dwLWNvbnRlbnR
 cL3VwbG9hZHNcLzIwMTdcLzA4XC9QOTA3MDAxMy5qcGciLCJ0aXRsZSI6IlA5MDcwMDEzIiwiY
 2FwdGlvbiI6IiIsImFsdCI6IiIsImRlc2NyaXB0aW9uIjoiIn0=\,eyJ1cmwiOiJodHRwczpcL
 1wvd3d3LmtqdWMuc2lcL3dwLWNvbnRlbnRcL3VwbG9hZHNcLzIwMTdcLzA4XC9QOTA3MDAxNS5
 qcGciLCJ0aXRsZSI6IlA5MDcwMDE1IiwiY2FwdGlvbiI6IiIsImFsdCI6IiIsImRlc2NyaXB0a
 W9uIjoiIn0=\,eyJ1cmwiOiJodHRwczpcL1wvd3d3LmtqdWMuc2lcL3dwLWNvbnRlbnRcL3Vwb
 G9hZHNcLzIwMTdcLzA4XC9QOTA3MDAxNi5qcGciLCJ0aXRsZSI6IlA5MDcwMDE2IiwiY2FwdGl
 vbiI6IiIsImFsdCI6IiIsImRlc2NyaXB0aW9uIjoiIn0=\,eyJ1cmwiOiJodHRwczpcL1wvd3d
 3LmtqdWMuc2lcL3dwLWNvbnRlbnRcL3VwbG9hZHNcLzIwMTdcLzA4XC9QOTA3MDAxNy5qcGciL
 CJ0aXRsZSI6IlA5MDcwMDE3IiwiY2FwdGlvbiI6IiIsImFsdCI6IiIsImRlc2NyaXB0aW9uIjo
 iIn0=\,eyJ1cmwiOiJodHRwczpcL1wvd3d3LmtqdWMuc2lcL3dwLWNvbnRlbnRcL3VwbG9hZHN
 cLzIwMTdcLzA4XC9QOTA3MDAxOC5qcGciLCJ0aXRsZSI6IlA5MDcwMDE4IiwiY2FwdGlvbiI6I
 iIsImFsdCI6IiIsImRlc2NyaXB0aW9uIjoiIn0=\,eyJ1cmwiOiJodHRwczpcL1wvd3d3Lmtqd
 WMuc2lcL3dwLWNvbnRlbnRcL3VwbG9hZHNcLzIwMTdcLzA4XC9QOTA3MDAyMC5qcGciLCJ0aXR
 sZSI6IlA5MDcwMDIwIiwiY2FwdGlvbiI6IiIsImFsdCI6IiIsImRlc2NyaXB0aW9uIjoiIn0=\
 ,eyJ1cmwiOiJodHRwczpcL1wvd3d3LmtqdWMuc2lcL3dwLWNvbnRlbnRcL3VwbG9hZHNcLzIwM
 TdcLzA4XC9QOTA3MDAyMS5qcGciLCJ0aXRsZSI6IlA5MDcwMDIxIiwiY2FwdGlvbiI6IiIsImF
 sdCI6IiIsImRlc2NyaXB0aW9uIjoiIn0=\,eyJ1cmwiOiJodHRwczpcL1wvd3d3LmtqdWMuc2l
 cL3dwLWNvbnRlbnRcL3VwbG9hZHNcLzIwMTdcLzA4XC9QOTA3MDAyMy5qcGciLCJ0aXRsZSI6I
 lA5MDcwMDIzIiwiY2FwdGlvbiI6IiIsImFsdCI6IiIsImRlc2NyaXB0aW9uIjoiIn0="]
ATTACH;FMTTYPE=image/jpeg:https://www.kjuc.si/wp-content/uploads/2025/03/1
 52b9c3cd6c444e6c4a41450dfb71aa4.png
CATEGORIES:Za otroke
LOCATION:Knjižnica Jožeta Udoviča Cerknica\, Partizanska cesta 22\, Cerk
 nica\, Slovenia
GEO:45.795484;14.362483
X-APPLE-STRUCTURED-LOCATION;VALUE=URI;X-ADDRESS=Partizanska cesta 22\, Cerk
 nica\, Slovenia;X-APPLE-RADIUS=100;X-TITLE=Knjižnica Jožeta Udoviča Cer
 knica:geo:45.795484,14.362483
END:VEVENT
BEGIN:VTIMEZONE
TZID:Europe/Ljubljana
X-LIC-LOCATION:Europe/Ljubljana
BEGIN:DAYLIGHT
DTSTART:20170326T030000
TZOFFSETFROM:+0100
TZOFFSETTO:+0200
TZNAME:CEST
END:DAYLIGHT
END:VTIMEZONE
END:VCALENDAR