BEGIN:VCALENDAR
VERSION:2.0
PRODID:-//wp-events-plugin.com//7.2.3.1//EN
TZID:Europe/Ljubljana
X-WR-TIMEZONE:Europe/Ljubljana
BEGIN:VEVENT
UID:995@kjuc.si
DTSTART;TZID=Europe/Ljubljana:20200120T180000
DTEND;TZID=Europe/Ljubljana:20200120T190000
DTSTAMP:20250331T103511Z
URL:https://www.kjuc.si/dogodki/od-ovce-do-preje-pravljicna-urica-z-janjo-
 urbiha-2/
SUMMARY:Od ovce do preje - pravljična urica z Janjo Urbiha
DESCRIPTION:\n\nVabilo\nV knjižnici pravljično z Janjo\nJanuarsko pravlji
 čno uro v Enoti Maričke Žnidaršič je popestril obisk gostje Janje Urb
 iha\, ki se ukvarja s polstenjem in izdelovanjem modnih dodatkov iz volne.
  Otroke je popeljala na pot od ovce in preje do oblačil. Seznanili so se 
 s celotnim postopkom pridobivanja\, predelave in uporabe volne – striže
 njem\, predenjem\, sukanjem\, tkanjem\, pletenjem\, kvačkanjem\, z mokrim
  in suhim polstenjem ter šivanjem. Ob tem so se porajale nove\, ustvarjal
 ne ideje\, kaj vse in kako bi lahko še ustvarjali z volno. Tipali in vonj
 ali so striženo\, oprano in česano volno. In prav čutne izkušnje\, ki 
 jih otroci pridobijo z neposrednim spoznavanjem volne\, so spodbuda za nad
 aljnje spoznavanje in izkustveno učenje\, ki izhaja iz neposrednega rokov
 anja z materialom. Pridobivanje znanj\, ki že sodijo v preteklost\, je mo
 žno le skozi načrtovane dejavnosti\, še posebej zaradi otrok\, ki so pr
 ikrajšani za tovrstne izkušnje. Uro so sklenili s pravljico o ovčki Mil
 i\, ki je zaradi radodarnosti ostala naga\, in z delavnico\, na kateri so 
 pod spretnimi prsti nastala knjižna kazala z obeski iz volne. Nesebičnos
 t ovčke Mili morda res ni odraz resničnega življenja\, ki jih obkroža\
 , je pa še vedno živa v pravljicah. Nesebična želja\, da bi pomagali d
 rugim\, ne da bi pomislili nase\, jim ni ponujena kot ideal\, ampak kot mo
 žnost in rešitev\, ki – ko to dojamejo – le osmisli in bogati člove
 ško življenje.\n&nbsp\;\n&nbsp\;\nAnđelka Pogorili\n[gallery link="file
 " columns="2" size="full" ids="eyJ1cmwiOiJodHRwczpcL1wvd3d3LmtqdWMuc2lcL3d
 wLWNvbnRlbnRcL3VwbG9hZHNcLzIwMjBcLzAxXC9JTUdfMjAyMDAxMjBfMTgxNzU0LmpwZyIsI
 nRpdGxlIjoiZGF2IiwiY2FwdGlvbiI6IiIsImFsdCI6IiIsImRlc2NyaXB0aW9uIjoiIn0=\,e
 yJ1cmwiOiJodHRwczpcL1wvd3d3LmtqdWMuc2lcL3dwLWNvbnRlbnRcL3VwbG9hZHNcLzIwMjB
 cLzAxXC9JTUdfMjAyMDAxMjBfMTgxNzU2LmpwZyIsInRpdGxlIjoiZGF2IiwiY2FwdGlvbiI6I
 iIsImFsdCI6IiIsImRlc2NyaXB0aW9uIjoiIn0=\,eyJ1cmwiOiJodHRwczpcL1wvd3d3Lmtqd
 WMuc2lcL3dwLWNvbnRlbnRcL3VwbG9hZHNcLzIwMjBcLzAxXC9JTUdfMjAyMDAxMjBfMTgxNzU
 4LmpwZyIsInRpdGxlIjoiZGF2IiwiY2FwdGlvbiI6IiIsImFsdCI6IiIsImRlc2NyaXB0aW9uI
 joiIn0=\,eyJ1cmwiOiJodHRwczpcL1wvd3d3LmtqdWMuc2lcL3dwLWNvbnRlbnRcL3VwbG9hZ
 HNcLzIwMjBcLzAxXC9JTUdfMjAyMDAxMjBfMTgxODA2LmpwZyIsInRpdGxlIjoiZGF2IiwiY2F
 wdGlvbiI6IiIsImFsdCI6IiIsImRlc2NyaXB0aW9uIjoiIn0=\,eyJ1cmwiOiJodHRwczpcL1w
 vd3d3LmtqdWMuc2lcL3dwLWNvbnRlbnRcL3VwbG9hZHNcLzIwMjBcLzAxXC9JTUdfMjAyMDAxM
 jBfMTgxODA3XzEuanBnIiwidGl0bGUiOiJkYXYiLCJjYXB0aW9uIjoiIiwiYWx0IjoiIiwiZGV
 zY3JpcHRpb24iOiIifQ=="]\n\n&nbsp\;
ATTACH;FMTTYPE=image/jpeg:https://www.kjuc.si/wp-content/uploads/2025/03/v
 abilo-ST-jan-2020-718x1024-1.jpg
CATEGORIES:Za otroke
LOCATION:Enota Maričke Žnidaršič Stari trg\, Cesta Notranjskega odreda 
 32\, Stari trg pri Ložu\, Slovenia
GEO:45.712702;14.472784
X-APPLE-STRUCTURED-LOCATION;VALUE=URI;X-ADDRESS=Cesta Notranjskega odreda 3
 2\, Stari trg pri Ložu\, Slovenia;X-APPLE-RADIUS=100;X-TITLE=Enota Marič
 ke Žnidaršič Stari trg:geo:45.712702,14.472784
END:VEVENT
BEGIN:VTIMEZONE
TZID:Europe/Ljubljana
X-LIC-LOCATION:Europe/Ljubljana
BEGIN:STANDARD
DTSTART:20191027T020000
TZOFFSETFROM:+0200
TZOFFSETTO:+0100
TZNAME:CET
END:STANDARD
END:VTIMEZONE
END:VCALENDAR