BEGIN:VCALENDAR
VERSION:2.0
PRODID:-//wp-events-plugin.com//7.2.3.1//EN
TZID:Europe/Ljubljana
X-WR-TIMEZONE:Europe/Ljubljana
BEGIN:VEVENT
UID:1294@kjuc.si
DTSTART;TZID=Europe/Ljubljana:20220624T180000
DTEND;TZID=Europe/Ljubljana:20220624T183000
DTSTAMP:20250331T103924Z
URL:https://www.kjuc.si/dogodki/odkritje-doprsnega-kipa-franca-antona-stei
 nberga-1684-1765-krasoslovca-kartografa-slikarja-politehnika-avtorja-monog
 rafije-o-cerkniskem-jezeru/
SUMMARY:Odkritje doprsnega kipa Franca Antona Steinberga (1684–1765)\, kr
 asoslovca\, kartografa\, slikarja\, politehnika\, avtorja monografije o Ce
 rkniškem jezeru
DESCRIPTION:\n\nVabilo
ATTACH;FMTTYPE=image/jpeg:https://www.kjuc.si/wp-content/uploads/2025/03/D
 N-775-2022_plakat_kip_Steinberg-press-1-page-0011-724x1024-1.jpg
CATEGORIES:Prireditev,Razno
LOCATION:Knjižnica Jožeta Udoviča Cerknica\, Partizanska cesta 22\, Cerk
 nica\, Slovenia
GEO:45.795484;14.362483
X-APPLE-STRUCTURED-LOCATION;VALUE=URI;X-ADDRESS=Partizanska cesta 22\, Cerk
 nica\, Slovenia;X-APPLE-RADIUS=100;X-TITLE=Knjižnica Jožeta Udoviča Cer
 knica:geo:45.795484,14.362483
END:VEVENT
BEGIN:VTIMEZONE
TZID:Europe/Ljubljana
X-LIC-LOCATION:Europe/Ljubljana
BEGIN:DAYLIGHT
DTSTART:20220327T030000
TZOFFSETFROM:+0100
TZOFFSETTO:+0200
TZNAME:CEST
END:DAYLIGHT
END:VTIMEZONE
END:VCALENDAR