BEGIN:VCALENDAR
VERSION:2.0
PRODID:-//wp-events-plugin.com//7.2.3.1//EN
TZID:Europe/Ljubljana
X-WR-TIMEZONE:Europe/Ljubljana
BEGIN:VEVENT
UID:1725@kjuc.si
DTSTART;TZID=Europe/Ljubljana:20240516T190000
DTEND;TZID=Europe/Ljubljana:20240516T200000
DTSTAMP:20250331T104539Z
URL:https://www.kjuc.si/dogodki/odprtje-razstave-likovnih-del-in-podelitev
 -priznanj-19-slikarski-ex-tempore-rak-rakek/
SUMMARY:Odprtje razstave likovnih del in podelitev priznanj - 19. slikarski
  EX-TEMPORE Rak Rakek
DESCRIPTION:\n\nvabilo_24
ATTACH;FMTTYPE=image/jpeg:https://www.kjuc.si/wp-content/uploads/2025/03/v
 abilo_24-page-001-1.jpg
CATEGORIES:Prireditev,Razno
LOCATION:Enota Ivana Matičiča Rakek\, Partizanska cesta 8a\, Rakek\, Slov
 enia
GEO:45.8127;14.319238
X-APPLE-STRUCTURED-LOCATION;VALUE=URI;X-ADDRESS=Partizanska cesta 8a\, Rake
 k\, Slovenia;X-APPLE-RADIUS=100;X-TITLE=Enota Ivana Matičiča Rakek:geo:4
 5.8127,14.319238
END:VEVENT
BEGIN:VTIMEZONE
TZID:Europe/Ljubljana
X-LIC-LOCATION:Europe/Ljubljana
BEGIN:DAYLIGHT
DTSTART:20240331T030000
TZOFFSETFROM:+0100
TZOFFSETTO:+0200
TZNAME:CEST
END:DAYLIGHT
END:VTIMEZONE
END:VCALENDAR