BEGIN:VCALENDAR
VERSION:2.0
PRODID:-//wp-events-plugin.com//7.2.3.1//EN
TZID:Europe/Ljubljana
X-WR-TIMEZONE:Europe/Ljubljana
BEGIN:VEVENT
UID:2137@kjuc.si
DTSTART;TZID=Europe/Ljubljana;VALUE=DATE:20260105
DTEND;TZID=Europe/Ljubljana;VALUE=DATE:20260301
DTSTAMP:20260109T074012Z
URL:https://www.kjuc.si/dogodki/paul-veenvliet-narava-uci-umetnost-razstav
 a-ilustracij-narave/
SUMMARY:Paul Veenvliet: Narava uči umetnost - razstava ilustracij narave
DESCRIPTION:\n\nIz besedila Karmen Bajec\, akad. slik. mag. um.:\n\nRazstav
 a ilustracij narave Paula Veenvlieta\n\nNarava uči umetnost\n\nPaul Veenv
 liet je nizozemski biolog. Ukvarja se s tremi različnimi poklici\, kot so
 : terenski biološki raziskovalec\, turistični vodnik – interpretator n
 arave (www.slovenia-nature-guide.si) in profesionalni ilustrator (www.paul
 veenvliet.art). Njegova dela lahko opazimo na naravoslovnih učnih poteh\,
  v učbenikih in v centrih za obiskovalce. Trenutna razstava je začetek n
 jegove poti\, ko likovna dela predstavi širši javnosti. Zase pravi\, da 
 je pomembno\, da ilustracije dosežejo večjo razpoznavnost in odmevnost s
 poročila\, ki jih nosijo\, saj je že čas\, da tudi domačini spoznajo v
 rednost neokrnjene narave\, ki v ostalih delih Evrope že izginja. Svojo r
 azstavo se je odločil odpreti v Loški dolini\, kjer trenutno živi. Najn
 ovejša dela\, ki so na ogled\, pa bo razstavljal tudi drugje po Sloveniji
 .\n\nŽe od malih nog ga izjemno zanimajo živali in narava in tudi vse\, 
 kar počne v življenju\, je s tem tesno povezano. To vključuje delo tere
 nskega biologa\, turistično vodenje\, (tako preko www.slovenia-nature-gui
 de.si kot vodnika v Ekomuzeju pri Pivki) ter nenazadnje ilustriranje. Doma
  ima veliko živali in išče priložnost\, da bi oskrbovanje živali pono
 vno postalo del njegovega poklicna vsakdana\, saj je veliko let delal v ž
 ivalskih vrtovih.\n\nKo se ozre na svoje začetke ustvarjanja\, pravi\, da
  je v osnovni šoli učitelj komentiral\, da ne more postati umetnik\, ker
  nima dovolj domišljije. Takrat je v resnici pobiral mrtve ptice s ceste\
 , da bi preučil njihovo anatomijo. Tako se je trudil\, da bi poskušal po
 drobnosti svojih risb narediti anatomsko pravilne! Čuti\, da različni u
 čitelji umetnosti nikoli niso razumeli njegove želje po pravilnem upodab
 ljanju narave\, zato mu ni preostalo drugega\, kot da se je risanja nauči
 l sam. Vendar tudi nikoli ni obupal. Sedaj je ilustriranje živali in nara
 ve postalo del njegovega poklica.\n\nPri svoji risbi porablja različne te
 hnike. Začel je kot otrok s flomastri\, nato s črno-belim rastrom s piki
 cami\, nazadnje pa je uporabljal vektorsko sliko z računalnikom. Ob velik
 o večerih je presedel pri risbah s pikicami\, kjer je razvijal svojo potr
 pežljivost in naraven čut za detajle. Pri tem mu je pomembno\, pravi\, d
 a da pridejo ljudje v stik z njegovimi deli. Paul deluje tudi na izobraže
 valnih materialih\, ki omogočajo ljudem širjenje znanja in ozaveščanja
  o naravi okrog nas. Vendar se to dotakne v večini le strokovnega občins
 tva. Varovanje okolja mu je bilo od nekdaj v poseben izziv\, v najvišje n
 ačelo\, in upa\, da se biološka raznovrstnost\, ohranitev vrst in skrb z
 a ravnanje z okoljem kdaj dotakne tudi širšega kroga ljudi\, bralca njeg
 ovih risb. Velik poudarek v življenju daje ekologiji in približevanju ra
 zličnih ekosistemov\, ki jih natančno preuči v risbi in po korakih razl
 oži njihovo delovanje.\n\nZaradi detajlnega dela ob večurnem sedenju za 
 risbo in za računalnikom si je mogoče predstavljati\, da so ilustracije 
 izdelane z veliko pozornostjo v precizne detajle. Ko človek v življenju 
 posveti toliko vdanega dela v odnos do okolja in živih stvari okoli sebe\
 , je vredno pomisliti\, da tako živi tudi človek sam s sabo\, ko jih z v
 nemo in predanostjo opazuje.\n\nKarmen Bajec\, akad. slik. mag. um.\n\n&nb
 sp\;\n\nRazstava je bila na ogled do 28. marca 2025 na Medgeneracijskem ce
 ntru Gaber pod organizacijo Javnega zavoda Snežnik.\n\nOd aprila do 4. ma
 ja 2025 v Ljubljani na Biotehniški fakulteti.\n\nOd 5. maja do konca juni
 ja v Krpanovem domu v Pivki.
ATTACH;FMTTYPE=image/jpeg:https://www.kjuc.si/wp-content/uploads/2026/01/F
 rogs-temporaria-for-announcment.jpg
CATEGORIES:Razstave
LOCATION:Knjižnica Jožeta Udoviča Cerknica\, Partizanska cesta 22\, Cerk
 nica\, Slovenia
GEO:45.795484;14.362483
X-APPLE-STRUCTURED-LOCATION;VALUE=URI;X-ADDRESS=Partizanska cesta 22\, Cerk
 nica\, Slovenia;X-APPLE-RADIUS=100;X-TITLE=Knjižnica Jožeta Udoviča Cer
 knica:geo:45.795484,14.362483
END:VEVENT
BEGIN:VTIMEZONE
TZID:Europe/Ljubljana
X-LIC-LOCATION:Europe/Ljubljana
BEGIN:STANDARD
DTSTART:20251026T020000
TZOFFSETFROM:+0200
TZOFFSETTO:+0100
TZNAME:CET
END:STANDARD
END:VTIMEZONE
END:VCALENDAR