BEGIN:VCALENDAR
VERSION:2.0
PRODID:-//wp-events-plugin.com//7.2.3.1//EN
TZID:Europe/Ljubljana
X-WR-TIMEZONE:Europe/Ljubljana
BEGIN:VEVENT
UID:2178@kjuc.si
DTSTART;TZID=Europe/Ljubljana;VALUE=DATE:20260304
DTEND;TZID=Europe/Ljubljana;VALUE=DATE:20260414
DTSTAMP:20260326T102236Z
URL:https://www.kjuc.si/dogodki/paul-veenvliet-narava-uci-umetnost/
SUMMARY:Paul Veenvliet - Narava uči umetnost
DESCRIPTION:[gallery link="file" size="full" columns="2" ids="27316"]\n\nPa
 ul Veenvliet Narava uči umetnost razstava ilustracij narave
ATTACH;FMTTYPE=image/jpeg:https://www.kjuc.si/wp-content/uploads/2026/03/P
 aul-Veenvliet-Narava-uci-umetnost-razstava-ilustracij-narave.png
CATEGORIES:Razstave
LOCATION:Enota Ivana Matičiča Rakek\, Partizanska cesta 8a\, Rakek\, Slov
 enia
GEO:45.8127;14.319238
X-APPLE-STRUCTURED-LOCATION;VALUE=URI;X-ADDRESS=Partizanska cesta 8a\, Rake
 k\, Slovenia;X-APPLE-RADIUS=100;X-TITLE=Enota Ivana Matičiča Rakek:geo:4
 5.8127,14.319238
END:VEVENT
BEGIN:VTIMEZONE
TZID:Europe/Ljubljana
X-LIC-LOCATION:Europe/Ljubljana
BEGIN:STANDARD
DTSTART:20251026T020000
TZOFFSETFROM:+0200
TZOFFSETTO:+0100
TZNAME:CET
END:STANDARD
BEGIN:DAYLIGHT
DTSTART:20260329T030000
TZOFFSETFROM:+0100
TZOFFSETTO:+0200
TZNAME:CEST
END:DAYLIGHT
END:VTIMEZONE
END:VCALENDAR