BEGIN:VCALENDAR
VERSION:2.0
PRODID:-//wp-events-plugin.com//7.2.3.1//EN
TZID:Europe/Ljubljana
X-WR-TIMEZONE:Europe/Ljubljana
BEGIN:VEVENT
UID:814@kjuc.si
DTSTART;TZID=Europe/Ljubljana;VALUE=DATE:20190225
DTEND;TZID=Europe/Ljubljana;VALUE=DATE:20190413
DTSTAMP:20250331T103246Z
URL:https://www.kjuc.si/dogodki/pedenjped-skozi-ustvarjalne-oci-otrok-iz-v
 rtca-martin-krpan-cerknica/
SUMMARY:Pedenjped skozi ustvarjalne oči otrok iz Vrtca Martin Krpan Cerkni
 ca
DESCRIPTION:\n\nPEDENJPED vabilo
ATTACH;FMTTYPE=image/jpeg:https://www.kjuc.si/wp-content/uploads/2025/03/P
 EDENJPED-vabilo-page-001.jpg
CATEGORIES:Razstave
LOCATION:Knjižnica Jožeta Udoviča Cerknica\, Partizanska cesta 22\, Cerk
 nica\, Slovenia
GEO:45.795484;14.362483
X-APPLE-STRUCTURED-LOCATION;VALUE=URI;X-ADDRESS=Partizanska cesta 22\, Cerk
 nica\, Slovenia;X-APPLE-RADIUS=100;X-TITLE=Knjižnica Jožeta Udoviča Cer
 knica:geo:45.795484,14.362483
END:VEVENT
BEGIN:VTIMEZONE
TZID:Europe/Ljubljana
X-LIC-LOCATION:Europe/Ljubljana
BEGIN:STANDARD
DTSTART:20181028T020000
TZOFFSETFROM:+0200
TZOFFSETTO:+0100
TZNAME:CET
END:STANDARD
BEGIN:DAYLIGHT
DTSTART:20190331T030000
TZOFFSETFROM:+0100
TZOFFSETTO:+0200
TZNAME:CEST
END:DAYLIGHT
END:VTIMEZONE
END:VCALENDAR