BEGIN:VCALENDAR
VERSION:2.0
PRODID:-//wp-events-plugin.com//7.2.3.1//EN
TZID:Europe/Ljubljana
X-WR-TIMEZONE:Europe/Ljubljana
BEGIN:VEVENT
UID:1413@kjuc.si
DTSTART;TZID=Europe/Ljubljana;VALUE=DATE:20230109
DTEND;TZID=Europe/Ljubljana;VALUE=DATE:20230204
DTSTAMP:20250331T104119Z
URL:https://www.kjuc.si/dogodki/pikipu-razstava-pisanih-izdelkov-iz-blaga-
 za-otroke-iz-sivalnice-petre-gostincar-2/
SUMMARY:PikiPu – razstava pisanih izdelkov iz blaga za otroke iz šivalni
 ce Petre Gostinčar
DESCRIPTION:\n\nVabilo\n\n[gallery link="none" size="full" ids="eyJ1cmwiOiJ
 odHRwczpcL1wvd3d3LmtqdWMuc2lcL3dwLWNvbnRlbnRcL3VwbG9hZHNcLzIwMjNcLzAxXC8yM
 DIzMDExMV8xNzU0MzEtZTE2NzQxMzE0MzUxODEuanBnIiwidGl0bGUiOiIyMDIzMDExMV8xNzU
 0MzEiLCJjYXB0aW9uIjoiIiwiYWx0IjoiIiwiZGVzY3JpcHRpb24iOiIifQ==\,eyJ1cmwiOiJ
 odHRwczpcL1wvd3d3LmtqdWMuc2lcL3dwLWNvbnRlbnRcL3VwbG9hZHNcLzIwMjNcLzAxXC8yM
 DIzMDExMV8xNzU0NDQuanBnIiwidGl0bGUiOiIyMDIzMDExMV8xNzU0NDQiLCJjYXB0aW9uIjo
 iIiwiYWx0IjoiIiwiZGVzY3JpcHRpb24iOiIifQ==\,eyJ1cmwiOiJodHRwczpcL1wvd3d3Lmt
 qdWMuc2lcL3dwLWNvbnRlbnRcL3VwbG9hZHNcLzIwMjNcLzAxXC8yMDIzMDExMV8xNzU1MDkua
 nBnIiwidGl0bGUiOiIyMDIzMDExMV8xNzU1MDkiLCJjYXB0aW9uIjoiIiwiYWx0IjoiIiwiZGV
 zY3JpcHRpb24iOiIifQ==\,eyJ1cmwiOiJodHRwczpcL1wvd3d3LmtqdWMuc2lcL3dwLWNvbnR
 lbnRcL3VwbG9hZHNcLzIwMjNcLzAxXC8yMDIzMDExMV8xNzU1MjEuanBnIiwidGl0bGUiOiIyM
 DIzMDExMV8xNzU1MjEiLCJjYXB0aW9uIjoiIiwiYWx0IjoiIiwiZGVzY3JpcHRpb24iOiIifQ=
 =\,eyJ1cmwiOiJodHRwczpcL1wvd3d3LmtqdWMuc2lcL3dwLWNvbnRlbnRcL3VwbG9hZHNcLzI
 wMjNcLzAxXC8yMDIzMDExMV8xNzU1MjYuanBnIiwidGl0bGUiOiIyMDIzMDExMV8xNzU1MjYiL
 CJjYXB0aW9uIjoiIiwiYWx0IjoiIiwiZGVzY3JpcHRpb24iOiIifQ=="]
ATTACH;FMTTYPE=image/jpeg:https://www.kjuc.si/wp-content/uploads/2025/03/r
 azstava-page-001-1.jpg
CATEGORIES:Razstave,Za otroke
LOCATION:Enota Ivana Matičiča Rakek\, Partizanska cesta 8a\, Rakek\, Slov
 enia
GEO:45.8127;14.319238
X-APPLE-STRUCTURED-LOCATION;VALUE=URI;X-ADDRESS=Partizanska cesta 8a\, Rake
 k\, Slovenia;X-APPLE-RADIUS=100;X-TITLE=Enota Ivana Matičiča Rakek:geo:4
 5.8127,14.319238
END:VEVENT
BEGIN:VTIMEZONE
TZID:Europe/Ljubljana
X-LIC-LOCATION:Europe/Ljubljana
BEGIN:STANDARD
DTSTART:20221030T020000
TZOFFSETFROM:+0200
TZOFFSETTO:+0100
TZNAME:CET
END:STANDARD
END:VTIMEZONE
END:VCALENDAR