BEGIN:VCALENDAR
VERSION:2.0
PRODID:-//wp-events-plugin.com//7.2.3.1//EN
TZID:Europe/Ljubljana
X-WR-TIMEZONE:Europe/Ljubljana
BEGIN:VEVENT
UID:1059@kjuc.si
DTSTART;TZID=Europe/Ljubljana:20200910T180000
DTEND;TZID=Europe/Ljubljana:20200910T180000
DTSTAMP:20250331T103604Z
URL:https://www.kjuc.si/dogodki/pogovor-z-bronjo-zakelj/
SUMMARY:Pogovor z Bronjo Žakelj
DESCRIPTION:\n\nVabilo Bronja\n\n[gallery link="file" size="medium" ids="ey
 J1cmwiOiJodHRwczpcL1wvd3d3LmtqdWMuc2lcL3dwLWNvbnRlbnRcL3VwbG9hZHNcLzIwMjBc
 LzA4XC9Ccm9uamEtWmFrZWxqLUZvdG8tVGluZS1TdWJpY18wNC5qcGciLCJ0aXRsZSI6IkJyb2
 5qYSBcdTAxN2Rha2VsaiAtIEZvdG8tVGluZSBcdTAxNjB1YmljXzA0IiwiY2FwdGlvbiI6IiIs
 ImFsdCI6IiIsImRlc2NyaXB0aW9uIjoiIn0=\,eyJ1cmwiOiJodHRwczpcL1wvd3d3LmtqdWMu
 c2lcL3dwLWNvbnRlbnRcL3VwbG9hZHNcLzIwMjBcLzA4XC9Ccm9uamEtWmFrZWxqLUZvdG8tVG
 luZS1TdWJpY18wNS5qcGciLCJ0aXRsZSI6IkJyb25qYSBcdTAxN2Rha2VsaiAtIEZvdG8tVGlu
 ZSBcdTAxNjB1YmljXzA1IiwiY2FwdGlvbiI6IiIsImFsdCI6IiIsImRlc2NyaXB0aW9uIjoiIn
 0=\,eyJ1cmwiOiJodHRwczpcL1wvd3d3LmtqdWMuc2lcL3dwLWNvbnRlbnRcL3VwbG9hZHNcLz
 IwMjBcLzA4XC9Ccm9uamEtWmFrZWxqLUZvdG8tVGluZS1TdWJpY18wNi5qcGciLCJ0aXRsZSI6
 IkJyb25qYSBcdTAxN2Rha2VsaiAtIEZvdG8tVGluZSBcdTAxNjB1YmljXzA2IiwiY2FwdGlvbi
 I6IiIsImFsdCI6IiIsImRlc2NyaXB0aW9uIjoiIn0=\,eyJ1cmwiOiJodHRwczpcL1wvd3d3Lm
 tqdWMuc2lcL3dwLWNvbnRlbnRcL3VwbG9hZHNcLzIwMjBcLzA4XC9Ccm9uamEtWmFrZWxqLUZv
 dG8tVGluZS1TdWJpY18wNy5qcGciLCJ0aXRsZSI6IkJyb25qYSBcdTAxN2Rha2VsaiAtIEZvdG
 8tVGluZSBcdTAxNjB1YmljXzA3IiwiY2FwdGlvbiI6IiIsImFsdCI6IiIsImRlc2NyaXB0aW9u
 IjoiIn0=\,eyJ1cmwiOiJodHRwczpcL1wvd3d3LmtqdWMuc2lcL3dwLWNvbnRlbnRcL3VwbG9h
 ZHNcLzIwMjBcLzA4XC9Ccm9uamEtWmFrZWxqLUZvdG8tVGluZS1TdWJpY18wOC5qcGciLCJ0aX
 RsZSI6IkJyb25qYSBcdTAxN2Rha2VsaiAtIEZvdG8tVGluZSBcdTAxNjB1YmljXzA4IiwiY2Fw
 dGlvbiI6IiIsImFsdCI6IiIsImRlc2NyaXB0aW9uIjoiIn0=\,eyJ1cmwiOiJodHRwczpcL1wv
 d3d3LmtqdWMuc2lcL3dwLWNvbnRlbnRcL3VwbG9hZHNcLzIwMjBcLzA4XC9Ccm9uamEtWmFrZW
 xqLUZvdG8tVGluZS1TdWJpY18wOS5qcGciLCJ0aXRsZSI6IkJyb25qYSBcdTAxN2Rha2VsaiAt
 IEZvdG8tVGluZSBcdTAxNjB1YmljXzA5IiwiY2FwdGlvbiI6IiIsImFsdCI6IiIsImRlc2NyaX
 B0aW9uIjoiIn0=\,eyJ1cmwiOiJodHRwczpcL1wvd3d3LmtqdWMuc2lcL3dwLWNvbnRlbnRcL3
 VwbG9hZHNcLzIwMjBcLzA4XC9Ccm9uamEtWmFrZWxqLUZvdG8tVGluZS1TdWJpY18xMC5qcGci
 LCJ0aXRsZSI6IkJyb25qYSBcdTAxN2Rha2VsaiAtIEZvdG8tVGluZSBcdTAxNjB1YmljXzEwIi
 wiY2FwdGlvbiI6IiIsImFsdCI6IiIsImRlc2NyaXB0aW9uIjoiIn0=\,eyJ1cmwiOiJodHRwcz
 pcL1wvd3d3LmtqdWMuc2lcL3dwLWNvbnRlbnRcL3VwbG9hZHNcLzIwMjBcLzA4XC9Ccm9uamEt
 WmFrZWxqLUZvdG8tVGluZS1TdWJpY18xMS5qcGciLCJ0aXRsZSI6IkJyb25qYSBcdTAxN2Rha2
 VsaiAtIEZvdG8tVGluZSBcdTAxNjB1YmljXzExIiwiY2FwdGlvbiI6IiIsImFsdCI6IiIsImRl
 c2NyaXB0aW9uIjoiIn0=\,eyJ1cmwiOiJodHRwczpcL1wvd3d3LmtqdWMuc2lcL3dwLWNvbnRl
 bnRcL3VwbG9hZHNcLzIwMjBcLzA4XC9Ccm9uamEtWmFrZWxqLUZvdG8tVGluZS1TdWJpY18xMi
 5qcGciLCJ0aXRsZSI6IkJyb25qYSBcdTAxN2Rha2VsaiAtIEZvdG8tVGluZSBcdTAxNjB1Ymlj
 XzEyIiwiY2FwdGlvbiI6IiIsImFsdCI6IiIsImRlc2NyaXB0aW9uIjoiIn0=\,eyJ1cmwiOiJo
 dHRwczpcL1wvd3d3LmtqdWMuc2lcL3dwLWNvbnRlbnRcL3VwbG9hZHNcLzIwMjBcLzA4XC9Ccm
 9uamEtWmFrZWxqLUZvdG8tVGluZS1TdWJpY18xMy5qcGciLCJ0aXRsZSI6IkJyb25qYSBcdTAx
 N2Rha2VsaiAtIEZvdG8tVGluZSBcdTAxNjB1YmljXzEzIiwiY2FwdGlvbiI6IiIsImFsdCI6Ii
 IsImRlc2NyaXB0aW9uIjoiIn0=\,eyJ1cmwiOiJodHRwczpcL1wvd3d3LmtqdWMuc2lcL3dwLW
 NvbnRlbnRcL3VwbG9hZHNcLzIwMjBcLzA4XC9Ccm9uamEtWmFrZWxqLUZvdG8tVGluZS1TdWJp
 Y18xNC5qcGciLCJ0aXRsZSI6IkJyb25qYSBcdTAxN2Rha2VsaiAtIEZvdG8tVGluZSBcdTAxNj
 B1YmljXzE0IiwiY2FwdGlvbiI6IiIsImFsdCI6IiIsImRlc2NyaXB0aW9uIjoiIn0=\,eyJ1cm
 wiOiJodHRwczpcL1wvd3d3LmtqdWMuc2lcL3dwLWNvbnRlbnRcL3VwbG9hZHNcLzIwMjBcLzA4
 XC9Ccm9uamEtWmFrZWxqLUZvdG8tVGluZS1TdWJpY18xNS5qcGciLCJ0aXRsZSI6IkJyb25qYS
 BcdTAxN2Rha2VsaiAtIEZvdG8tVGluZSBcdTAxNjB1YmljXzE1IiwiY2FwdGlvbiI6IiIsImFs
 dCI6IiIsImRlc2NyaXB0aW9uIjoiIn0=\,eyJ1cmwiOiJodHRwczpcL1wvd3d3LmtqdWMuc2lc
 L3dwLWNvbnRlbnRcL3VwbG9hZHNcLzIwMjBcLzA4XC9Ccm9uamEtWmFrZWxqLUZvdG8tVGluZS
 1TdWJpY18xNi5qcGciLCJ0aXRsZSI6IkJyb25qYSBcdTAxN2Rha2VsaiAtIEZvdG8tVGluZSBc
 dTAxNjB1YmljXzE2IiwiY2FwdGlvbiI6IiIsImFsdCI6IiIsImRlc2NyaXB0aW9uIjoiIn0=\,
 eyJ1cmwiOiJodHRwczpcL1wvd3d3LmtqdWMuc2lcL3dwLWNvbnRlbnRcL3VwbG9hZHNcLzIwMj
 BcLzA4XC9Ccm9uamEtWmFrZWxqLUZvdG8tVGluZS1TdWJpY18xOC5qcGciLCJ0aXRsZSI6IkJy
 b25qYSBcdTAxN2Rha2VsaiAtIEZvdG8tVGluZSBcdTAxNjB1YmljXzE4IiwiY2FwdGlvbiI6Ii
 IsImFsdCI6IiIsImRlc2NyaXB0aW9uIjoiIn0=\,eyJ1cmwiOiJodHRwczpcL1wvd3d3LmtqdW
 Muc2lcL3dwLWNvbnRlbnRcL3VwbG9hZHNcLzIwMjBcLzA4XC9Ccm9uamEtWmFrZWxqLUZvdG8t
 VGluZS1TdWJpY18xOS5qcGciLCJ0aXRsZSI6IkJyb25qYSBcdTAxN2Rha2VsaiAtIEZvdG8tVG
 luZSBcdTAxNjB1YmljXzE5IiwiY2FwdGlvbiI6IiIsImFsdCI6IiIsImRlc2NyaXB0aW9uIjoi
 In0=\,eyJ1cmwiOiJodHRwczpcL1wvd3d3LmtqdWMuc2lcL3dwLWNvbnRlbnRcL3VwbG9hZHNc
 LzIwMjBcLzA4XC9Ccm9uamEtWmFrZWxqLUZvdG8tVGluZS1TdWJpY18yMC5qcGciLCJ0aXRsZS
 I6IkJyb25qYSBcdTAxN2Rha2VsaiAtIEZvdG8tVGluZSBcdTAxNjB1YmljXzIwIiwiY2FwdGlv
 biI6IiIsImFsdCI6IiIsImRlc2NyaXB0aW9uIjoiIn0=\,eyJ1cmwiOiJodHRwczpcL1wvd3d3
 LmtqdWMuc2lcL3dwLWNvbnRlbnRcL3VwbG9hZHNcLzIwMjBcLzA4XC9Ccm9uamEtWmFrZWxqLU
 ZvdG8tVGluZS1TdWJpY18yMS5qcGciLCJ0aXRsZSI6IkJyb25qYSBcdTAxN2Rha2VsaiAtIEZv
 dG8tVGluZSBcdTAxNjB1YmljXzIxIiwiY2FwdGlvbiI6IiIsImFsdCI6IiIsImRlc2NyaXB0aW
 9uIjoiIn0=\,eyJ1cmwiOiJodHRwczpcL1wvd3d3LmtqdWMuc2lcL3dwLWNvbnRlbnRcL3VwbG
 9hZHNcLzIwMjBcLzA4XC9Ccm9uamEtWmFrZWxqLUZvdG8tVGluZS1TdWJpY18yNS5qcGciLCJ0
 aXRsZSI6IkJyb25qYSBcdTAxN2Rha2VsaiAtIEZvdG8tVGluZSBcdTAxNjB1YmljXzI1IiwiY2
 FwdGlvbiI6IiIsImFsdCI6IiIsImRlc2NyaXB0aW9uIjoiIn0=\,eyJ1cmwiOiJodHRwczpcL1
 wvd3d3LmtqdWMuc2lcL3dwLWNvbnRlbnRcL3VwbG9hZHNcLzIwMjBcLzA4XC9Ccm9uamEtWmFr
 ZWxqLUZvdG8tVGluZS1TdWJpY18xNy5qcGciLCJ0aXRsZSI6IkJyb25qYSBcdTAxN2Rha2Vsai
 AtIEZvdG8tVGluZSBcdTAxNjB1YmljXzE3IiwiY2FwdGlvbiI6IiIsImFsdCI6IiIsImRlc2Ny
 aXB0aW9uIjoiIn0=\,eyJ1cmwiOiJodHRwczpcL1wvd3d3LmtqdWMuc2lcL3dwLWNvbnRlbnRc
 L3VwbG9hZHNcLzIwMjBcLzA4XC9Ccm9uamEtWmFrZWxqLUZvdG8tVGluZS1TdWJpY18yMy5qcG
 ciLCJ0aXRsZSI6IkJyb25qYSBcdTAxN2Rha2VsaiAtIEZvdG8tVGluZSBcdTAxNjB1YmljXzIz
 IiwiY2FwdGlvbiI6IiIsImFsdCI6IiIsImRlc2NyaXB0aW9uIjoiIn0=\,eyJ1cmwiOiJodHRw
 czpcL1wvd3d3LmtqdWMuc2lcL3dwLWNvbnRlbnRcL3VwbG9hZHNcLzIwMjBcLzA4XC9Ccm9uam
 EtWmFrZWxqLUZvdG8tVGluZS1TdWJpY18wMy5qcGciLCJ0aXRsZSI6IkJyb25qYSBcdTAxN2Rh
 a2VsaiAtIEZvdG8tVGluZSBcdTAxNjB1YmljXzAzIiwiY2FwdGlvbiI6IiIsImFsdCI6IiIsIm
 Rlc2NyaXB0aW9uIjoiIn0=\,eyJ1cmwiOiJodHRwczpcL1wvd3d3LmtqdWMuc2lcL3dwLWNvbn
 RlbnRcL3VwbG9hZHNcLzIwMjBcLzA4XC9Ccm9uamEtWmFrZWxqLUZvdG8tVGluZS1TdWJpY18w
 Mi5qcGciLCJ0aXRsZSI6IkJyb25qYSBcdTAxN2Rha2VsaiAtIEZvdG8tVGluZSBcdTAxNjB1Ym
 ljXzAyIiwiY2FwdGlvbiI6IiIsImFsdCI6IiIsImRlc2NyaXB0aW9uIjoiIn0=\,eyJ1cmwiOi
 JodHRwczpcL1wvd3d3LmtqdWMuc2lcL3dwLWNvbnRlbnRcL3VwbG9hZHNcLzIwMjBcLzA4XC9C
 cm9uamEtWmFrZWxqLUZvdG8tVGluZS1TdWJpY18yNC5qcGciLCJ0aXRsZSI6IkJyb25qYSBcdT
 AxN2Rha2VsaiAtIEZvdG8tVGluZSBcdTAxNjB1YmljXzI0IiwiY2FwdGlvbiI6IiIsImFsdCI6
 IiIsImRlc2NyaXB0aW9uIjoiIn0=\,eyJ1cmwiOiJodHRwczpcL1wvd3d3LmtqdWMuc2lcL3dw
 LWNvbnRlbnRcL3VwbG9hZHNcLzIwMjBcLzA4XC9Ccm9uamEtWmFrZWxqLUZvdG8tVGluZS1TdW
 JpY18wMS5qcGciLCJ0aXRsZSI6IkJyb25qYSBcdTAxN2Rha2VsaiAtIEZvdG8tVGluZSBcdTAx
 NjB1YmljXzAxIiwiY2FwdGlvbiI6IiIsImFsdCI6IiIsImRlc2NyaXB0aW9uIjoiIn0="]\n\n
 &nbsp\;
ATTACH;FMTTYPE=image/jpeg:https://www.kjuc.si/wp-content/uploads/2025/03/v
 abilo-bronja.jpg
CATEGORIES:Predstavitve,Prireditev
LOCATION:Kulturni dom Cerknica\, Cesta 4. maja 63\, Cerknica\, Slovenia
GEO:45.794004;14.361466
X-APPLE-STRUCTURED-LOCATION;VALUE=URI;X-ADDRESS=Cesta 4. maja 63\, Cerknica
 \, Slovenia;X-APPLE-RADIUS=100;X-TITLE=Kulturni dom Cerknica:geo:45.794004
 ,14.361466
END:VEVENT
BEGIN:VTIMEZONE
TZID:Europe/Ljubljana
X-LIC-LOCATION:Europe/Ljubljana
BEGIN:DAYLIGHT
DTSTART:20200329T030000
TZOFFSETFROM:+0100
TZOFFSETTO:+0200
TZNAME:CEST
END:DAYLIGHT
END:VTIMEZONE
END:VCALENDAR