BEGIN:VCALENDAR
VERSION:2.0
PRODID:-//wp-events-plugin.com//7.2.3.1//EN
TZID:Europe/Ljubljana
X-WR-TIMEZONE:Europe/Ljubljana
BEGIN:VEVENT
UID:1758@kjuc.si
DTSTART;TZID=Europe/Ljubljana;VALUE=DATE:20240610
DTEND;TZID=Europe/Ljubljana;VALUE=DATE:20240911
DTSTAMP:20250331T104607Z
URL:https://www.kjuc.si/dogodki/poletavci-in-najpoletavci-4/
SUMMARY:Poletavci in NajPoletavci
DESCRIPTION:Poletavci in NajPoletavci\n\nDobi super navado in super nagrado
 : branje\, priznanje in majico ter sodeluj v nagradnem žrebanju za glavno
  nagrado. Pridruži se Poletavcem – poletnim bralcem ali Najpoletavcem i
 n preživi počitnice v družbi svojih najljubših knjig\, revij\, časopi
 sov …\n\n\nPoletavci ste v naši knjižnici (z enotami) vsi bralci stari
  od 7. do 12. let.\nMed poletnimi počitnicami izberi 30 dni in beri 30 mi
 nut na dan. Prebrano zapisuj v bralni seznam\, ki ga dobiš v knjižnici a
 li si ga natisneš\, odrasli pa naj s podpisom potrdijo\, da si res bral(-
 a).\n\n\n\n\nNajPoletavci pa ste vsi od 13. do 16. let.\nMed poletnimi po
 čitnicami preberi 3 knjige in njihove naslove ter avtorje na priloženem 
 obrazcu skupaj s svojimi podatki pošlji ali oddaj v knjižnici.&nbsp\;Tu 
 pa natisneš obrazec za NajPoletavce:\n\n\n\nPoletavsko priznanje boste la
 hko v prihodnjem šolskem letu “vnovčili” kot eno prebrano knjigo bra
 lne značke.\n\nIzpolnjeni bralni seznam najkasneje do 10. septembra oddaj
  v knjižnici ali pošlji na naslov:\nKnjižnica Jožeta Udoviča Cerknica
 \nPartizanska cesta 22\n1380 Cerknica\nali\nmladinski@kjuc.si\n\nVeč o Po
 letavcih https://www.poletavci.si/\nVeč o NajPoletavcih:https://najpoleta
 vci.si/\n\n\n
ATTACH;FMTTYPE=image/jpeg:https://www.kjuc.si/wp-content/uploads/2025/03/I
 zpolnjen-obrazec-oddaj-v-knjiznici-ali-poslji-po-posti-page-001-212x300-1.
 jpg
CATEGORIES:Prireditev,Razno,Za otroke
LOCATION:Knjižnica Jožeta Udoviča Cerknica\, Partizanska cesta 22\, Cerk
 nica\, Slovenia
GEO:45.795484;14.362483
X-APPLE-STRUCTURED-LOCATION;VALUE=URI;X-ADDRESS=Partizanska cesta 22\, Cerk
 nica\, Slovenia;X-APPLE-RADIUS=100;X-TITLE=Knjižnica Jožeta Udoviča Cer
 knica:geo:45.795484,14.362483
END:VEVENT
BEGIN:VTIMEZONE
TZID:Europe/Ljubljana
X-LIC-LOCATION:Europe/Ljubljana
BEGIN:DAYLIGHT
DTSTART:20240331T030000
TZOFFSETFROM:+0100
TZOFFSETTO:+0200
TZNAME:CEST
END:DAYLIGHT
END:VTIMEZONE
END:VCALENDAR