BEGIN:VCALENDAR
VERSION:2.0
PRODID:-//wp-events-plugin.com//7.2.3.1//EN
TZID:Europe/Ljubljana
X-WR-TIMEZONE:Europe/Ljubljana
BEGIN:VEVENT
UID:1376@kjuc.si
DTSTART;TZID=Europe/Ljubljana;VALUE=DATE:20221027
DTEND;TZID=Europe/Ljubljana;VALUE=DATE:20221129
DTSTAMP:20250331T104054Z
URL:https://www.kjuc.si/dogodki/poletje-v-cipkah-razstava-klekljanih-cipk-
 klekljarska-sekcija-kd-rak-rakek-3/
SUMMARY:Poletje v čipkah -razstava klekljanih čipk Klekljarska sekcija KD
  Rak Rakek
DESCRIPTION:\n\nČipke. Stari trg.okt2022
ATTACH;FMTTYPE=image/jpeg:https://www.kjuc.si/wp-content/uploads/2025/03/C
 ipke.-Stari-trg.okt2022-page-001.jpg
CATEGORIES:Razno,Razstave
LOCATION:Enota Maričke Žnidaršič Stari trg\, Cesta Notranjskega odreda 
 32\, Stari trg pri Ložu\, Slovenia
GEO:45.712702;14.472784
X-APPLE-STRUCTURED-LOCATION;VALUE=URI;X-ADDRESS=Cesta Notranjskega odreda 3
 2\, Stari trg pri Ložu\, Slovenia;X-APPLE-RADIUS=100;X-TITLE=Enota Marič
 ke Žnidaršič Stari trg:geo:45.712702,14.472784
END:VEVENT
BEGIN:VTIMEZONE
TZID:Europe/Ljubljana
X-LIC-LOCATION:Europe/Ljubljana
BEGIN:DAYLIGHT
DTSTART:20220327T030000
TZOFFSETFROM:+0100
TZOFFSETTO:+0200
TZNAME:CEST
END:DAYLIGHT
BEGIN:STANDARD
DTSTART:20221030T020000
TZOFFSETFROM:+0200
TZOFFSETTO:+0100
TZNAME:CET
END:STANDARD
END:VTIMEZONE
END:VCALENDAR