BEGIN:VCALENDAR
VERSION:2.0
PRODID:-//wp-events-plugin.com//7.2.3.1//EN
TZID:Europe/Ljubljana
X-WR-TIMEZONE:Europe/Ljubljana
BEGIN:VEVENT
UID:1992@kjuc.si
DTSTART;TZID=Europe/Ljubljana;VALUE=DATE:20250503
DTEND;TZID=Europe/Ljubljana;VALUE=DATE:20250701
DTSTAMP:20250602T124432Z
URL:https://www.kjuc.si/dogodki/polona-skodic-moji-planeti-razstava-miniat
 ur/
SUMMARY:Polona Škodič: Moji planeti - razstava miniatur
DESCRIPTION:\n\nPolona Škodič je umetnostni zgodovini in likovni umetnost
 i predana poklicno\, v zadnjem obdobju pa slednji tudi ljubiteljsko kreati
 vno. V prostem času namreč že kašnih 15 let ustvarja miniature\, v kat
 erih združuje različne likovne tehnike in sloge\, takole »za dušo in p
 rijatelje«\, kot pravi. Poimenovala jih je Moji planeti in skoznje izraž
 a svoja razmišljanja\, občutja\, videnja sveta\, doživetja in tudi žel
 jo po likovni igri in estetskem skladju. Različne mešane tehnike pa ji o
 mogočajo slikovitost in barvitost\, kar vse ujame v svoje krožne oblike.
 \n\nPrvo samostojno razstavo je imela pred enajstimi leti v Mestni knjižn
 ici Postojna\, za tem je svoja dela predstavila na nekaj priložnostnih ra
 zstavah v domačem kulturnem prostoru in v Ljubljani\, zadnji dve leti pa 
 tudi kot članica na skupinskih razstavah likovne skupine Okra iz Postojne
 .\n\nPolona Škodič Moji planeti razstava miniatur 3. junij – 30. junij
  2025
ATTACH;FMTTYPE=image/jpeg:https://www.kjuc.si/wp-content/uploads/2025/06/2
 0230824_172942.jpg
CATEGORIES:Razstave
LOCATION:Knjižnica Jožeta Udoviča Cerknica\, Partizanska cesta 22\, Cerk
 nica\, Slovenia
GEO:45.795484;14.362483
X-APPLE-STRUCTURED-LOCATION;VALUE=URI;X-ADDRESS=Partizanska cesta 22\, Cerk
 nica\, Slovenia;X-APPLE-RADIUS=100;X-TITLE=Knjižnica Jožeta Udoviča Cer
 knica:geo:45.795484,14.362483
END:VEVENT
BEGIN:VTIMEZONE
TZID:Europe/Ljubljana
X-LIC-LOCATION:Europe/Ljubljana
BEGIN:DAYLIGHT
DTSTART:20250330T030000
TZOFFSETFROM:+0100
TZOFFSETTO:+0200
TZNAME:CEST
END:DAYLIGHT
END:VTIMEZONE
END:VCALENDAR