BEGIN:VCALENDAR
VERSION:2.0
PRODID:-//wp-events-plugin.com//7.2.3.1//EN
TZID:Europe/Ljubljana
X-WR-TIMEZONE:Europe/Ljubljana
BEGIN:VEVENT
UID:415@kjuc.si
DTSTART;TZID=Europe/Ljubljana:20170316T170000
DTEND;TZID=Europe/Ljubljana:20170316T180000
DTSTAMP:20250331T100744Z
URL:https://www.kjuc.si/dogodki/pomladna-pravljicna-urica-z-ustvarjalno-de
 lavnico-za-otroke-od-4-leta-dalje/
SUMMARY:Pomladna pravljična urica z ustvarjalno delavnico za otroke od 4. 
 leta dalje
DESCRIPTION:\n\nVabilo\n\n[gallery link="file" columns="5" size="medium" id
 s="eyJ1cmwiOiJodHRwczpcL1wvd3d3LmtqdWMuc2lcL3dwLWNvbnRlbnRcL3VwbG9hZHNcLzI
 wMTdcLzAzXC9QMzE2MDA5NS5qcGciLCJ0aXRsZSI6IlAzMTYwMDk1IiwiY2FwdGlvbiI6IiIsI
 mFsdCI6IiIsImRlc2NyaXB0aW9uIjoiIn0=\,eyJ1cmwiOiJodHRwczpcL1wvd3d3LmtqdWMuc
 2lcL3dwLWNvbnRlbnRcL3VwbG9hZHNcLzIwMTdcLzAzXC9QMzE2MDA5Ni5qcGciLCJ0aXRsZSI
 6IlAzMTYwMDk2IiwiY2FwdGlvbiI6IiIsImFsdCI6IiIsImRlc2NyaXB0aW9uIjoiIn0=\,eyJ
 1cmwiOiJodHRwczpcL1wvd3d3LmtqdWMuc2lcL3dwLWNvbnRlbnRcL3VwbG9hZHNcLzIwMTdcL
 zAzXC9QMzE2MDA5Ny5qcGciLCJ0aXRsZSI6IlAzMTYwMDk3IiwiY2FwdGlvbiI6IiIsImFsdCI
 6IiIsImRlc2NyaXB0aW9uIjoiIn0=\,eyJ1cmwiOiJodHRwczpcL1wvd3d3LmtqdWMuc2lcL3d
 wLWNvbnRlbnRcL3VwbG9hZHNcLzIwMTdcLzAzXC9QMzE2MDA5OC5qcGciLCJ0aXRsZSI6IlAzM
 TYwMDk4IiwiY2FwdGlvbiI6IiIsImFsdCI6IiIsImRlc2NyaXB0aW9uIjoiIn0=\,eyJ1cmwiO
 iJodHRwczpcL1wvd3d3LmtqdWMuc2lcL3dwLWNvbnRlbnRcL3VwbG9hZHNcLzIwMTdcLzAzXC9
 QMzE2MDEwMC5qcGciLCJ0aXRsZSI6IlAzMTYwMTAwIiwiY2FwdGlvbiI6IiIsImFsdCI6IiIsI
 mRlc2NyaXB0aW9uIjoiIn0=\,eyJ1cmwiOiJodHRwczpcL1wvd3d3LmtqdWMuc2lcL3dwLWNvb
 nRlbnRcL3VwbG9hZHNcLzIwMTdcLzAzXC9QMzE2MDEwMS5qcGciLCJ0aXRsZSI6IlAzMTYwMTA
 xIiwiY2FwdGlvbiI6IiIsImFsdCI6IiIsImRlc2NyaXB0aW9uIjoiIn0=\,eyJ1cmwiOiJodHR
 wczpcL1wvd3d3LmtqdWMuc2lcL3dwLWNvbnRlbnRcL3VwbG9hZHNcLzIwMTdcLzAzXC9QMzE2M
 DEwMi5qcGciLCJ0aXRsZSI6IlAzMTYwMTAyIiwiY2FwdGlvbiI6IiIsImFsdCI6IiIsImRlc2N
 yaXB0aW9uIjoiIn0=\,eyJ1cmwiOiJodHRwczpcL1wvd3d3LmtqdWMuc2lcL3dwLWNvbnRlbnR
 cL3VwbG9hZHNcLzIwMTdcLzAzXC9QMzE2MDEwMy5qcGciLCJ0aXRsZSI6IlAzMTYwMTAzIiwiY
 2FwdGlvbiI6IiIsImFsdCI6IiIsImRlc2NyaXB0aW9uIjoiIn0=\,eyJ1cmwiOiJodHRwczpcL
 1wvd3d3LmtqdWMuc2lcL3dwLWNvbnRlbnRcL3VwbG9hZHNcLzIwMTdcLzAzXC9QMzE2MDEwNC5
 qcGciLCJ0aXRsZSI6IlAzMTYwMTA0IiwiY2FwdGlvbiI6IiIsImFsdCI6IiIsImRlc2NyaXB0a
 W9uIjoiIn0=\,eyJ1cmwiOiJodHRwczpcL1wvd3d3LmtqdWMuc2lcL3dwLWNvbnRlbnRcL3Vwb
 G9hZHNcLzIwMTdcLzAzXC9QMzE2MDEwNS5qcGciLCJ0aXRsZSI6IlAzMTYwMTA1IiwiY2FwdGl
 vbiI6IiIsImFsdCI6IiIsImRlc2NyaXB0aW9uIjoiIn0=\,eyJ1cmwiOiJodHRwczpcL1wvd3d
 3LmtqdWMuc2lcL3dwLWNvbnRlbnRcL3VwbG9hZHNcLzIwMTdcLzAzXC9QMzE2MDEwNi5qcGciL
 CJ0aXRsZSI6IlAzMTYwMTA2IiwiY2FwdGlvbiI6IiIsImFsdCI6IiIsImRlc2NyaXB0aW9uIjo
 iIn0=\,eyJ1cmwiOiJodHRwczpcL1wvd3d3LmtqdWMuc2lcL3dwLWNvbnRlbnRcL3VwbG9hZHN
 cLzIwMTdcLzAzXC9QMzE2MDEwOC5qcGciLCJ0aXRsZSI6IlAzMTYwMTA4IiwiY2FwdGlvbiI6I
 iIsImFsdCI6IiIsImRlc2NyaXB0aW9uIjoiIn0=\,eyJ1cmwiOiJodHRwczpcL1wvd3d3Lmtqd
 WMuc2lcL3dwLWNvbnRlbnRcL3VwbG9hZHNcLzIwMTdcLzAzXC9QMzE2MDEwOS5qcGciLCJ0aXR
 sZSI6IlAzMTYwMTA5IiwiY2FwdGlvbiI6IiIsImFsdCI6IiIsImRlc2NyaXB0aW9uIjoiIn0=\
 ,eyJ1cmwiOiJodHRwczpcL1wvd3d3LmtqdWMuc2lcL3dwLWNvbnRlbnRcL3VwbG9hZHNcLzIwM
 TdcLzAzXC9QMzE2MDExMC5qcGciLCJ0aXRsZSI6IlAzMTYwMTEwIiwiY2FwdGlvbiI6IiIsImF
 sdCI6IiIsImRlc2NyaXB0aW9uIjoiIn0=\,eyJ1cmwiOiJodHRwczpcL1wvd3d3LmtqdWMuc2l
 cL3dwLWNvbnRlbnRcL3VwbG9hZHNcLzIwMTdcLzAzXC9QMzE2MDExMS5qcGciLCJ0aXRsZSI6I
 lAzMTYwMTExIiwiY2FwdGlvbiI6IiIsImFsdCI6IiIsImRlc2NyaXB0aW9uIjoiIn0=\,eyJ1c
 mwiOiJodHRwczpcL1wvd3d3LmtqdWMuc2lcL3dwLWNvbnRlbnRcL3VwbG9hZHNcLzIwMTdcLzA
 zXC9QMzE2MDExMi5qcGciLCJ0aXRsZSI6IlAzMTYwMTEyIiwiY2FwdGlvbiI6IiIsImFsdCI6I
 iIsImRlc2NyaXB0aW9uIjoiIn0=\,eyJ1cmwiOiJodHRwczpcL1wvd3d3LmtqdWMuc2lcL3dwL
 WNvbnRlbnRcL3VwbG9hZHNcLzIwMTdcLzAzXC9QMzE2MDExMy5qcGciLCJ0aXRsZSI6IlAzMTY
 wMTEzIiwiY2FwdGlvbiI6IiIsImFsdCI6IiIsImRlc2NyaXB0aW9uIjoiIn0=\,eyJ1cmwiOiJ
 odHRwczpcL1wvd3d3LmtqdWMuc2lcL3dwLWNvbnRlbnRcL3VwbG9hZHNcLzIwMTdcLzAzXC9QM
 zE2MDExNC5qcGciLCJ0aXRsZSI6IlAzMTYwMTE0IiwiY2FwdGlvbiI6IiIsImFsdCI6IiIsImR
 lc2NyaXB0aW9uIjoiIn0=\,eyJ1cmwiOiJodHRwczpcL1wvd3d3LmtqdWMuc2lcL3dwLWNvbnR
 lbnRcL3VwbG9hZHNcLzIwMTdcLzAzXC9QMzE2MDExNS5qcGciLCJ0aXRsZSI6IlAzMTYwMTE1I
 iwiY2FwdGlvbiI6IiIsImFsdCI6IiIsImRlc2NyaXB0aW9uIjoiIn0=\,eyJ1cmwiOiJodHRwc
 zpcL1wvd3d3LmtqdWMuc2lcL3dwLWNvbnRlbnRcL3VwbG9hZHNcLzIwMTdcLzAzXC9QMzE2MDE
 xNi5qcGciLCJ0aXRsZSI6IlAzMTYwMTE2IiwiY2FwdGlvbiI6IiIsImFsdCI6IiIsImRlc2Nya
 XB0aW9uIjoiIn0=\,eyJ1cmwiOiJodHRwczpcL1wvd3d3LmtqdWMuc2lcL3dwLWNvbnRlbnRcL
 3VwbG9hZHNcLzIwMTdcLzAzXC9QMzE2MDExNy5qcGciLCJ0aXRsZSI6IlAzMTYwMTE3IiwiY2F
 wdGlvbiI6IiIsImFsdCI6IiIsImRlc2NyaXB0aW9uIjoiIn0="]
ATTACH;FMTTYPE=image/jpeg:https://www.kjuc.si/wp-content/uploads/2025/03/p
 omladna.jpg
CATEGORIES:Za otroke
LOCATION:Knjižnica Jožeta Udoviča Cerknica\, Partizanska cesta 22\, Cerk
 nica\, Slovenia
GEO:45.795484;14.362483
X-APPLE-STRUCTURED-LOCATION;VALUE=URI;X-ADDRESS=Partizanska cesta 22\, Cerk
 nica\, Slovenia;X-APPLE-RADIUS=100;X-TITLE=Knjižnica Jožeta Udoviča Cer
 knica:geo:45.795484,14.362483
END:VEVENT
BEGIN:VTIMEZONE
TZID:Europe/Ljubljana
X-LIC-LOCATION:Europe/Ljubljana
BEGIN:STANDARD
DTSTART:20161030T020000
TZOFFSETFROM:+0200
TZOFFSETTO:+0100
TZNAME:CET
END:STANDARD
END:VTIMEZONE
END:VCALENDAR