BEGIN:VCALENDAR
VERSION:2.0
PRODID:-//wp-events-plugin.com//7.2.3.1//EN
TZID:Europe/Ljubljana
X-WR-TIMEZONE:Europe/Ljubljana
BEGIN:VEVENT
UID:1504@kjuc.si
DTSTART;TZID=Europe/Ljubljana;VALUE=DATE:20230511
DTEND;TZID=Europe/Ljubljana;VALUE=DATE:20230610
DTSTAMP:20250331T104244Z
URL:https://www.kjuc.si/dogodki/pot-pot-noge-in-smo-sli-rakek-skozi-otrosk
 e-oci/
SUMMARY:Pot pot noge in smo šli - Rakek skozi otroške oči
DESCRIPTION:\n\nvrtec_vabilo\n\n[gallery link="none" size="full" ids="eyJ1c
 mwiOiJodHRwczpcL1wvd3d3LmtqdWMuc2lcL3dwLWNvbnRlbnRcL3VwbG9hZHNcLzIwMjNcLzA
 1XC8yMDIzMDUxMF8xODUzNDAuanBnIiwidGl0bGUiOiIyMDIzMDUxMF8xODUzNDAiLCJjYXB0a
 W9uIjoiIiwiYWx0IjoiIiwiZGVzY3JpcHRpb24iOiIifQ==\,eyJ1cmwiOiJodHRwczpcL1wvd
 3d3LmtqdWMuc2lcL3dwLWNvbnRlbnRcL3VwbG9hZHNcLzIwMjNcLzA1XC8yMDIzMDUxMF8xODU
 1MTYtMS5qcGciLCJ0aXRsZSI6IjIwMjMwNTEwXzE4NTUxNiIsImNhcHRpb24iOiIiLCJhbHQiO
 iIiLCJkZXNjcmlwdGlvbiI6IiJ9\,eyJ1cmwiOiJodHRwczpcL1wvd3d3LmtqdWMuc2lcL3dwL
 WNvbnRlbnRcL3VwbG9hZHNcLzIwMjNcLzA1XC8yMDIzMDUxMF8xOTAxNDYuanBnIiwidGl0bGU
 iOiIyMDIzMDUxMF8xOTAxNDYiLCJjYXB0aW9uIjoiIiwiYWx0IjoiIiwiZGVzY3JpcHRpb24iO
 iIifQ==\,eyJ1cmwiOiJodHRwczpcL1wvd3d3LmtqdWMuc2lcL3dwLWNvbnRlbnRcL3VwbG9hZ
 HNcLzIwMjNcLzA1XC8yMDIzMDUxMF8xOTAyMDYuanBnIiwidGl0bGUiOiIyMDIzMDUxMF8xOTA
 yMDYiLCJjYXB0aW9uIjoiIiwiYWx0IjoiIiwiZGVzY3JpcHRpb24iOiIifQ==\,eyJ1cmwiOiJ
 odHRwczpcL1wvd3d3LmtqdWMuc2lcL3dwLWNvbnRlbnRcL3VwbG9hZHNcLzIwMjNcLzA1XC8yM
 DIzMDUxMF8xODUzMTkuanBnIiwidGl0bGUiOiIyMDIzMDUxMF8xODUzMTkiLCJjYXB0aW9uIjo
 iIiwiYWx0IjoiIiwiZGVzY3JpcHRpb24iOiIifQ=="]
ATTACH;FMTTYPE=image/jpeg:https://www.kjuc.si/wp-content/uploads/2025/03/v
 rtec_vabilo-page-001.jpg
CATEGORIES:Razstave
LOCATION:Enota Ivana Matičiča Rakek\, Partizanska cesta 8a\, Rakek\, Slov
 enia
GEO:45.8127;14.319238
X-APPLE-STRUCTURED-LOCATION;VALUE=URI;X-ADDRESS=Partizanska cesta 8a\, Rake
 k\, Slovenia;X-APPLE-RADIUS=100;X-TITLE=Enota Ivana Matičiča Rakek:geo:4
 5.8127,14.319238
END:VEVENT
BEGIN:VTIMEZONE
TZID:Europe/Ljubljana
X-LIC-LOCATION:Europe/Ljubljana
BEGIN:DAYLIGHT
DTSTART:20230326T030000
TZOFFSETFROM:+0100
TZOFFSETTO:+0200
TZNAME:CEST
END:DAYLIGHT
END:VTIMEZONE
END:VCALENDAR