BEGIN:VCALENDAR
VERSION:2.0
PRODID:-//wp-events-plugin.com//7.2.3.1//EN
TZID:Europe/Ljubljana
X-WR-TIMEZONE:Europe/Ljubljana
BEGIN:VEVENT
UID:294@kjuc.si
DTSTART;TZID=Europe/Ljubljana:20160921T170000
DTEND;TZID=Europe/Ljubljana:20160921T180000
DTSTAMP:20250331T100103Z
URL:https://www.kjuc.si/dogodki/pravljicna-ura-in-ustvarjalna-delavnica-za
 -otroke-od-4-leta-dalje-16/
SUMMARY:Pravljična ura in ustvarjalna delavnica za otroke od 4. leta dalje
DESCRIPTION:Prosimo\, da otroka prijavite na tel. št. 01 7098029 (Nova vas
 ) ali 01 7091078 (Cerknica).\n\nVabilo\n\n[gallery link="file" size="mediu
 m" ids="eyJ1cmwiOiJodHRwczpcL1wvd3d3LmtqdWMuc2lcL3dwLWNvbnRlbnRcL3VwbG9hZH
 NcLzIwMTZcLzA5XC8yMDE2MDkyMV8xNzQyNDIuanBnIiwidGl0bGUiOiIyMDE2MDkyMV8xNzQy
 NDIiLCJjYXB0aW9uIjoiIiwiYWx0IjoiIiwiZGVzY3JpcHRpb24iOiIifQ==\,eyJ1cmwiOiJo
 dHRwczpcL1wvd3d3LmtqdWMuc2lcL3dwLWNvbnRlbnRcL3VwbG9hZHNcLzIwMTZcLzA5XC8yMD
 E2MDkyMV8xNzQyMzUuanBnIiwidGl0bGUiOiIyMDE2MDkyMV8xNzQyMzUiLCJjYXB0aW9uIjoi
 IiwiYWx0IjoiIiwiZGVzY3JpcHRpb24iOiIifQ==\,eyJ1cmwiOiJodHRwczpcL1wvd3d3Lmtq
 dWMuc2lcL3dwLWNvbnRlbnRcL3VwbG9hZHNcLzIwMTZcLzA5XC8yMDE2MDkyMV8xNzQxMDguan
 BnIiwidGl0bGUiOiIyMDE2MDkyMV8xNzQxMDgiLCJjYXB0aW9uIjoiIiwiYWx0IjoiIiwiZGVz
 Y3JpcHRpb24iOiIifQ==\,eyJ1cmwiOiJodHRwczpcL1wvd3d3LmtqdWMuc2lcL3dwLWNvbnRl
 bnRcL3VwbG9hZHNcLzIwMTZcLzA5XC8yMDE2MDkyMV8xNzQwNTcuanBnIiwidGl0bGUiOiIyMD
 E2MDkyMV8xNzQwNTciLCJjYXB0aW9uIjoiIiwiYWx0IjoiIiwiZGVzY3JpcHRpb24iOiIifQ==
 \,eyJ1cmwiOiJodHRwczpcL1wvd3d3LmtqdWMuc2lcL3dwLWNvbnRlbnRcL3VwbG9hZHNcLzIw
 MTZcLzA5XC8yMDE2MDkyMV8xNzM5MzAuanBnIiwidGl0bGUiOiIyMDE2MDkyMV8xNzM5MzAiLC
 JjYXB0aW9uIjoiIiwiYWx0IjoiIiwiZGVzY3JpcHRpb24iOiIifQ==\,eyJ1cmwiOiJodHRwcz
 pcL1wvd3d3LmtqdWMuc2lcL3dwLWNvbnRlbnRcL3VwbG9hZHNcLzIwMTZcLzA5XC8yMDE2MDky
 MV8xNzM5MjUuanBnIiwidGl0bGUiOiIyMDE2MDkyMV8xNzM5MjUiLCJjYXB0aW9uIjoiIiwiYW
 x0IjoiIiwiZGVzY3JpcHRpb24iOiIifQ==\,eyJ1cmwiOiJodHRwczpcL1wvd3d3LmtqdWMuc2
 lcL3dwLWNvbnRlbnRcL3VwbG9hZHNcLzIwMTZcLzA5XC8yMDE2MDkyMV8xNzE4MDYuanBnIiwi
 dGl0bGUiOiIyMDE2MDkyMV8xNzE4MDYiLCJjYXB0aW9uIjoiIiwiYWx0IjoiIiwiZGVzY3JpcH
 Rpb24iOiIifQ=="]\n\n&nbsp\;\n\n&nbsp\;
ATTACH;FMTTYPE=image/jpeg:https://www.kjuc.si/wp-content/uploads/2025/03/p
 ravljicna-sep-16-nv-2.jpg
CATEGORIES:Prireditev,Za otroke
LOCATION:Enota Ivana Čampa Nova vas\, Nova vas 4a\, Nova vas\, Slovenia
GEO:45.363149;13.640599
X-APPLE-STRUCTURED-LOCATION;VALUE=URI;X-ADDRESS=Nova vas 4a\, Nova vas\, Sl
 ovenia;X-APPLE-RADIUS=100;X-TITLE=Enota Ivana Čampa Nova vas:geo:45.36314
 9,13.640599
END:VEVENT
BEGIN:VTIMEZONE
TZID:Europe/Ljubljana
X-LIC-LOCATION:Europe/Ljubljana
BEGIN:DAYLIGHT
DTSTART:20160327T030000
TZOFFSETFROM:+0100
TZOFFSETTO:+0200
TZNAME:CEST
END:DAYLIGHT
END:VTIMEZONE
END:VCALENDAR