BEGIN:VCALENDAR
VERSION:2.0
PRODID:-//wp-events-plugin.com//7.2.3.1//EN
TZID:Europe/Ljubljana
X-WR-TIMEZONE:Europe/Ljubljana
BEGIN:VEVENT
UID:55@kjuc.si
DTSTART;TZID=Europe/Ljubljana:20150318T170000
DTEND;TZID=Europe/Ljubljana:20150318T180000
DTSTAMP:20250331T094646Z
URL:https://www.kjuc.si/dogodki/pravljicna-ura-in-ustvarjalna-delavnica-za
 -otroke-od-4-leta-dalje-3/
SUMMARY:Pravljična ura in ustvarjalna delavnica za otroke od 4. leta dalje
DESCRIPTION:\n\nProsimo\, da otroka prijavite na tel. št. 01 7098029 (Nova
  vas) ali 01 7091078 (Cerknica).\n\n[gallery ids="eyJ1cmwiOiJodHRwczpcL1wv
 d3d3LmtqdWMuc2lcL3dwLWNvbnRlbnRcL3VwbG9hZHNcLzIwMTVcLzA2XC84MzFfMi5qcGciLC
 J0aXRsZSI6IjgzMV8yIiwiY2FwdGlvbiI6IiIsImFsdCI6IiIsImRlc2NyaXB0aW9uIjoiIn0=
 \,eyJ1cmwiOiJodHRwczpcL1wvd3d3LmtqdWMuc2lcL3dwLWNvbnRlbnRcL3VwbG9hZHNcLzIw
 MTVcLzA2XC84MzFfMy5qcGciLCJ0aXRsZSI6IjgzMV8zIiwiY2FwdGlvbiI6IiIsImFsdCI6Ii
 IsImRlc2NyaXB0aW9uIjoiIn0=\,eyJ1cmwiOiJodHRwczpcL1wvd3d3LmtqdWMuc2lcL3dwLW
 NvbnRlbnRcL3VwbG9hZHNcLzIwMTVcLzA2XC84MzFfNC5qcGciLCJ0aXRsZSI6IjgzMV80Iiwi
 Y2FwdGlvbiI6IiIsImFsdCI6IiIsImRlc2NyaXB0aW9uIjoiIn0=\,eyJ1cmwiOiJodHRwczpc
 L1wvd3d3LmtqdWMuc2lcL3dwLWNvbnRlbnRcL3VwbG9hZHNcLzIwMTVcLzA2XC84MzFfNS5qcG
 ciLCJ0aXRsZSI6IjgzMV81IiwiY2FwdGlvbiI6IiIsImFsdCI6IiIsImRlc2NyaXB0aW9uIjoi
 In0=\,eyJ1cmwiOiJodHRwczpcL1wvd3d3LmtqdWMuc2lcL3dwLWNvbnRlbnRcL3VwbG9hZHNc
 LzIwMTVcLzA2XC84MzFfNi5qcGciLCJ0aXRsZSI6IjgzMV82IiwiY2FwdGlvbiI6IiIsImFsdC
 I6IiIsImRlc2NyaXB0aW9uIjoiIn0=\,eyJ1cmwiOiJodHRwczpcL1wvd3d3LmtqdWMuc2lcL3
 dwLWNvbnRlbnRcL3VwbG9hZHNcLzIwMTVcLzA2XC84MzFfNy5qcGciLCJ0aXRsZSI6IjgzMV83
 IiwiY2FwdGlvbiI6IiIsImFsdCI6IiIsImRlc2NyaXB0aW9uIjoiIn0=\,eyJ1cmwiOiJodHRw
 czpcL1wvd3d3LmtqdWMuc2lcL3dwLWNvbnRlbnRcL3VwbG9hZHNcLzIwMTVcLzA2XC84MzFfOC
 5qcGciLCJ0aXRsZSI6IjgzMV84IiwiY2FwdGlvbiI6IiIsImFsdCI6IiIsImRlc2NyaXB0aW9u
 IjoiIn0=\,eyJ1cmwiOiJodHRwczpcL1wvd3d3LmtqdWMuc2lcL3dwLWNvbnRlbnRcL3VwbG9h
 ZHNcLzIwMTVcLzA2XC84MzFfOS5qcGciLCJ0aXRsZSI6IjgzMV85IiwiY2FwdGlvbiI6IiIsIm
 FsdCI6IiIsImRlc2NyaXB0aW9uIjoiIn0=\,eyJ1cmwiOiJodHRwczpcL1wvd3d3LmtqdWMuc2
 lcL3dwLWNvbnRlbnRcL3VwbG9hZHNcLzIwMTVcLzA2XC84MzFfMTAuanBnIiwidGl0bGUiOiI4
 MzFfMTAiLCJjYXB0aW9uIjoiIiwiYWx0IjoiIiwiZGVzY3JpcHRpb24iOiIifQ=="]\n\nvabi
 lo: prav_nv_mar_15
ATTACH;FMTTYPE=image/jpeg:https://www.kjuc.si/wp-content/uploads/2025/03/8
 31_1.jpg
CATEGORIES:Za otroke
LOCATION:Enota Ivana Čampa Nova vas\, Nova vas 4a\, Nova vas\, Slovenia
GEO:45.363149;13.640599
X-APPLE-STRUCTURED-LOCATION;VALUE=URI;X-ADDRESS=Nova vas 4a\, Nova vas\, Sl
 ovenia;X-APPLE-RADIUS=100;X-TITLE=Enota Ivana Čampa Nova vas:geo:45.36314
 9,13.640599
END:VEVENT
BEGIN:VTIMEZONE
TZID:Europe/Ljubljana
X-LIC-LOCATION:Europe/Ljubljana
BEGIN:STANDARD
DTSTART:20141026T020000
TZOFFSETFROM:+0200
TZOFFSETTO:+0100
TZNAME:CET
END:STANDARD
END:VTIMEZONE
END:VCALENDAR