BEGIN:VCALENDAR
VERSION:2.0
PRODID:-//wp-events-plugin.com//7.2.3.1//EN
TZID:Europe/Ljubljana
X-WR-TIMEZONE:Europe/Ljubljana
BEGIN:VEVENT
UID:842@kjuc.si
DTSTART;TZID=Europe/Ljubljana:20190412T170000
DTEND;TZID=Europe/Ljubljana:20190412T180000
DTSTAMP:20250331T103313Z
URL:https://www.kjuc.si/dogodki/pravljicna-ura-in-ustvarjalna-delavnica-za
 -otroke-od-4-leta-dalje-cerknica-2/
SUMMARY:Pravljična ura in ustvarjalna delavnica za otroke od 4. leta dalje
  - Cerknica
DESCRIPTION:\n\nVabilo\n\n[gallery link="file" columns="2" size="full" ids=
 "eyJ1cmwiOiJodHRwczpcL1wvd3d3LmtqdWMuc2lcL3dwLWNvbnRlbnRcL3VwbG9hZHNcLzIwM
 TlcLzA0XC9JTUdfMjAxOTA0MTJfMTc0NjAzLmpwZyIsInRpdGxlIjoiSU1HXzIwMTkwNDEyXzE
 3NDYwMyIsImNhcHRpb24iOiIiLCJhbHQiOiIiLCJkZXNjcmlwdGlvbiI6IiJ9\,eyJ1cmwiOiJ
 odHRwczpcL1wvd3d3LmtqdWMuc2lcL3dwLWNvbnRlbnRcL3VwbG9hZHNcLzIwMTlcLzA0XC9JT
 UdfMjAxOTA0MTJfMTc0NjExLmpwZyIsInRpdGxlIjoiSU1HXzIwMTkwNDEyXzE3NDYxMSIsImN
 hcHRpb24iOiIiLCJhbHQiOiIiLCJkZXNjcmlwdGlvbiI6IiJ9\,eyJ1cmwiOiJodHRwczpcL1w
 vd3d3LmtqdWMuc2lcL3dwLWNvbnRlbnRcL3VwbG9hZHNcLzIwMTlcLzA0XC9JTUdfMjAxOTA0M
 TJfMTc1NTI3LmpwZyIsInRpdGxlIjoiSU1HXzIwMTkwNDEyXzE3NTUyNyIsImNhcHRpb24iOiI
 iLCJhbHQiOiIiLCJkZXNjcmlwdGlvbiI6IiJ9\,eyJ1cmwiOiJodHRwczpcL1wvd3d3LmtqdWM
 uc2lcL3dwLWNvbnRlbnRcL3VwbG9hZHNcLzIwMTlcLzA0XC9JTUdfMjAxOTA0MTJfMTgwMDU0L
 mpwZyIsInRpdGxlIjoiSU1HXzIwMTkwNDEyXzE4MDA1NCIsImNhcHRpb24iOiIiLCJhbHQiOiI
 iLCJkZXNjcmlwdGlvbiI6IiJ9\,eyJ1cmwiOiJodHRwczpcL1wvd3d3LmtqdWMuc2lcL3dwLWN
 vbnRlbnRcL3VwbG9hZHNcLzIwMTlcLzA0XC9JTUdfMjAxOTA0MTJfMTgwMTEzLmpwZyIsInRpd
 GxlIjoiSU1HXzIwMTkwNDEyXzE4MDExMyIsImNhcHRpb24iOiIiLCJhbHQiOiIiLCJkZXNjcml
 wdGlvbiI6IiJ9\,eyJ1cmwiOiJodHRwczpcL1wvd3d3LmtqdWMuc2lcL3dwLWNvbnRlbnRcL3V
 wbG9hZHNcLzIwMTlcLzA0XC9JTUdfMjAxOTA0MTJfMTgwMTIyXzEuanBnIiwidGl0bGUiOiJJT
 UdfMjAxOTA0MTJfMTgwMTIyXzEiLCJjYXB0aW9uIjoiIiwiYWx0IjoiIiwiZGVzY3JpcHRpb24
 iOiIifQ==\,eyJ1cmwiOiJodHRwczpcL1wvd3d3LmtqdWMuc2lcL3dwLWNvbnRlbnRcL3VwbG9
 hZHNcLzIwMTlcLzA0XC9JTUdfMjAxOTA0MTJfMTgwMTMxLmpwZyIsInRpdGxlIjoiSU1HXzIwM
 TkwNDEyXzE4MDEzMSIsImNhcHRpb24iOiIiLCJhbHQiOiIiLCJkZXNjcmlwdGlvbiI6IiJ9\,e
 yJ1cmwiOiJodHRwczpcL1wvd3d3LmtqdWMuc2lcL3dwLWNvbnRlbnRcL3VwbG9hZHNcLzIwMTl
 cLzA0XC9JTUdfMjAxOTA0MTJfMTgwNDE5LmpwZyIsInRpdGxlIjoiSU1HXzIwMTkwNDEyXzE4M
 DQxOSIsImNhcHRpb24iOiIiLCJhbHQiOiIiLCJkZXNjcmlwdGlvbiI6IiJ9\,eyJ1cmwiOiJod
 HRwczpcL1wvd3d3LmtqdWMuc2lcL3dwLWNvbnRlbnRcL3VwbG9hZHNcLzIwMTlcLzA0XC9JTUd
 fMjAxOTA0MTJfMTgwNDI1LmpwZyIsInRpdGxlIjoiSU1HXzIwMTkwNDEyXzE4MDQyNSIsImNhc
 HRpb24iOiIiLCJhbHQiOiIiLCJkZXNjcmlwdGlvbiI6IiJ9"]
ATTACH;FMTTYPE=image/jpeg:https://www.kjuc.si/wp-content/uploads/2025/03/c
 over-39.jpg
CATEGORIES:Za otroke
LOCATION:Knjižnica Jožeta Udoviča Cerknica\, Partizanska cesta 22\, Cerk
 nica\, Slovenia
GEO:45.795484;14.362483
X-APPLE-STRUCTURED-LOCATION;VALUE=URI;X-ADDRESS=Partizanska cesta 22\, Cerk
 nica\, Slovenia;X-APPLE-RADIUS=100;X-TITLE=Knjižnica Jožeta Udoviča Cer
 knica:geo:45.795484,14.362483
END:VEVENT
BEGIN:VTIMEZONE
TZID:Europe/Ljubljana
X-LIC-LOCATION:Europe/Ljubljana
BEGIN:DAYLIGHT
DTSTART:20190331T030000
TZOFFSETFROM:+0100
TZOFFSETTO:+0200
TZNAME:CEST
END:DAYLIGHT
END:VTIMEZONE
END:VCALENDAR