BEGIN:VCALENDAR
VERSION:2.0
PRODID:-//wp-events-plugin.com//7.2.3.1//EN
TZID:Europe/Ljubljana
X-WR-TIMEZONE:Europe/Ljubljana
BEGIN:VEVENT
UID:656@kjuc.si
DTSTART;TZID=Europe/Ljubljana:20180517T180000
DTEND;TZID=Europe/Ljubljana:20180517T190000
DTSTAMP:20250331T102914Z
URL:https://www.kjuc.si/dogodki/pravljicna-ura-in-ustvarjalna-delavnica-za
 -otroke-od-4-leta-dalje-stari-trg/
SUMMARY:Pravljična ura in ustvarjalna delavnica za otroke od 4. leta dalje
  - Stari trg
DESCRIPTION:\n\nVabilo\n\n[gallery link="file" size="medium" ids="eyJ1cmwiO
 iJodHRwczpcL1wvd3d3LmtqdWMuc2lcL3dwLWNvbnRlbnRcL3VwbG9hZHNcLzIwMThcLzA1XC9
 JTUdfMjAxODA1MTdfMTg0ODE1LmpwZyIsInRpdGxlIjoiSU1HXzIwMTgwNTE3XzE4NDgxNSIsI
 mNhcHRpb24iOiIiLCJhbHQiOiIiLCJkZXNjcmlwdGlvbiI6IiJ9\,eyJ1cmwiOiJodHRwczpcL
 1wvd3d3LmtqdWMuc2lcL3dwLWNvbnRlbnRcL3VwbG9hZHNcLzIwMThcLzA1XC9JTUdfMjAxODA
 1MTdfMTkwNDUwLmpwZyIsInRpdGxlIjoiSU1HXzIwMTgwNTE3XzE5MDQ1MCIsImNhcHRpb24iO
 iIiLCJhbHQiOiIiLCJkZXNjcmlwdGlvbiI6IiJ9\,eyJ1cmwiOiJodHRwczpcL1wvd3d3Lmtqd
 WMuc2lcL3dwLWNvbnRlbnRcL3VwbG9hZHNcLzIwMThcLzA1XC9JTUdfMjAxODA1MTdfMTkwNTM
 wLmpwZyIsInRpdGxlIjoiSU1HXzIwMTgwNTE3XzE5MDUzMCIsImNhcHRpb24iOiIiLCJhbHQiO
 iIiLCJkZXNjcmlwdGlvbiI6IiJ9\,eyJ1cmwiOiJodHRwczpcL1wvd3d3LmtqdWMuc2lcL3dwL
 WNvbnRlbnRcL3VwbG9hZHNcLzIwMThcLzA1XC9JTUdfMjAxODA1MTdfMTkwNTQwLmpwZyIsInR
 pdGxlIjoiSU1HXzIwMTgwNTE3XzE5MDU0MCIsImNhcHRpb24iOiIiLCJhbHQiOiIiLCJkZXNjc
 mlwdGlvbiI6IiJ9\,eyJ1cmwiOiJodHRwczpcL1wvd3d3LmtqdWMuc2lcL3dwLWNvbnRlbnRcL
 3VwbG9hZHNcLzIwMThcLzA1XC9JTUdfMjAxODA1MTdfMTkyODM4LmpwZyIsInRpdGxlIjoiSU1
 HXzIwMTgwNTE3XzE5MjgzOCIsImNhcHRpb24iOiIiLCJhbHQiOiIiLCJkZXNjcmlwdGlvbiI6I
 iJ9"]
ATTACH;FMTTYPE=image/jpeg:https://www.kjuc.si/wp-content/uploads/2025/03/c
 over-30.jpg
CATEGORIES:Za otroke
LOCATION:Enota Maričke Žnidaršič Stari trg\, Cesta Notranjskega odreda 
 32\, Stari trg pri Ložu\, Slovenia
GEO:45.712702;14.472784
X-APPLE-STRUCTURED-LOCATION;VALUE=URI;X-ADDRESS=Cesta Notranjskega odreda 3
 2\, Stari trg pri Ložu\, Slovenia;X-APPLE-RADIUS=100;X-TITLE=Enota Marič
 ke Žnidaršič Stari trg:geo:45.712702,14.472784
END:VEVENT
BEGIN:VTIMEZONE
TZID:Europe/Ljubljana
X-LIC-LOCATION:Europe/Ljubljana
BEGIN:DAYLIGHT
DTSTART:20180325T030000
TZOFFSETFROM:+0100
TZOFFSETTO:+0200
TZNAME:CEST
END:DAYLIGHT
END:VTIMEZONE
END:VCALENDAR