BEGIN:VCALENDAR
VERSION:2.0
PRODID:-//wp-events-plugin.com//7.2.3.1//EN
TZID:Europe/Ljubljana
X-WR-TIMEZONE:Europe/Ljubljana
BEGIN:VEVENT
UID:432@kjuc.si
DTSTART;TZID=Europe/Ljubljana:20170322T170000
DTEND;TZID=Europe/Ljubljana:20170322T180000
DTSTAMP:20250331T100807Z
URL:https://www.kjuc.si/dogodki/pravljicna-ura-v-novi-vasi-2/
SUMMARY:Pravljična ura v Novi vasi
DESCRIPTION:\n\nVabilo\n\n[gallery link="file" size="large" ids="eyJ1cmwiOi
 JodHRwczpcL1wvd3d3LmtqdWMuc2lcL3dwLWNvbnRlbnRcL3VwbG9hZHNcLzIwMTdcLzAzXC8y
 MDE3MDMyMl8xNzMxMjIuanBnIiwidGl0bGUiOiIyMDE3MDMyMl8xNzMxMjIiLCJjYXB0aW9uIj
 oiIiwiYWx0IjoiIiwiZGVzY3JpcHRpb24iOiIifQ==\,eyJ1cmwiOiJodHRwczpcL1wvd3d3Lm
 tqdWMuc2lcL3dwLWNvbnRlbnRcL3VwbG9hZHNcLzIwMTdcLzAzXC8yMDE3MDMyMl8xNzMxMzgu
 anBnIiwidGl0bGUiOiIyMDE3MDMyMl8xNzMxMzgiLCJjYXB0aW9uIjoiIiwiYWx0IjoiIiwiZG
 VzY3JpcHRpb24iOiIifQ==\,eyJ1cmwiOiJodHRwczpcL1wvd3d3LmtqdWMuc2lcL3dwLWNvbn
 RlbnRcL3VwbG9hZHNcLzIwMTdcLzAzXC8yMDE3MDMyMl8xNzMyMTEuanBnIiwidGl0bGUiOiIy
 MDE3MDMyMl8xNzMyMTEiLCJjYXB0aW9uIjoiIiwiYWx0IjoiIiwiZGVzY3JpcHRpb24iOiIifQ
 ==\,eyJ1cmwiOiJodHRwczpcL1wvd3d3LmtqdWMuc2lcL3dwLWNvbnRlbnRcL3VwbG9hZHNcLz
 IwMTdcLzAzXC8yMDE3MDMyMl8xNzMyNDUuanBnIiwidGl0bGUiOiIyMDE3MDMyMl8xNzMyNDUi
 LCJjYXB0aW9uIjoiIiwiYWx0IjoiIiwiZGVzY3JpcHRpb24iOiIifQ==\,eyJ1cmwiOiJodHRw
 czpcL1wvd3d3LmtqdWMuc2lcL3dwLWNvbnRlbnRcL3VwbG9hZHNcLzIwMTdcLzAzXC8yMDE3MD
 MyMl8xNzMyNTQuanBnIiwidGl0bGUiOiIyMDE3MDMyMl8xNzMyNTQiLCJjYXB0aW9uIjoiIiwi
 YWx0IjoiIiwiZGVzY3JpcHRpb24iOiIifQ==\,eyJ1cmwiOiJodHRwczpcL1wvd3d3LmtqdWMu
 c2lcL3dwLWNvbnRlbnRcL3VwbG9hZHNcLzIwMTdcLzAzXC8yMDE3MDMyMl8xNzM0MTAuanBnIi
 widGl0bGUiOiIyMDE3MDMyMl8xNzM0MTAiLCJjYXB0aW9uIjoiIiwiYWx0IjoiIiwiZGVzY3Jp
 cHRpb24iOiIifQ==\,eyJ1cmwiOiJodHRwczpcL1wvd3d3LmtqdWMuc2lcL3dwLWNvbnRlbnRc
 L3VwbG9hZHNcLzIwMTdcLzAzXC8yMDE3MDMyMl8xNzM0MzMuanBnIiwidGl0bGUiOiIyMDE3MD
 MyMl8xNzM0MzMiLCJjYXB0aW9uIjoiIiwiYWx0IjoiIiwiZGVzY3JpcHRpb24iOiIifQ==\,ey
 J1cmwiOiJodHRwczpcL1wvd3d3LmtqdWMuc2lcL3dwLWNvbnRlbnRcL3VwbG9hZHNcLzIwMTdc
 LzAzXC8yMDE3MDQxMl8xNzA2MzEuanBnIiwidGl0bGUiOiIyMDE3MDQxMl8xNzA2MzEiLCJjYX
 B0aW9uIjoiIiwiYWx0IjoiIiwiZGVzY3JpcHRpb24iOiIifQ==\,eyJ1cmwiOiJodHRwczpcL1
 wvd3d3LmtqdWMuc2lcL3dwLWNvbnRlbnRcL3VwbG9hZHNcLzIwMTdcLzAzXC8yMDE3MDQxMl8x
 NzMxMzcuanBnIiwidGl0bGUiOiIyMDE3MDQxMl8xNzMxMzciLCJjYXB0aW9uIjoiIiwiYWx0Ij
 oiIiwiZGVzY3JpcHRpb24iOiIifQ==\,eyJ1cmwiOiJodHRwczpcL1wvd3d3LmtqdWMuc2lcL3
 dwLWNvbnRlbnRcL3VwbG9hZHNcLzIwMTdcLzAzXC8yMDE3MDQxMl8xNzMxNDQuanBnIiwidGl0
 bGUiOiIyMDE3MDQxMl8xNzMxNDQiLCJjYXB0aW9uIjoiIiwiYWx0IjoiIiwiZGVzY3JpcHRpb2
 4iOiIifQ==\,eyJ1cmwiOiJodHRwczpcL1wvd3d3LmtqdWMuc2lcL3dwLWNvbnRlbnRcL3VwbG
 9hZHNcLzIwMTdcLzAzXC8yMDE3MDQxMl8xNzM1MTMuanBnIiwidGl0bGUiOiIyMDE3MDQxMl8x
 NzM1MTMiLCJjYXB0aW9uIjoiIiwiYWx0IjoiIiwiZGVzY3JpcHRpb24iOiIifQ==\,eyJ1cmwi
 OiJodHRwczpcL1wvd3d3LmtqdWMuc2lcL3dwLWNvbnRlbnRcL3VwbG9hZHNcLzIwMTdcLzAzXC
 8yMDE3MDQxMl8xNzM2MDMuanBnIiwidGl0bGUiOiIyMDE3MDQxMl8xNzM2MDMiLCJjYXB0aW9u
 IjoiIiwiYWx0IjoiIiwiZGVzY3JpcHRpb24iOiIifQ==\,eyJ1cmwiOiJodHRwczpcL1wvd3d3
 LmtqdWMuc2lcL3dwLWNvbnRlbnRcL3VwbG9hZHNcLzIwMTdcLzAzXC8yMDE3MDQxMl8xNzM2NT
 IuanBnIiwidGl0bGUiOiIyMDE3MDQxMl8xNzM2NTIiLCJjYXB0aW9uIjoiIiwiYWx0IjoiIiwi
 ZGVzY3JpcHRpb24iOiIifQ=="]
ATTACH;FMTTYPE=image/jpeg:https://www.kjuc.si/wp-content/uploads/2025/03/s
 likca-4.jpg
CATEGORIES:Prireditev,Za otroke
LOCATION:Enota Ivana Čampa Nova vas\, Nova vas 4a\, Nova vas\, Slovenia
GEO:45.363149;13.640599
X-APPLE-STRUCTURED-LOCATION;VALUE=URI;X-ADDRESS=Nova vas 4a\, Nova vas\, Sl
 ovenia;X-APPLE-RADIUS=100;X-TITLE=Enota Ivana Čampa Nova vas:geo:45.36314
 9,13.640599
END:VEVENT
BEGIN:VTIMEZONE
TZID:Europe/Ljubljana
X-LIC-LOCATION:Europe/Ljubljana
BEGIN:STANDARD
DTSTART:20161030T020000
TZOFFSETFROM:+0200
TZOFFSETTO:+0100
TZNAME:CET
END:STANDARD
END:VTIMEZONE
END:VCALENDAR