BEGIN:VCALENDAR
VERSION:2.0
PRODID:-//wp-events-plugin.com//7.2.3.1//EN
TZID:Europe/Ljubljana
X-WR-TIMEZONE:Europe/Ljubljana
BEGIN:VEVENT
UID:448@kjuc.si
DTSTART;TZID=Europe/Ljubljana:20170412T170000
DTEND;TZID=Europe/Ljubljana:20170412T180000
DTSTAMP:20250331T100844Z
URL:https://www.kjuc.si/dogodki/pravljicna-ura-v-novi-vasi-3/
SUMMARY:Pravljična ura v Novi vasi
DESCRIPTION:\n\n[gallery link="file" size="large" ids="eyJ1cmwiOiJodHRwczpc
 L1wvd3d3LmtqdWMuc2lcL3dwLWNvbnRlbnRcL3VwbG9hZHNcLzIwMTdcLzA0XC8yMDE3MDQxMl
 8xNzA2MzEuanBnIiwidGl0bGUiOiIyMDE3MDQxMl8xNzA2MzEiLCJjYXB0aW9uIjoiIiwiYWx0
 IjoiIiwiZGVzY3JpcHRpb24iOiIifQ==\,eyJ1cmwiOiJodHRwczpcL1wvd3d3LmtqdWMuc2lc
 L3dwLWNvbnRlbnRcL3VwbG9hZHNcLzIwMTdcLzA0XC8yMDE3MDQxMl8xNzMxMzcuanBnIiwidG
 l0bGUiOiIyMDE3MDQxMl8xNzMxMzciLCJjYXB0aW9uIjoiIiwiYWx0IjoiIiwiZGVzY3JpcHRp
 b24iOiIifQ==\,eyJ1cmwiOiJodHRwczpcL1wvd3d3LmtqdWMuc2lcL3dwLWNvbnRlbnRcL3Vw
 bG9hZHNcLzIwMTdcLzA0XC8yMDE3MDQxMl8xNzMxNDQuanBnIiwidGl0bGUiOiIyMDE3MDQxMl
 8xNzMxNDQiLCJjYXB0aW9uIjoiIiwiYWx0IjoiIiwiZGVzY3JpcHRpb24iOiIifQ==\,eyJ1cm
 wiOiJodHRwczpcL1wvd3d3LmtqdWMuc2lcL3dwLWNvbnRlbnRcL3VwbG9hZHNcLzIwMTdcLzA0
 XC8yMDE3MDQxMl8xNzMzNDMuanBnIiwidGl0bGUiOiIyMDE3MDQxMl8xNzMzNDMiLCJjYXB0aW
 9uIjoiIiwiYWx0IjoiIiwiZGVzY3JpcHRpb24iOiIifQ==\,eyJ1cmwiOiJodHRwczpcL1wvd3
 d3LmtqdWMuc2lcL3dwLWNvbnRlbnRcL3VwbG9hZHNcLzIwMTdcLzA0XC8yMDE3MDQxMl8xNzM1
 MDEuanBnIiwidGl0bGUiOiIyMDE3MDQxMl8xNzM1MDEiLCJjYXB0aW9uIjoiIiwiYWx0IjoiIi
 wiZGVzY3JpcHRpb24iOiIifQ==\,eyJ1cmwiOiJodHRwczpcL1wvd3d3LmtqdWMuc2lcL3dwLW
 NvbnRlbnRcL3VwbG9hZHNcLzIwMTdcLzA0XC8yMDE3MDQxMl8xNzM1MTMuanBnIiwidGl0bGUi
 OiIyMDE3MDQxMl8xNzM1MTMiLCJjYXB0aW9uIjoiIiwiYWx0IjoiIiwiZGVzY3JpcHRpb24iOi
 IifQ==\,eyJ1cmwiOiJodHRwczpcL1wvd3d3LmtqdWMuc2lcL3dwLWNvbnRlbnRcL3VwbG9hZH
 NcLzIwMTdcLzA0XC8yMDE3MDQxMl8xNzM1MzkuanBnIiwidGl0bGUiOiIyMDE3MDQxMl8xNzM1
 MzkiLCJjYXB0aW9uIjoiIiwiYWx0IjoiIiwiZGVzY3JpcHRpb24iOiIifQ==\,eyJ1cmwiOiJo
 dHRwczpcL1wvd3d3LmtqdWMuc2lcL3dwLWNvbnRlbnRcL3VwbG9hZHNcLzIwMTdcLzA0XC8yMD
 E3MDQxMl8xNzM2MDMuanBnIiwidGl0bGUiOiIyMDE3MDQxMl8xNzM2MDMiLCJjYXB0aW9uIjoi
 IiwiYWx0IjoiIiwiZGVzY3JpcHRpb24iOiIifQ==\,eyJ1cmwiOiJodHRwczpcL1wvd3d3Lmtq
 dWMuc2lcL3dwLWNvbnRlbnRcL3VwbG9hZHNcLzIwMTdcLzA0XC8yMDE3MDQxMl8xNzM2MTIuan
 BnIiwidGl0bGUiOiIyMDE3MDQxMl8xNzM2MTIiLCJjYXB0aW9uIjoiIiwiYWx0IjoiIiwiZGVz
 Y3JpcHRpb24iOiIifQ==\,eyJ1cmwiOiJodHRwczpcL1wvd3d3LmtqdWMuc2lcL3dwLWNvbnRl
 bnRcL3VwbG9hZHNcLzIwMTdcLzA0XC8yMDE3MDQxMl8xNzM2NTIuanBnIiwidGl0bGUiOiIyMD
 E3MDQxMl8xNzM2NTIiLCJjYXB0aW9uIjoiIiwiYWx0IjoiIiwiZGVzY3JpcHRpb24iOiIifQ==
 "]\n\n&nbsp\;&nbsp\;&nbsp\;&nbsp\;&nbsp\;&nbsp\;&nbsp\;&nbsp\;&nbsp\;
ATTACH;FMTTYPE=image/jpeg:https://www.kjuc.si/wp-content/uploads/2025/03/r
 ozce.jpg
CATEGORIES:Prireditev,Za otroke
LOCATION:Enota Ivana Čampa Nova vas\, Nova vas 4a\, Nova vas\, Slovenia
GEO:45.363149;13.640599
X-APPLE-STRUCTURED-LOCATION;VALUE=URI;X-ADDRESS=Nova vas 4a\, Nova vas\, Sl
 ovenia;X-APPLE-RADIUS=100;X-TITLE=Enota Ivana Čampa Nova vas:geo:45.36314
 9,13.640599
END:VEVENT
BEGIN:VTIMEZONE
TZID:Europe/Ljubljana
X-LIC-LOCATION:Europe/Ljubljana
BEGIN:DAYLIGHT
DTSTART:20170326T030000
TZOFFSETFROM:+0100
TZOFFSETTO:+0200
TZNAME:CEST
END:DAYLIGHT
END:VTIMEZONE
END:VCALENDAR