BEGIN:VCALENDAR
VERSION:2.0
PRODID:-//wp-events-plugin.com//7.2.3.1//EN
TZID:Europe/Ljubljana
X-WR-TIMEZONE:Europe/Ljubljana
BEGIN:VEVENT
UID:22@kjuc.si
DTSTART;TZID=Europe/Ljubljana:20150122T180000
DTEND;TZID=Europe/Ljubljana:20150122T200000
DTSTAMP:20250331T094521Z
URL:https://www.kjuc.si/dogodki/pravljicna-urica-in-ustvarjalna-delavnica-
 za-otroke-od-4-leta-dalje/
SUMMARY:Pravljična urica in ustvarjalna delavnica za otroke od 4. leta dal
 je
DESCRIPTION:\n\nProsimo vas\, da otroka prijavite na tel. št. 01 7057 566 
 (Stari trg) ali 01 7091 078 (Cerknica).\n\nVabljeni!\n\n[gallery ids="eyJ1
 cmwiOiJodHRwczpcL1wvd3d3LmtqdWMuc2lcL3dwLWNvbnRlbnRcL3VwbG9hZHNcLzIwMTVcLz
 A2XC83OTRfMTAuanBnIiwidGl0bGUiOiI3OTRfMTAiLCJjYXB0aW9uIjoiIiwiYWx0IjoiIiwi
 ZGVzY3JpcHRpb24iOiIifQ==\,eyJ1cmwiOiJodHRwczpcL1wvd3d3LmtqdWMuc2lcL3dwLWNv
 bnRlbnRcL3VwbG9hZHNcLzIwMTVcLzA2XC83OTRfOS5qcGciLCJ0aXRsZSI6Ijc5NF85IiwiY2
 FwdGlvbiI6IiIsImFsdCI6IiIsImRlc2NyaXB0aW9uIjoiIn0=\,eyJ1cmwiOiJodHRwczpcL1
 wvd3d3LmtqdWMuc2lcL3dwLWNvbnRlbnRcL3VwbG9hZHNcLzIwMTVcLzA2XC83OTRfOC5qcGci
 LCJ0aXRsZSI6Ijc5NF84IiwiY2FwdGlvbiI6IiIsImFsdCI6IiIsImRlc2NyaXB0aW9uIjoiIn
 0=\,eyJ1cmwiOiJodHRwczpcL1wvd3d3LmtqdWMuc2lcL3dwLWNvbnRlbnRcL3VwbG9hZHNcLz
 IwMTVcLzA2XC83OTRfNy5qcGciLCJ0aXRsZSI6Ijc5NF83IiwiY2FwdGlvbiI6IiIsImFsdCI6
 IiIsImRlc2NyaXB0aW9uIjoiIn0=\,eyJ1cmwiOiJodHRwczpcL1wvd3d3LmtqdWMuc2lcL3dw
 LWNvbnRlbnRcL3VwbG9hZHNcLzIwMTVcLzA2XC83OTRfNi5qcGciLCJ0aXRsZSI6Ijc5NF82Ii
 wiY2FwdGlvbiI6IiIsImFsdCI6IiIsImRlc2NyaXB0aW9uIjoiIn0=\,eyJ1cmwiOiJodHRwcz
 pcL1wvd3d3LmtqdWMuc2lcL3dwLWNvbnRlbnRcL3VwbG9hZHNcLzIwMTVcLzA2XC83OTRfNS5q
 cGciLCJ0aXRsZSI6Ijc5NF81IiwiY2FwdGlvbiI6IiIsImFsdCI6IiIsImRlc2NyaXB0aW9uIj
 oiIn0=\,eyJ1cmwiOiJodHRwczpcL1wvd3d3LmtqdWMuc2lcL3dwLWNvbnRlbnRcL3VwbG9hZH
 NcLzIwMTVcLzA2XC83OTRfNC5qcGciLCJ0aXRsZSI6Ijc5NF80IiwiY2FwdGlvbiI6IiIsImFs
 dCI6IiIsImRlc2NyaXB0aW9uIjoiIn0=\,eyJ1cmwiOiJodHRwczpcL1wvd3d3LmtqdWMuc2lc
 L3dwLWNvbnRlbnRcL3VwbG9hZHNcLzIwMTVcLzA2XC83OTRfMy5qcGciLCJ0aXRsZSI6Ijc5NF
 8zIiwiY2FwdGlvbiI6IiIsImFsdCI6IiIsImRlc2NyaXB0aW9uIjoiIn0=\,eyJ1cmwiOiJodH
 RwczpcL1wvd3d3LmtqdWMuc2lcL3dwLWNvbnRlbnRcL3VwbG9hZHNcLzIwMTVcLzA2XC83OTRf
 Mi5qcGciLCJ0aXRsZSI6Ijc5NF8yIiwiY2FwdGlvbiI6IiIsImFsdCI6IiIsImRlc2NyaXB0aW
 9uIjoiIn0="]\n\nVabilo: st_pravljicna_jan2015
ATTACH;FMTTYPE=image/jpeg:https://www.kjuc.si/wp-content/uploads/2025/03/7
 94_1.jpg
CATEGORIES:Za otroke
LOCATION:Knjižnica Jožeta Udoviča Cerknica\, Partizanska cesta 22\, Cerk
 nica\, Slovenia
GEO:45.795484;14.362483
X-APPLE-STRUCTURED-LOCATION;VALUE=URI;X-ADDRESS=Partizanska cesta 22\, Cerk
 nica\, Slovenia;X-APPLE-RADIUS=100;X-TITLE=Knjižnica Jožeta Udoviča Cer
 knica:geo:45.795484,14.362483
END:VEVENT
BEGIN:VTIMEZONE
TZID:Europe/Ljubljana
X-LIC-LOCATION:Europe/Ljubljana
BEGIN:STANDARD
DTSTART:20141026T020000
TZOFFSETFROM:+0200
TZOFFSETTO:+0100
TZNAME:CET
END:STANDARD
END:VTIMEZONE
END:VCALENDAR