BEGIN:VCALENDAR
VERSION:2.0
PRODID:-//wp-events-plugin.com//7.2.3.1//EN
TZID:Europe/Ljubljana
X-WR-TIMEZONE:Europe/Ljubljana
BEGIN:VEVENT
UID:1680@kjuc.si
DTSTART;TZID=Europe/Ljubljana:20240327T170000
DTEND;TZID=Europe/Ljubljana:20240327T180000
DTSTAMP:20250331T104507Z
URL:https://www.kjuc.si/dogodki/pravljicna-urica-rakek-24/
SUMMARY:Pravljična urica - Rakek
DESCRIPTION: pravljična_marec\n\n[gallery link="none" size="full" ids="eyJ
 1cmwiOiJodHRwczpcL1wvd3d3LmtqdWMuc2lcL3dwLWNvbnRlbnRcL3VwbG9hZHNcLzIwMjRcL
 zAzXC8yMDI0MDMyN18xNzI3MzUuanBnIiwidGl0bGUiOiIyMDI0MDMyN18xNzI3MzUiLCJjYXB
 0aW9uIjoiIiwiYWx0IjoiIiwiZGVzY3JpcHRpb24iOiIifQ==\,eyJ1cmwiOiJodHRwczpcL1w
 vd3d3LmtqdWMuc2lcL3dwLWNvbnRlbnRcL3VwbG9hZHNcLzIwMjRcLzAzXC8yMDI0MDMyN18xN
 zQ4MzYuanBnIiwidGl0bGUiOiIyMDI0MDMyN18xNzQ4MzYiLCJjYXB0aW9uIjoiIiwiYWx0Ijo
 iIiwiZGVzY3JpcHRpb24iOiIifQ==\,eyJ1cmwiOiJodHRwczpcL1wvd3d3LmtqdWMuc2lcL3d
 wLWNvbnRlbnRcL3VwbG9hZHNcLzIwMjRcLzAzXC8yMDI0MDMyN18xNzQ5MDYuanBnIiwidGl0b
 GUiOiIyMDI0MDMyN18xNzQ5MDYiLCJjYXB0aW9uIjoiIiwiYWx0IjoiIiwiZGVzY3JpcHRpb24
 iOiIifQ==\,eyJ1cmwiOiJodHRwczpcL1wvd3d3LmtqdWMuc2lcL3dwLWNvbnRlbnRcL3VwbG9
 hZHNcLzIwMjRcLzAzXC8yMDI0MDMyN18xNzQ5MTkuanBnIiwidGl0bGUiOiIyMDI0MDMyN18xN
 zQ5MTkiLCJjYXB0aW9uIjoiIiwiYWx0IjoiIiwiZGVzY3JpcHRpb24iOiIifQ==\,eyJ1cmwiO
 iJodHRwczpcL1wvd3d3LmtqdWMuc2lcL3dwLWNvbnRlbnRcL3VwbG9hZHNcLzIwMjRcLzAzXC8
 yMDI0MDMyN18xNzU2MDYuanBnIiwidGl0bGUiOiIyMDI0MDMyN18xNzU2MDYiLCJjYXB0aW9uI
 joiIiwiYWx0IjoiIiwiZGVzY3JpcHRpb24iOiIifQ==\,eyJ1cmwiOiJodHRwczpcL1wvd3d3L
 mtqdWMuc2lcL3dwLWNvbnRlbnRcL3VwbG9hZHNcLzIwMjRcLzAzXC8yMDI0MDMyN18xODAxMDk
 uanBnIiwidGl0bGUiOiIyMDI0MDMyN18xODAxMDkiLCJjYXB0aW9uIjoiIiwiYWx0IjoiIiwiZ
 GVzY3JpcHRpb24iOiIifQ=="]
ATTACH;FMTTYPE=image/jpeg:https://www.kjuc.si/wp-content/uploads/2025/03/p
 ravljicna_marec.jpg
CATEGORIES:Za otroke
LOCATION:Enota Ivana Matičiča Rakek\, Partizanska cesta 8a\, Rakek\, Slov
 enia
GEO:45.8127;14.319238
X-APPLE-STRUCTURED-LOCATION;VALUE=URI;X-ADDRESS=Partizanska cesta 8a\, Rake
 k\, Slovenia;X-APPLE-RADIUS=100;X-TITLE=Enota Ivana Matičiča Rakek:geo:4
 5.8127,14.319238
END:VEVENT
BEGIN:VTIMEZONE
TZID:Europe/Ljubljana
X-LIC-LOCATION:Europe/Ljubljana
BEGIN:STANDARD
DTSTART:20231029T020000
TZOFFSETFROM:+0200
TZOFFSETTO:+0100
TZNAME:CET
END:STANDARD
END:VTIMEZONE
END:VCALENDAR