BEGIN:VCALENDAR
VERSION:2.0
PRODID:-//wp-events-plugin.com//7.2.3.1//EN
TZID:Europe/Ljubljana
X-WR-TIMEZONE:Europe/Ljubljana
BEGIN:VEVENT
UID:1513@kjuc.si
DTSTART;TZID=Europe/Ljubljana:20230605T170000
DTEND;TZID=Europe/Ljubljana:20230605T180000
DTSTAMP:20250331T104248Z
URL:https://www.kjuc.si/dogodki/pravljicna-urica-rakek-9/
SUMMARY:Pravljična urica - Rakek
DESCRIPTION:&nbsp\;\n\nvabilo_junij\n\n[gallery link="none" size="full" ids
 ="eyJ1cmwiOiJodHRwczpcL1wvd3d3LmtqdWMuc2lcL3dwLWNvbnRlbnRcL3VwbG9hZHNcLzIw
 MjNcLzA1XC8yMDIzMDYwNV8xNzUzNTcuanBnIiwidGl0bGUiOiIyMDIzMDYwNV8xNzUzNTciLC
 JjYXB0aW9uIjoiIiwiYWx0IjoiIiwiZGVzY3JpcHRpb24iOiIifQ==\,eyJ1cmwiOiJodHRwcz
 pcL1wvd3d3LmtqdWMuc2lcL3dwLWNvbnRlbnRcL3VwbG9hZHNcLzIwMjNcLzA1XC8yMDIzMDYw
 NV8xNzU0MDMuanBnIiwidGl0bGUiOiIyMDIzMDYwNV8xNzU0MDMiLCJjYXB0aW9uIjoiIiwiYW
 x0IjoiIiwiZGVzY3JpcHRpb24iOiIifQ==\,eyJ1cmwiOiJodHRwczpcL1wvd3d3LmtqdWMuc2
 lcL3dwLWNvbnRlbnRcL3VwbG9hZHNcLzIwMjNcLzA1XC8yMDIzMDYwNV8xNzU1MjcuanBnIiwi
 dGl0bGUiOiIyMDIzMDYwNV8xNzU1MjciLCJjYXB0aW9uIjoiIiwiYWx0IjoiIiwiZGVzY3JpcH
 Rpb24iOiIifQ==\,eyJ1cmwiOiJodHRwczpcL1wvd3d3LmtqdWMuc2lcL3dwLWNvbnRlbnRcL3
 VwbG9hZHNcLzIwMjNcLzA1XC8yMDIzMDYwNV8xNzU1MzYuanBnIiwidGl0bGUiOiIyMDIzMDYw
 NV8xNzU1MzYiLCJjYXB0aW9uIjoiIiwiYWx0IjoiIiwiZGVzY3JpcHRpb24iOiIifQ==\,eyJ1
 cmwiOiJodHRwczpcL1wvd3d3LmtqdWMuc2lcL3dwLWNvbnRlbnRcL3VwbG9hZHNcLzIwMjNcLz
 A1XC8yMDIzMDYwNV8xNzA0MjAuanBnIiwidGl0bGUiOiIyMDIzMDYwNV8xNzA0MjAiLCJjYXB0
 aW9uIjoiIiwiYWx0IjoiIiwiZGVzY3JpcHRpb24iOiIifQ=="]
ATTACH;FMTTYPE=image/jpeg:https://www.kjuc.si/wp-content/uploads/2025/03/v
 abilo_junij-page-001.jpg
CATEGORIES:Prireditev,Za otroke
LOCATION:Enota Ivana Matičiča Rakek\, Partizanska cesta 8a\, Rakek\, Slov
 enia
GEO:45.8127;14.319238
X-APPLE-STRUCTURED-LOCATION;VALUE=URI;X-ADDRESS=Partizanska cesta 8a\, Rake
 k\, Slovenia;X-APPLE-RADIUS=100;X-TITLE=Enota Ivana Matičiča Rakek:geo:4
 5.8127,14.319238
END:VEVENT
BEGIN:VTIMEZONE
TZID:Europe/Ljubljana
X-LIC-LOCATION:Europe/Ljubljana
BEGIN:DAYLIGHT
DTSTART:20230326T030000
TZOFFSETFROM:+0100
TZOFFSETTO:+0200
TZNAME:CEST
END:DAYLIGHT
END:VTIMEZONE
END:VCALENDAR