BEGIN:VCALENDAR
VERSION:2.0
PRODID:-//wp-events-plugin.com//7.2.3.1//EN
TZID:Europe/Ljubljana
X-WR-TIMEZONE:Europe/Ljubljana
BEGIN:VEVENT
UID:607@kjuc.si
DTSTART;TZID=Europe/Ljubljana:20180319T180000
DTEND;TZID=Europe/Ljubljana:20180319T190000
DTSTAMP:20250331T102746Z
URL:https://www.kjuc.si/dogodki/pravljicna-urica-stari-trg-3/
SUMMARY:Pravljična urica Stari trg
DESCRIPTION:\n\nVabilo\n\n[gallery link="file" columns="2" size="full" ids=
 "eyJ1cmwiOiJodHRwczpcL1wvd3d3LmtqdWMuc2lcL3dwLWNvbnRlbnRcL3VwbG9hZHNcLzIwM
 ThcLzAzXC9JTUdfMjAxODAzMTlfMTg0ODIwLmpwZyIsInRpdGxlIjoiSU1HXzIwMTgwMzE5XzE
 4NDgyMCIsImNhcHRpb24iOiIiLCJhbHQiOiIiLCJkZXNjcmlwdGlvbiI6IiJ9\,eyJ1cmwiOiJ
 odHRwczpcL1wvd3d3LmtqdWMuc2lcL3dwLWNvbnRlbnRcL3VwbG9hZHNcLzIwMThcLzAzXC9JT
 UdfMjAxODAzMTlfMTg0OTAxLmpwZyIsInRpdGxlIjoiSU1HXzIwMTgwMzE5XzE4NDkwMSIsImN
 hcHRpb24iOiIiLCJhbHQiOiIiLCJkZXNjcmlwdGlvbiI6IiJ9\,eyJ1cmwiOiJodHRwczpcL1w
 vd3d3LmtqdWMuc2lcL3dwLWNvbnRlbnRcL3VwbG9hZHNcLzIwMThcLzAzXC9JTUdfMjAxODAzM
 TlfMTkwNjQ5LmpwZyIsInRpdGxlIjoiSU1HXzIwMTgwMzE5XzE5MDY0OSIsImNhcHRpb24iOiI
 iLCJhbHQiOiIiLCJkZXNjcmlwdGlvbiI6IiJ9\,eyJ1cmwiOiJodHRwczpcL1wvd3d3LmtqdWM
 uc2lcL3dwLWNvbnRlbnRcL3VwbG9hZHNcLzIwMThcLzAzXC9JTUdfMjAxODAzMTlfMTkwNjUyL
 mpwZyIsInRpdGxlIjoiSU1HXzIwMTgwMzE5XzE5MDY1MiIsImNhcHRpb24iOiIiLCJhbHQiOiI
 iLCJkZXNjcmlwdGlvbiI6IiJ9\,eyJ1cmwiOiJodHRwczpcL1wvd3d3LmtqdWMuc2lcL3dwLWN
 vbnRlbnRcL3VwbG9hZHNcLzIwMThcLzAzXC9JTUdfMjAxODAzMTlfMTkwNjU1LmpwZyIsInRpd
 GxlIjoiSU1HXzIwMTgwMzE5XzE5MDY1NSIsImNhcHRpb24iOiIiLCJhbHQiOiIiLCJkZXNjcml
 wdGlvbiI6IiJ9"]
CATEGORIES:Za otroke
LOCATION:Enota Maričke Žnidaršič Stari trg\, Cesta Notranjskega odreda 
 32\, Stari trg pri Ložu\, Slovenia
GEO:45.712702;14.472784
X-APPLE-STRUCTURED-LOCATION;VALUE=URI;X-ADDRESS=Cesta Notranjskega odreda 3
 2\, Stari trg pri Ložu\, Slovenia;X-APPLE-RADIUS=100;X-TITLE=Enota Marič
 ke Žnidaršič Stari trg:geo:45.712702,14.472784
END:VEVENT
BEGIN:VTIMEZONE
TZID:Europe/Ljubljana
X-LIC-LOCATION:Europe/Ljubljana
BEGIN:STANDARD
DTSTART:20171029T020000
TZOFFSETFROM:+0200
TZOFFSETTO:+0100
TZNAME:CET
END:STANDARD
END:VTIMEZONE
END:VCALENDAR