BEGIN:VCALENDAR
VERSION:2.0
PRODID:-//wp-events-plugin.com//7.2.3.1//EN
TZID:Europe/Ljubljana
X-WR-TIMEZONE:Europe/Ljubljana
BEGIN:VEVENT
UID:76@kjuc.si
DTSTART;TZID=Europe/Ljubljana:20150420T180000
DTEND;TZID=Europe/Ljubljana:20150420T190000
DTSTAMP:20250331T094738Z
URL:https://www.kjuc.si/dogodki/pravljicna-urica-z-ustvarjalnico-za-otroke
 -od-4-leta-dalje/
SUMMARY:Pravljična urica z ustvarjalnico za otroke od 4. leta dalje
DESCRIPTION: \n\n&nbsp\;\n\nProsimo\, da otroka prijavite na tel. št. 01 7
 057 566 (Stari trg) ali 01 7091 078 (Cerknica).\n\n[gallery ids="eyJ1cmwiO
 iJodHRwczpcL1wvd3d3LmtqdWMuc2lcL3dwLWNvbnRlbnRcL3VwbG9hZHNcLzIwMTVcLzA2XC8
 4NTlfOS5qcGciLCJ0aXRsZSI6Ijg1OV85IiwiY2FwdGlvbiI6IiIsImFsdCI6IiIsImRlc2Nya
 XB0aW9uIjoiIn0=\,eyJ1cmwiOiJodHRwczpcL1wvd3d3LmtqdWMuc2lcL3dwLWNvbnRlbnRcL
 3VwbG9hZHNcLzIwMTVcLzA2XC84NTlfMy5qcGciLCJ0aXRsZSI6Ijg1OV8zIiwiY2FwdGlvbiI
 6IiIsImFsdCI6IiIsImRlc2NyaXB0aW9uIjoiIn0=\,eyJ1cmwiOiJodHRwczpcL1wvd3d3Lmt
 qdWMuc2lcL3dwLWNvbnRlbnRcL3VwbG9hZHNcLzIwMTVcLzA2XC84NTlfNC5qcGciLCJ0aXRsZ
 SI6Ijg1OV80IiwiY2FwdGlvbiI6IiIsImFsdCI6IiIsImRlc2NyaXB0aW9uIjoiIn0=\,eyJ1c
 mwiOiJodHRwczpcL1wvd3d3LmtqdWMuc2lcL3dwLWNvbnRlbnRcL3VwbG9hZHNcLzIwMTVcLzA
 2XC84NTlfNS5qcGciLCJ0aXRsZSI6Ijg1OV81IiwiY2FwdGlvbiI6IiIsImFsdCI6IiIsImRlc
 2NyaXB0aW9uIjoiIn0=\,eyJ1cmwiOiJodHRwczpcL1wvd3d3LmtqdWMuc2lcL3dwLWNvbnRlb
 nRcL3VwbG9hZHNcLzIwMTVcLzA2XC84NTlfNi5qcGciLCJ0aXRsZSI6Ijg1OV82IiwiY2FwdGl
 vbiI6IiIsImFsdCI6IiIsImRlc2NyaXB0aW9uIjoiIn0=\,eyJ1cmwiOiJodHRwczpcL1wvd3d
 3LmtqdWMuc2lcL3dwLWNvbnRlbnRcL3VwbG9hZHNcLzIwMTVcLzA2XC84NTlfNy5qcGciLCJ0a
 XRsZSI6Ijg1OV83IiwiY2FwdGlvbiI6IiIsImFsdCI6IiIsImRlc2NyaXB0aW9uIjoiIn0=\,e
 yJ1cmwiOiJodHRwczpcL1wvd3d3LmtqdWMuc2lcL3dwLWNvbnRlbnRcL3VwbG9hZHNcLzIwMTV
 cLzA2XC84NTlfOC5qcGciLCJ0aXRsZSI6Ijg1OV84IiwiY2FwdGlvbiI6IiIsImFsdCI6IiIsI
 mRlc2NyaXB0aW9uIjoiIn0="]\n\nvabilo: st_pravljicna_apr2015
ATTACH;FMTTYPE=image/jpeg:https://www.kjuc.si/wp-content/uploads/2025/03/8
 59_1.jpg
CATEGORIES:Za otroke
LOCATION:Enota Maričke Žnidaršič Stari trg\, Cesta Notranjskega odreda 
 32\, Stari trg pri Ložu\, Slovenia
GEO:45.712702;14.472784
X-APPLE-STRUCTURED-LOCATION;VALUE=URI;X-ADDRESS=Cesta Notranjskega odreda 3
 2\, Stari trg pri Ložu\, Slovenia;X-APPLE-RADIUS=100;X-TITLE=Enota Marič
 ke Žnidaršič Stari trg:geo:45.712702,14.472784
END:VEVENT
BEGIN:VTIMEZONE
TZID:Europe/Ljubljana
X-LIC-LOCATION:Europe/Ljubljana
BEGIN:DAYLIGHT
DTSTART:20150329T030000
TZOFFSETFROM:+0100
TZOFFSETTO:+0200
TZNAME:CEST
END:DAYLIGHT
END:VTIMEZONE
END:VCALENDAR