BEGIN:VCALENDAR
VERSION:2.0
PRODID:-//wp-events-plugin.com//7.2.3.1//EN
TZID:Europe/Ljubljana
X-WR-TIMEZONE:Europe/Ljubljana
BEGIN:VEVENT
UID:1315@kjuc.si
DTSTART;TZID=Europe/Ljubljana:20220919T170000
DTEND;TZID=Europe/Ljubljana:20220919T180000
DTSTAMP:20250331T103953Z
URL:https://www.kjuc.si/dogodki/pravljicna-urica-z-ustvarjalno-delavnico-r
 akek-9/
SUMMARY:Pravljična urica z ustvarjalno delavnico v knjižnici na Rakeku
DESCRIPTION:\n\nvabilo_sep22\n\n[gallery link="none" size="full" ids="eyJ1c
 mwiOiJodHRwczpcL1wvd3d3LmtqdWMuc2lcL3dwLWNvbnRlbnRcL3VwbG9hZHNcLzIwMjJcLzA
 5XC8yMDIyMDkxOV8xNzQ4MTguanBnIiwidGl0bGUiOiIyMDIyMDkxOV8xNzQ4MTgiLCJjYXB0a
 W9uIjoiIiwiYWx0IjoiIiwiZGVzY3JpcHRpb24iOiIifQ==\,eyJ1cmwiOiJodHRwczpcL1wvd
 3d3LmtqdWMuc2lcL3dwLWNvbnRlbnRcL3VwbG9hZHNcLzIwMjJcLzA5XC8yMDIyMDkxOV8xNzQ
 5MDIuanBnIiwidGl0bGUiOiIyMDIyMDkxOV8xNzQ5MDIiLCJjYXB0aW9uIjoiIiwiYWx0IjoiI
 iwiZGVzY3JpcHRpb24iOiIifQ==\,eyJ1cmwiOiJodHRwczpcL1wvd3d3LmtqdWMuc2lcL3dwL
 WNvbnRlbnRcL3VwbG9hZHNcLzIwMjJcLzA5XC8yMDIyMDkxOV8xNzQ5MDcuanBnIiwidGl0bGU
 iOiIyMDIyMDkxOV8xNzQ5MDciLCJjYXB0aW9uIjoiIiwiYWx0IjoiIiwiZGVzY3JpcHRpb24iO
 iIifQ==\,eyJ1cmwiOiJodHRwczpcL1wvd3d3LmtqdWMuc2lcL3dwLWNvbnRlbnRcL3VwbG9hZ
 HNcLzIwMjJcLzA5XC8yMDIyMDkxOV8xNzQ5MTAuanBnIiwidGl0bGUiOiIyMDIyMDkxOV8xNzQ
 5MTAiLCJjYXB0aW9uIjoiIiwiYWx0IjoiIiwiZGVzY3JpcHRpb24iOiIifQ==\,eyJ1cmwiOiJ
 odHRwczpcL1wvd3d3LmtqdWMuc2lcL3dwLWNvbnRlbnRcL3VwbG9hZHNcLzIwMjJcLzA5XC8yM
 DIyMDkxOV8xNzQ5MTkuanBnIiwidGl0bGUiOiIyMDIyMDkxOV8xNzQ5MTkiLCJjYXB0aW9uIjo
 iIiwiYWx0IjoiIiwiZGVzY3JpcHRpb24iOiIifQ==\,eyJ1cmwiOiJodHRwczpcL1wvd3d3Lmt
 qdWMuc2lcL3dwLWNvbnRlbnRcL3VwbG9hZHNcLzIwMjJcLzA5XC8yMDIyMDkxOV8xNzUwNDIua
 nBnIiwidGl0bGUiOiIyMDIyMDkxOV8xNzUwNDIiLCJjYXB0aW9uIjoiIiwiYWx0IjoiIiwiZGV
 zY3JpcHRpb24iOiIifQ=="]
ATTACH;FMTTYPE=image/jpeg:https://www.kjuc.si/wp-content/uploads/2025/03/v
 abilo_sep22-page-001.jpg
CATEGORIES:Razno,Za otroke
LOCATION:Enota Ivana Matičiča Rakek\, Partizanska cesta 8a\, Rakek\, Slov
 enia
GEO:45.8127;14.319238
X-APPLE-STRUCTURED-LOCATION;VALUE=URI;X-ADDRESS=Partizanska cesta 8a\, Rake
 k\, Slovenia;X-APPLE-RADIUS=100;X-TITLE=Enota Ivana Matičiča Rakek:geo:4
 5.8127,14.319238
END:VEVENT
BEGIN:VTIMEZONE
TZID:Europe/Ljubljana
X-LIC-LOCATION:Europe/Ljubljana
BEGIN:DAYLIGHT
DTSTART:20220327T030000
TZOFFSETFROM:+0100
TZOFFSETTO:+0200
TZNAME:CEST
END:DAYLIGHT
END:VTIMEZONE
END:VCALENDAR