BEGIN:VCALENDAR
VERSION:2.0
PRODID:-//wp-events-plugin.com//7.2.3.1//EN
TZID:Europe/Ljubljana
X-WR-TIMEZONE:Europe/Ljubljana
BEGIN:VEVENT
UID:1364@kjuc.si
DTSTART;TZID=Europe/Ljubljana:20221114T170000
DTEND;TZID=Europe/Ljubljana:20221114T180000
DTSTAMP:20250331T104042Z
URL:https://www.kjuc.si/dogodki/pravljicna-urica-z-ustvarjalno-delavnico-v
 -knjiznici-na-rakeku-2/
SUMMARY:Pravljična urica z ustvarjalno delavnico v knjižnici na Rakeku
DESCRIPTION:\n\nVabilo\n\n[gallery link="none" size="full" ids="eyJ1cmwiOiJ
 odHRwczpcL1wvd3d3LmtqdWMuc2lcL3dwLWNvbnRlbnRcL3VwbG9hZHNcLzIwMjJcLzExXC8yM
 DIyMTExNF8xNzI1MDEuanBnIiwidGl0bGUiOiIyMDIyMTExNF8xNzI1MDEiLCJjYXB0aW9uIjo
 iIiwiYWx0IjoiIiwiZGVzY3JpcHRpb24iOiIifQ==\,eyJ1cmwiOiJodHRwczpcL1wvd3d3Lmt
 qdWMuc2lcL3dwLWNvbnRlbnRcL3VwbG9hZHNcLzIwMjJcLzExXC8yMDIyMTExNF8xNzI0NTAua
 nBnIiwidGl0bGUiOiIyMDIyMTExNF8xNzI0NTAiLCJjYXB0aW9uIjoiIiwiYWx0IjoiIiwiZGV
 zY3JpcHRpb24iOiIifQ==\,eyJ1cmwiOiJodHRwczpcL1wvd3d3LmtqdWMuc2lcL3dwLWNvbnR
 lbnRcL3VwbG9hZHNcLzIwMjJcLzExXC8yMDIyMTExNF8xNzU4MjUuanBnIiwidGl0bGUiOiIyM
 DIyMTExNF8xNzU4MjUiLCJjYXB0aW9uIjoiIiwiYWx0IjoiIiwiZGVzY3JpcHRpb24iOiIifQ=
 =\,eyJ1cmwiOiJodHRwczpcL1wvd3d3LmtqdWMuc2lcL3dwLWNvbnRlbnRcL3VwbG9hZHNcLzI
 wMjJcLzExXC8yMDIyMTExNF8xNzU3MjIuanBnIiwidGl0bGUiOiIyMDIyMTExNF8xNzU3MjIiL
 CJjYXB0aW9uIjoiIiwiYWx0IjoiIiwiZGVzY3JpcHRpb24iOiIifQ==\,eyJ1cmwiOiJodHRwc
 zpcL1wvd3d3LmtqdWMuc2lcL3dwLWNvbnRlbnRcL3VwbG9hZHNcLzIwMjJcLzExXC8yMDIyMTE
 xNF8xNzU5NTEuanBnIiwidGl0bGUiOiIyMDIyMTExNF8xNzU5NTEiLCJjYXB0aW9uIjoiIiwiY
 Wx0IjoiIiwiZGVzY3JpcHRpb24iOiIifQ=="]
ATTACH;FMTTYPE=image/jpeg:https://www.kjuc.si/wp-content/uploads/2025/03/R
 vabilo_nov22-page-001.jpg
CATEGORIES:Razno,Za otroke
LOCATION:Enota Ivana Matičiča Rakek\, Partizanska cesta 8a\, Rakek\, Slov
 enia
GEO:45.8127;14.319238
X-APPLE-STRUCTURED-LOCATION;VALUE=URI;X-ADDRESS=Partizanska cesta 8a\, Rake
 k\, Slovenia;X-APPLE-RADIUS=100;X-TITLE=Enota Ivana Matičiča Rakek:geo:4
 5.8127,14.319238
END:VEVENT
BEGIN:VTIMEZONE
TZID:Europe/Ljubljana
X-LIC-LOCATION:Europe/Ljubljana
BEGIN:STANDARD
DTSTART:20221030T020000
TZOFFSETFROM:+0200
TZOFFSETTO:+0100
TZNAME:CET
END:STANDARD
END:VTIMEZONE
END:VCALENDAR