BEGIN:VCALENDAR
VERSION:2.0
PRODID:-//wp-events-plugin.com//7.2.3.1//EN
TZID:Europe/Ljubljana
X-WR-TIMEZONE:Europe/Ljubljana
BEGIN:VEVENT
UID:38@kjuc.si
DTSTART;TZID=Europe/Ljubljana:20150216T160000
DTEND;TZID=Europe/Ljubljana:20150216T180000
DTSTAMP:20250331T094603Z
URL:https://www.kjuc.si/dogodki/pravljicna-urica-z-ustvarjalno-delavnico-z
 a-otroke-od-4-leta-dalje-2/
SUMMARY:Pravljična urica z ustvarjalno delavnico za otroke od 4. leta dalj
 e
DESCRIPTION:  \n\n&nbsp\;\n\n[gallery ids="eyJ1cmwiOiJodHRwczpcL1wvd3d3Lmtq
 dWMuc2lcL3dwLWNvbnRlbnRcL3VwbG9hZHNcLzIwMTVcLzA2XC84MTRfNC5qcGciLCJ0aXRsZS
 I6IjgxNF80IiwiY2FwdGlvbiI6IiIsImFsdCI6IiIsImRlc2NyaXB0aW9uIjoiIn0=\,eyJ1cm
 wiOiJodHRwczpcL1wvd3d3LmtqdWMuc2lcL3dwLWNvbnRlbnRcL3VwbG9hZHNcLzIwMTVcLzA2
 XC84MTRfMTAuanBnIiwidGl0bGUiOiI4MTRfMTAiLCJjYXB0aW9uIjoiIiwiYWx0IjoiIiwiZG
 VzY3JpcHRpb24iOiIifQ==\,eyJ1cmwiOiJodHRwczpcL1wvd3d3LmtqdWMuc2lcL3dwLWNvbn
 RlbnRcL3VwbG9hZHNcLzIwMTVcLzA2XC84MTRfOS5qcGciLCJ0aXRsZSI6IjgxNF85IiwiY2Fw
 dGlvbiI6IiIsImFsdCI6IiIsImRlc2NyaXB0aW9uIjoiIn0=\,eyJ1cmwiOiJodHRwczpcL1wv
 d3d3LmtqdWMuc2lcL3dwLWNvbnRlbnRcL3VwbG9hZHNcLzIwMTVcLzA2XC84MTRfOC5qcGciLC
 J0aXRsZSI6IjgxNF84IiwiY2FwdGlvbiI6IiIsImFsdCI6IiIsImRlc2NyaXB0aW9uIjoiIn0=
 \,eyJ1cmwiOiJodHRwczpcL1wvd3d3LmtqdWMuc2lcL3dwLWNvbnRlbnRcL3VwbG9hZHNcLzIw
 MTVcLzA2XC84MTRfNy5qcGciLCJ0aXRsZSI6IjgxNF83IiwiY2FwdGlvbiI6IiIsImFsdCI6Ii
 IsImRlc2NyaXB0aW9uIjoiIn0=\,eyJ1cmwiOiJodHRwczpcL1wvd3d3LmtqdWMuc2lcL3dwLW
 NvbnRlbnRcL3VwbG9hZHNcLzIwMTVcLzA2XC84MTRfNi5qcGciLCJ0aXRsZSI6IjgxNF82Iiwi
 Y2FwdGlvbiI6IiIsImFsdCI6IiIsImRlc2NyaXB0aW9uIjoiIn0=\,eyJ1cmwiOiJodHRwczpc
 L1wvd3d3LmtqdWMuc2lcL3dwLWNvbnRlbnRcL3VwbG9hZHNcLzIwMTVcLzA2XC84MTRfNS5qcG
 ciLCJ0aXRsZSI6IjgxNF81IiwiY2FwdGlvbiI6IiIsImFsdCI6IiIsImRlc2NyaXB0aW9uIjoi
 In0="]\n\nvabilo: r_pravljicna_feb15
ATTACH;FMTTYPE=image/jpeg:https://www.kjuc.si/wp-content/uploads/2025/03/8
 14_1.jpg
CATEGORIES:Za otroke
LOCATION:Enota Ivana Matičiča Rakek\, Partizanska cesta 8a\, Rakek\, Slov
 enia
GEO:45.8127;14.319238
X-APPLE-STRUCTURED-LOCATION;VALUE=URI;X-ADDRESS=Partizanska cesta 8a\, Rake
 k\, Slovenia;X-APPLE-RADIUS=100;X-TITLE=Enota Ivana Matičiča Rakek:geo:4
 5.8127,14.319238
END:VEVENT
BEGIN:VTIMEZONE
TZID:Europe/Ljubljana
X-LIC-LOCATION:Europe/Ljubljana
BEGIN:STANDARD
DTSTART:20141026T020000
TZOFFSETFROM:+0200
TZOFFSETTO:+0100
TZNAME:CET
END:STANDARD
END:VTIMEZONE
END:VCALENDAR