BEGIN:VCALENDAR
VERSION:2.0
PRODID:-//wp-events-plugin.com//7.2.3.1//EN
TZID:Europe/Ljubljana
X-WR-TIMEZONE:Europe/Ljubljana
BEGIN:VEVENT
UID:186@kjuc.si
DTSTART;TZID=Europe/Ljubljana:20160202T170000
DTEND;TZID=Europe/Ljubljana:20160202T180000
DTSTAMP:20250331T095316Z
URL:https://www.kjuc.si/dogodki/pravljicna-urica-z-ustvarjalno-delavnico-z
 a-otroke-od-4-leta-dalje-20/
SUMMARY:Pravljična urica z ustvarjalno delavnico za otroke od 4. leta dalj
 e
DESCRIPTION:Prosimo\, da otroka prijavite na tel. št. 01 7051481 (Rakek) a
 li 01 7091078 (Cerknica).\n\nVabljeni!\n\nVabilo\n\n       
ATTACH;FMTTYPE=image/jpeg:https://www.kjuc.si/wp-content/uploads/2025/03/R
 -pravljicna-feb-2016-2.jpg
CATEGORIES:Prireditev,Za otroke
LOCATION:Enota Ivana Matičiča Rakek\, Partizanska cesta 8a\, Rakek\, Slov
 enia
GEO:45.8127;14.319238
X-APPLE-STRUCTURED-LOCATION;VALUE=URI;X-ADDRESS=Partizanska cesta 8a\, Rake
 k\, Slovenia;X-APPLE-RADIUS=100;X-TITLE=Enota Ivana Matičiča Rakek:geo:4
 5.8127,14.319238
END:VEVENT
BEGIN:VTIMEZONE
TZID:Europe/Ljubljana
X-LIC-LOCATION:Europe/Ljubljana
BEGIN:STANDARD
DTSTART:20151025T020000
TZOFFSETFROM:+0200
TZOFFSETTO:+0100
TZNAME:CET
END:STANDARD
END:VTIMEZONE
END:VCALENDAR