BEGIN:VCALENDAR
VERSION:2.0
PRODID:-//wp-events-plugin.com//7.2.3.1//EN
TZID:Europe/Ljubljana
X-WR-TIMEZONE:Europe/Ljubljana
BEGIN:VEVENT
UID:1220@kjuc.si
DTSTART;TZID=Europe/Ljubljana:20220316T170000
DTEND;TZID=Europe/Ljubljana:20220316T190000
DTSTAMP:20250331T103753Z
URL:https://www.kjuc.si/dogodki/pravljicna-urica-z-ustvarjalno-delavnico-z
 a-otroke-od-4-leta-dalje-66/
SUMMARY:Pravljična urica z ustvarjalno delavnico za otroke od 4. leta dalj
 e
DESCRIPTION:\n\nVabilo
ATTACH;FMTTYPE=image/jpeg:https://www.kjuc.si/wp-content/uploads/2025/03/p
 ravljicnaNV-692x1024-1.jpg
CATEGORIES:Za otroke
LOCATION:Enota Ivana Čampa Nova vas\, Nova vas 4a\, Nova vas\, Slovenia
GEO:45.363149;13.640599
X-APPLE-STRUCTURED-LOCATION;VALUE=URI;X-ADDRESS=Nova vas 4a\, Nova vas\, Sl
 ovenia;X-APPLE-RADIUS=100;X-TITLE=Enota Ivana Čampa Nova vas:geo:45.36314
 9,13.640599
END:VEVENT
BEGIN:VTIMEZONE
TZID:Europe/Ljubljana
X-LIC-LOCATION:Europe/Ljubljana
BEGIN:STANDARD
DTSTART:20211031T020000
TZOFFSETFROM:+0200
TZOFFSETTO:+0100
TZNAME:CET
END:STANDARD
END:VTIMEZONE
END:VCALENDAR