BEGIN:VCALENDAR
VERSION:2.0
PRODID:-//wp-events-plugin.com//7.2.3.1//EN
TZID:Europe/Ljubljana
X-WR-TIMEZONE:Europe/Ljubljana
BEGIN:VEVENT
UID:446@kjuc.si
DTSTART;TZID=Europe/Ljubljana:20170412T180000
DTEND;TZID=Europe/Ljubljana:20170412T190000
DTSTAMP:20250331T100840Z
URL:https://www.kjuc.si/dogodki/pravljicna-urica-z-ustvarjalno-delavnico-z
 a-otroke-od-4-leta-dalje-enota-rakek-3/
SUMMARY:Pravljična urica z ustvarjalno delavnico za otroke od 4. leta dalj
 e – enota Rakek
DESCRIPTION:\n\n[gallery link="none" columns="2" size="full" ids="eyJ1cmwiO
 iJodHRwczpcL1wvd3d3LmtqdWMuc2lcL3dwLWNvbnRlbnRcL3VwbG9hZHNcLzIwMTdcLzA0XC8
 yMDE3MDQxMl8xODE0NTQuanBnIiwidGl0bGUiOiIyMDE3MDQxMl8xODE0NTQiLCJjYXB0aW9uI
 joiIiwiYWx0IjoiIiwiZGVzY3JpcHRpb24iOiIifQ==\,eyJ1cmwiOiJodHRwczpcL1wvd3d3L
 mtqdWMuc2lcL3dwLWNvbnRlbnRcL3VwbG9hZHNcLzIwMTdcLzA0XC8yMDE3MDQxMl8xODE1MDA
 uanBnIiwidGl0bGUiOiIyMDE3MDQxMl8xODE1MDAiLCJjYXB0aW9uIjoiIiwiYWx0IjoiIiwiZ
 GVzY3JpcHRpb24iOiIifQ==\,eyJ1cmwiOiJodHRwczpcL1wvd3d3LmtqdWMuc2lcL3dwLWNvb
 nRlbnRcL3VwbG9hZHNcLzIwMTdcLzA0XC8yMDE3MDQxMl8xODQ2MzkuanBnIiwidGl0bGUiOiI
 yMDE3MDQxMl8xODQ2MzkiLCJjYXB0aW9uIjoiIiwiYWx0IjoiIiwiZGVzY3JpcHRpb24iOiIif
 Q==\,eyJ1cmwiOiJodHRwczpcL1wvd3d3LmtqdWMuc2lcL3dwLWNvbnRlbnRcL3VwbG9hZHNcL
 zIwMTdcLzA0XC8yMDE3MDQxMl8xOTA1MDguanBnIiwidGl0bGUiOiIyMDE3MDQxMl8xOTA1MDg
 iLCJjYXB0aW9uIjoiIiwiYWx0IjoiIiwiZGVzY3JpcHRpb24iOiIifQ==\,eyJ1cmwiOiJodHR
 wczpcL1wvd3d3LmtqdWMuc2lcL3dwLWNvbnRlbnRcL3VwbG9hZHNcLzIwMTdcLzA0XC8yMDE3M
 DQxMl8xOTEzMDcuanBnIiwidGl0bGUiOiIyMDE3MDQxMl8xOTEzMDciLCJjYXB0aW9uIjoiIiw
 iYWx0IjoiIiwiZGVzY3JpcHRpb24iOiIifQ==\,eyJ1cmwiOiJodHRwczpcL1wvd3d3LmtqdWM
 uc2lcL3dwLWNvbnRlbnRcL3VwbG9hZHNcLzIwMTdcLzA0XC8yMDE3MDQxMl8xOTEzMzQuanBnI
 iwidGl0bGUiOiIyMDE3MDQxMl8xOTEzMzQiLCJjYXB0aW9uIjoiIiwiYWx0IjoiIiwiZGVzY3J
 pcHRpb24iOiIifQ=="]
ATTACH;FMTTYPE=image/jpeg:https://www.kjuc.si/wp-content/uploads/2025/03/e
 aster_girl.jpg
CATEGORIES:Za otroke
LOCATION:Enota Ivana Matičiča Rakek\, Partizanska cesta 8a\, Rakek\, Slov
 enia
GEO:45.8127;14.319238
X-APPLE-STRUCTURED-LOCATION;VALUE=URI;X-ADDRESS=Partizanska cesta 8a\, Rake
 k\, Slovenia;X-APPLE-RADIUS=100;X-TITLE=Enota Ivana Matičiča Rakek:geo:4
 5.8127,14.319238
END:VEVENT
BEGIN:VTIMEZONE
TZID:Europe/Ljubljana
X-LIC-LOCATION:Europe/Ljubljana
BEGIN:DAYLIGHT
DTSTART:20170326T030000
TZOFFSETFROM:+0100
TZOFFSETTO:+0200
TZNAME:CEST
END:DAYLIGHT
END:VTIMEZONE
END:VCALENDAR