BEGIN:VCALENDAR
VERSION:2.0
PRODID:-//wp-events-plugin.com//7.2.3.1//EN
TZID:Europe/Ljubljana
X-WR-TIMEZONE:Europe/Ljubljana
BEGIN:VEVENT
UID:482@kjuc.si
DTSTART;TZID=Europe/Ljubljana:20170607T180000
DTEND;TZID=Europe/Ljubljana:20170607T190000
DTSTAMP:20250331T101001Z
URL:https://www.kjuc.si/dogodki/pravljicna-urica-z-ustvarjalno-delavnico-z
 a-otroke-od-4-leta-dalje-enota-rakek-7/
SUMMARY:Pravljična urica z ustvarjalno delavnico za otroke od 4. leta dalj
 e – enota Rakek
DESCRIPTION:\n\n[gallery link="file" size="medium" ids="eyJ1cmwiOiJodHRwczp
 cL1wvd3d3LmtqdWMuc2lcL3dwLWNvbnRlbnRcL3VwbG9hZHNcLzIwMTdcLzA1XC8yMDE3MDYwN
 18xODEzMTcuanBnIiwidGl0bGUiOiIyMDE3MDYwN18xODEzMTciLCJjYXB0aW9uIjoiIiwiYWx
 0IjoiIiwiZGVzY3JpcHRpb24iOiIifQ==\,eyJ1cmwiOiJodHRwczpcL1wvd3d3LmtqdWMuc2l
 cL3dwLWNvbnRlbnRcL3VwbG9hZHNcLzIwMTdcLzA1XC8yMDE3MDYwN18xODQ4MjMuanBnIiwid
 Gl0bGUiOiIyMDE3MDYwN18xODQ4MjMiLCJjYXB0aW9uIjoiIiwiYWx0IjoiIiwiZGVzY3JpcHR
 pb24iOiIifQ==\,eyJ1cmwiOiJodHRwczpcL1wvd3d3LmtqdWMuc2lcL3dwLWNvbnRlbnRcL3V
 wbG9hZHNcLzIwMTdcLzA1XC8yMDE3MDYwN18xODUyMDUuanBnIiwidGl0bGUiOiIyMDE3MDYwN
 18xODUyMDUiLCJjYXB0aW9uIjoiIiwiYWx0IjoiIiwiZGVzY3JpcHRpb24iOiIifQ==\,eyJ1c
 mwiOiJodHRwczpcL1wvd3d3LmtqdWMuc2lcL3dwLWNvbnRlbnRcL3VwbG9hZHNcLzIwMTdcLzA
 1XC8yMDE3MDYwN18xODU0MTIuanBnIiwidGl0bGUiOiIyMDE3MDYwN18xODU0MTIiLCJjYXB0a
 W9uIjoiIiwiYWx0IjoiIiwiZGVzY3JpcHRpb24iOiIifQ==\,eyJ1cmwiOiJodHRwczpcL1wvd
 3d3LmtqdWMuc2lcL3dwLWNvbnRlbnRcL3VwbG9hZHNcLzIwMTdcLzA1XC8yMDE3MDYwN18xODU
 1NTIuanBnIiwidGl0bGUiOiIyMDE3MDYwN18xODU1NTIiLCJjYXB0aW9uIjoiIiwiYWx0IjoiI
 iwiZGVzY3JpcHRpb24iOiIifQ==\,eyJ1cmwiOiJodHRwczpcL1wvd3d3LmtqdWMuc2lcL3dwL
 WNvbnRlbnRcL3VwbG9hZHNcLzIwMTdcLzA1XC8yMDE3MDYwN18xOTExNTMuanBnIiwidGl0bGU
 iOiIyMDE3MDYwN18xOTExNTMiLCJjYXB0aW9uIjoiIiwiYWx0IjoiIiwiZGVzY3JpcHRpb24iO
 iIifQ=="]
ATTACH;FMTTYPE=image/jpeg:https://www.kjuc.si/wp-content/uploads/2025/03/b
 azencek.jpg
CATEGORIES:Za otroke
LOCATION:Enota Ivana Matičiča Rakek\, Partizanska cesta 8a\, Rakek\, Slov
 enia
GEO:45.8127;14.319238
X-APPLE-STRUCTURED-LOCATION;VALUE=URI;X-ADDRESS=Partizanska cesta 8a\, Rake
 k\, Slovenia;X-APPLE-RADIUS=100;X-TITLE=Enota Ivana Matičiča Rakek:geo:4
 5.8127,14.319238
END:VEVENT
BEGIN:VTIMEZONE
TZID:Europe/Ljubljana
X-LIC-LOCATION:Europe/Ljubljana
BEGIN:DAYLIGHT
DTSTART:20170326T030000
TZOFFSETFROM:+0100
TZOFFSETTO:+0200
TZNAME:CEST
END:DAYLIGHT
END:VTIMEZONE
END:VCALENDAR