BEGIN:VCALENDAR
VERSION:2.0
PRODID:-//wp-events-plugin.com//7.2.3.1//EN
TZID:Europe/Ljubljana
X-WR-TIMEZONE:Europe/Ljubljana
BEGIN:VEVENT
UID:666@kjuc.si
DTSTART;TZID=Europe/Ljubljana:20180604T170000
DTEND;TZID=Europe/Ljubljana:20180604T180000
DTSTAMP:20250331T102935Z
URL:https://www.kjuc.si/dogodki/pravljicna-urica-z-ustvarjalno-delavnico-z
 a-otroke-od-4-leta-dalje-rakek-15/
SUMMARY:Pravljična urica z ustvarjalno delavnico za otroke od 4. leta dalj
 e – Rakek
DESCRIPTION:\n\nVabilo\n\n[gallery link="file" columns="2" size="full" ids=
 "eyJ1cmwiOiJodHRwczpcL1wvd3d3LmtqdWMuc2lcL3dwLWNvbnRlbnRcL3VwbG9hZHNcLzIwM
 ThcLzA1XC8yMDE4MDYwNF8xNzExNDUuanBnIiwidGl0bGUiOiIyMDE4MDYwNF8xNzExNDUiLCJ
 jYXB0aW9uIjoiIiwiYWx0IjoiIiwiZGVzY3JpcHRpb24iOiIifQ==\,eyJ1cmwiOiJodHRwczp
 cL1wvd3d3LmtqdWMuc2lcL3dwLWNvbnRlbnRcL3VwbG9hZHNcLzIwMThcLzA1XC8yMDE4MDYwN
 F8xNzQ4MzMuanBnIiwidGl0bGUiOiIyMDE4MDYwNF8xNzQ4MzMiLCJjYXB0aW9uIjoiIiwiYWx
 0IjoiIiwiZGVzY3JpcHRpb24iOiIifQ==\,eyJ1cmwiOiJodHRwczpcL1wvd3d3LmtqdWMuc2l
 cL3dwLWNvbnRlbnRcL3VwbG9hZHNcLzIwMThcLzA1XC8yMDE4MDYwNF8xNzQ4NDQuanBnIiwid
 Gl0bGUiOiIyMDE4MDYwNF8xNzQ4NDQiLCJjYXB0aW9uIjoiIiwiYWx0IjoiIiwiZGVzY3JpcHR
 pb24iOiIifQ==\,eyJ1cmwiOiJodHRwczpcL1wvd3d3LmtqdWMuc2lcL3dwLWNvbnRlbnRcL3V
 wbG9hZHNcLzIwMThcLzA1XC8yMDE4MDYwNF8xNzQ4NTAuanBnIiwidGl0bGUiOiIyMDE4MDYwN
 F8xNzQ4NTAiLCJjYXB0aW9uIjoiIiwiYWx0IjoiIiwiZGVzY3JpcHRpb24iOiIifQ==\,eyJ1c
 mwiOiJodHRwczpcL1wvd3d3LmtqdWMuc2lcL3dwLWNvbnRlbnRcL3VwbG9hZHNcLzIwMThcLzA
 1XC8yMDE4MDYwNF8xNzQ4NTcuanBnIiwidGl0bGUiOiIyMDE4MDYwNF8xNzQ4NTciLCJjYXB0a
 W9uIjoiIiwiYWx0IjoiIiwiZGVzY3JpcHRpb24iOiIifQ==\,eyJ1cmwiOiJodHRwczpcL1wvd
 3d3LmtqdWMuc2lcL3dwLWNvbnRlbnRcL3VwbG9hZHNcLzIwMThcLzA1XC8yMDE4MDYwNF8xNzU
 1MjMuanBnIiwidGl0bGUiOiIyMDE4MDYwNF8xNzU1MjMiLCJjYXB0aW9uIjoiIiwiYWx0IjoiI
 iwiZGVzY3JpcHRpb24iOiIifQ==\,eyJ1cmwiOiJodHRwczpcL1wvd3d3LmtqdWMuc2lcL3dwL
 WNvbnRlbnRcL3VwbG9hZHNcLzIwMThcLzA1XC8yMDE4MDYwNF8xODAxMzIuanBnIiwidGl0bGU
 iOiIyMDE4MDYwNF8xODAxMzIiLCJjYXB0aW9uIjoiIiwiYWx0IjoiIiwiZGVzY3JpcHRpb24iO
 iIifQ=="]
ATTACH;FMTTYPE=image/jpeg:https://www.kjuc.si/wp-content/uploads/2025/03/c
 over-6-10.jpg
CATEGORIES:Za otroke
LOCATION:Enota Ivana Matičiča Rakek\, Partizanska cesta 8a\, Rakek\, Slov
 enia
GEO:45.8127;14.319238
X-APPLE-STRUCTURED-LOCATION;VALUE=URI;X-ADDRESS=Partizanska cesta 8a\, Rake
 k\, Slovenia;X-APPLE-RADIUS=100;X-TITLE=Enota Ivana Matičiča Rakek:geo:4
 5.8127,14.319238
END:VEVENT
BEGIN:VTIMEZONE
TZID:Europe/Ljubljana
X-LIC-LOCATION:Europe/Ljubljana
BEGIN:DAYLIGHT
DTSTART:20180325T030000
TZOFFSETFROM:+0100
TZOFFSETTO:+0200
TZNAME:CEST
END:DAYLIGHT
END:VTIMEZONE
END:VCALENDAR