BEGIN:VCALENDAR
VERSION:2.0
PRODID:-//wp-events-plugin.com//7.2.3.1//EN
TZID:Europe/Ljubljana
X-WR-TIMEZONE:Europe/Ljubljana
BEGIN:VEVENT
UID:903@kjuc.si
DTSTART;TZID=Europe/Ljubljana:20190924T170000
DTEND;TZID=Europe/Ljubljana:20190924T180000
DTSTAMP:20250331T103416Z
URL:https://www.kjuc.si/dogodki/pravljicna-urica-z-ustvarjalno-delavnico-z
 a-otroke-od-4-leta-dalje-rakek-38/
SUMMARY:Pravljična urica z ustvarjalno delavnico za otroke od 4. leta dalj
 e – Rakek
DESCRIPTION:\n\n[gallery link="file" columns="2" size="full" ids="eyJ1cmwiO
 iJodHRwczpcL1wvd3d3LmtqdWMuc2lcL3dwLWNvbnRlbnRcL3VwbG9hZHNcLzIwMTlcLzA5XC8
 yMDE5MDkyNF8xNzI5NTcuanBnIiwidGl0bGUiOiIyMDE5MDkyNF8xNzI5NTciLCJjYXB0aW9uI
 joiIiwiYWx0IjoiIiwiZGVzY3JpcHRpb24iOiIifQ==\,eyJ1cmwiOiJodHRwczpcL1wvd3d3L
 mtqdWMuc2lcL3dwLWNvbnRlbnRcL3VwbG9hZHNcLzIwMTlcLzA5XC8yMDE5MDkyNF8xNzMyMDI
 uanBnIiwidGl0bGUiOiIyMDE5MDkyNF8xNzMyMDIiLCJjYXB0aW9uIjoiIiwiYWx0IjoiIiwiZ
 GVzY3JpcHRpb24iOiIifQ==\,eyJ1cmwiOiJodHRwczpcL1wvd3d3LmtqdWMuc2lcL3dwLWNvb
 nRlbnRcL3VwbG9hZHNcLzIwMTlcLzA5XC8yMDE5MDkyNF8xNzQ5NTguanBnIiwidGl0bGUiOiI
 yMDE5MDkyNF8xNzQ5NTgiLCJjYXB0aW9uIjoiIiwiYWx0IjoiIiwiZGVzY3JpcHRpb24iOiIif
 Q==\,eyJ1cmwiOiJodHRwczpcL1wvd3d3LmtqdWMuc2lcL3dwLWNvbnRlbnRcL3VwbG9hZHNcL
 zIwMTlcLzA5XC8yMDE5MDkyNF8xNzUwNTMuanBnIiwidGl0bGUiOiIyMDE5MDkyNF8xNzUwNTM
 iLCJjYXB0aW9uIjoiIiwiYWx0IjoiIiwiZGVzY3JpcHRpb24iOiIifQ=="]
ATTACH;FMTTYPE=image/jpeg:https://www.kjuc.si/wp-content/uploads/2025/03/c
 over-3-29.jpg
CATEGORIES:Za otroke
LOCATION:Enota Ivana Matičiča Rakek\, Partizanska cesta 8a\, Rakek\, Slov
 enia
GEO:45.8127;14.319238
X-APPLE-STRUCTURED-LOCATION;VALUE=URI;X-ADDRESS=Partizanska cesta 8a\, Rake
 k\, Slovenia;X-APPLE-RADIUS=100;X-TITLE=Enota Ivana Matičiča Rakek:geo:4
 5.8127,14.319238
END:VEVENT
BEGIN:VTIMEZONE
TZID:Europe/Ljubljana
X-LIC-LOCATION:Europe/Ljubljana
BEGIN:DAYLIGHT
DTSTART:20190331T030000
TZOFFSETFROM:+0100
TZOFFSETTO:+0200
TZNAME:CEST
END:DAYLIGHT
END:VTIMEZONE
END:VCALENDAR