BEGIN:VCALENDAR
VERSION:2.0
PRODID:-//wp-events-plugin.com//7.2.3.1//EN
TZID:Europe/Ljubljana
X-WR-TIMEZONE:Europe/Ljubljana
BEGIN:VEVENT
UID:973@kjuc.si
DTSTART;TZID=Europe/Ljubljana:20191217T170000
DTEND;TZID=Europe/Ljubljana:20191217T180000
DTSTAMP:20250331T103458Z
URL:https://www.kjuc.si/dogodki/pravljicna-urica-z-ustvarjalno-delavnico-z
 a-otroke-od-4-leta-dalje-rakek-44/
SUMMARY:Pravljična urica z ustvarjalno delavnico za otroke od 4. leta dalj
 e – Rakek
DESCRIPTION:\n\n[gallery link="file" size="full" ids="eyJ1cmwiOiJodHRwczpcL
 1wvd3d3LmtqdWMuc2lcL3dwLWNvbnRlbnRcL3VwbG9hZHNcLzIwMTlcLzEyXC8yMDE5MTIxN18
 xNzEwMTEuanBnIiwidGl0bGUiOiIyMDE5MTIxN18xNzEwMTEiLCJjYXB0aW9uIjoiIiwiYWx0I
 joiIiwiZGVzY3JpcHRpb24iOiIifQ==\,eyJ1cmwiOiJodHRwczpcL1wvd3d3LmtqdWMuc2lcL
 3dwLWNvbnRlbnRcL3VwbG9hZHNcLzIwMTlcLzEyXC8yMDE5MTIxN18xNzEwMTMuanBnIiwidGl
 0bGUiOiIyMDE5MTIxN18xNzEwMTMiLCJjYXB0aW9uIjoiIiwiYWx0IjoiIiwiZGVzY3JpcHRpb
 24iOiIifQ==\,eyJ1cmwiOiJodHRwczpcL1wvd3d3LmtqdWMuc2lcL3dwLWNvbnRlbnRcL3Vwb
 G9hZHNcLzIwMTlcLzEyXC8yMDE5MTIxN18xNzEyMzYuanBnIiwidGl0bGUiOiIyMDE5MTIxN18
 xNzEyMzYiLCJjYXB0aW9uIjoiIiwiYWx0IjoiIiwiZGVzY3JpcHRpb24iOiIifQ==\,eyJ1cmw
 iOiJodHRwczpcL1wvd3d3LmtqdWMuc2lcL3dwLWNvbnRlbnRcL3VwbG9hZHNcLzIwMTlcLzEyX
 C8yMDE5MTIxN18xNzEyMzguanBnIiwidGl0bGUiOiIyMDE5MTIxN18xNzEyMzgiLCJjYXB0aW9
 uIjoiIiwiYWx0IjoiIiwiZGVzY3JpcHRpb24iOiIifQ==\,eyJ1cmwiOiJodHRwczpcL1wvd3d
 3LmtqdWMuc2lcL3dwLWNvbnRlbnRcL3VwbG9hZHNcLzIwMTlcLzEyXC8yMDE5MTIxN18xNzQ1M
 jguanBnIiwidGl0bGUiOiIyMDE5MTIxN18xNzQ1MjgiLCJjYXB0aW9uIjoiIiwiYWx0IjoiIiw
 iZGVzY3JpcHRpb24iOiIifQ==\,eyJ1cmwiOiJodHRwczpcL1wvd3d3LmtqdWMuc2lcL3dwLWN
 vbnRlbnRcL3VwbG9hZHNcLzIwMTlcLzEyXC8yMDE5MTIxN18xNzQ1MzMuanBnIiwidGl0bGUiO
 iIyMDE5MTIxN18xNzQ1MzMiLCJjYXB0aW9uIjoiIiwiYWx0IjoiIiwiZGVzY3JpcHRpb24iOiI
 ifQ==\,eyJ1cmwiOiJodHRwczpcL1wvd3d3LmtqdWMuc2lcL3dwLWNvbnRlbnRcL3VwbG9hZHN
 cLzIwMTlcLzEyXC8yMDE5MTIxN18xNzQ1MzcuanBnIiwidGl0bGUiOiIyMDE5MTIxN18xNzQ1M
 zciLCJjYXB0aW9uIjoiIiwiYWx0IjoiIiwiZGVzY3JpcHRpb24iOiIifQ==\,eyJ1cmwiOiJod
 HRwczpcL1wvd3d3LmtqdWMuc2lcL3dwLWNvbnRlbnRcL3VwbG9hZHNcLzIwMTlcLzEyXC8yMDE
 5MTIxN18xNzUyMDMuanBnIiwidGl0bGUiOiIyMDE5MTIxN18xNzUyMDMiLCJjYXB0aW9uIjoiI
 iwiYWx0IjoiIiwiZGVzY3JpcHRpb24iOiIifQ=="]
ATTACH;FMTTYPE=image/jpeg:https://www.kjuc.si/wp-content/uploads/2025/03/c
 over-45.jpg
CATEGORIES:Za otroke
LOCATION:Enota Ivana Matičiča Rakek\, Partizanska cesta 8a\, Rakek\, Slov
 enia
GEO:45.8127;14.319238
X-APPLE-STRUCTURED-LOCATION;VALUE=URI;X-ADDRESS=Partizanska cesta 8a\, Rake
 k\, Slovenia;X-APPLE-RADIUS=100;X-TITLE=Enota Ivana Matičiča Rakek:geo:4
 5.8127,14.319238
END:VEVENT
BEGIN:VTIMEZONE
TZID:Europe/Ljubljana
X-LIC-LOCATION:Europe/Ljubljana
BEGIN:STANDARD
DTSTART:20191027T020000
TZOFFSETFROM:+0200
TZOFFSETTO:+0100
TZNAME:CET
END:STANDARD
END:VTIMEZONE
END:VCALENDAR