BEGIN:VCALENDAR
VERSION:2.0
PRODID:-//wp-events-plugin.com//7.2.3.1//EN
TZID:Europe/Ljubljana
X-WR-TIMEZONE:Europe/Ljubljana
BEGIN:VEVENT
UID:988@kjuc.si
DTSTART;TZID=Europe/Ljubljana:20200121T170000
DTEND;TZID=Europe/Ljubljana:20200121T180000
DTSTAMP:20250331T103507Z
URL:https://www.kjuc.si/dogodki/pravljicna-urica-z-ustvarjalno-delavnico-z
 a-otroke-od-4-leta-dalje-rakek-46/
SUMMARY:Pravljična urica z ustvarjalno delavnico za otroke od 4. leta dalj
 e – Rakek
DESCRIPTION:[gallery link="file" columns="2" size="full" ids="eyJ1cmwiOiJod
 HRwczpcL1wvd3d3LmtqdWMuc2lcL3dwLWNvbnRlbnRcL3VwbG9hZHNcLzIwMjBcLzAxXC8yMDI
 wMDEyMV8xNzA5MDAuanBnIiwidGl0bGUiOiIyMDIwMDEyMV8xNzA5MDAiLCJjYXB0aW9uIjoiI
 iwiYWx0IjoiIiwiZGVzY3JpcHRpb24iOiIifQ==\,eyJ1cmwiOiJodHRwczpcL1wvd3d3Lmtqd
 WMuc2lcL3dwLWNvbnRlbnRcL3VwbG9hZHNcLzIwMjBcLzAxXC8yMDIwMDEyMV8xNzU1MDUuanB
 nIiwidGl0bGUiOiIyMDIwMDEyMV8xNzU1MDUiLCJjYXB0aW9uIjoiIiwiYWx0IjoiIiwiZGVzY
 3JpcHRpb24iOiIifQ==\,eyJ1cmwiOiJodHRwczpcL1wvd3d3LmtqdWMuc2lcL3dwLWNvbnRlb
 nRcL3VwbG9hZHNcLzIwMjBcLzAxXC8yMDIwMDEyMV8xNzU1MjMuanBnIiwidGl0bGUiOiIyMDI
 wMDEyMV8xNzU1MjMiLCJjYXB0aW9uIjoiIiwiYWx0IjoiIiwiZGVzY3JpcHRpb24iOiIifQ==\
 ,eyJ1cmwiOiJodHRwczpcL1wvd3d3LmtqdWMuc2lcL3dwLWNvbnRlbnRcL3VwbG9hZHNcLzIwM
 jBcLzAxXC8yMDIwMDEyMV8xNzU1NDcuanBnIiwidGl0bGUiOiIyMDIwMDEyMV8xNzU1NDciLCJ
 jYXB0aW9uIjoiIiwiYWx0IjoiIiwiZGVzY3JpcHRpb24iOiIifQ==\,eyJ1cmwiOiJodHRwczp
 cL1wvd3d3LmtqdWMuc2lcL3dwLWNvbnRlbnRcL3VwbG9hZHNcLzIwMjBcLzAxXC8yMDIwMDEyM
 V8xODAwNDAuanBnIiwidGl0bGUiOiIyMDIwMDEyMV8xODAwNDAiLCJjYXB0aW9uIjoiIiwiYWx
 0IjoiIiwiZGVzY3JpcHRpb24iOiIifQ=="]\n\n
ATTACH;FMTTYPE=image/jpeg:https://www.kjuc.si/wp-content/uploads/2025/03/c
 over-46.jpg
CATEGORIES:Za otroke
LOCATION:Enota Ivana Matičiča Rakek\, Partizanska cesta 8a\, Rakek\, Slov
 enia
GEO:45.8127;14.319238
X-APPLE-STRUCTURED-LOCATION;VALUE=URI;X-ADDRESS=Partizanska cesta 8a\, Rake
 k\, Slovenia;X-APPLE-RADIUS=100;X-TITLE=Enota Ivana Matičiča Rakek:geo:4
 5.8127,14.319238
END:VEVENT
BEGIN:VTIMEZONE
TZID:Europe/Ljubljana
X-LIC-LOCATION:Europe/Ljubljana
BEGIN:STANDARD
DTSTART:20191027T020000
TZOFFSETFROM:+0200
TZOFFSETTO:+0100
TZNAME:CET
END:STANDARD
END:VTIMEZONE
END:VCALENDAR