BEGIN:VCALENDAR
VERSION:2.0
PRODID:-//wp-events-plugin.com//7.2.3.1//EN
TZID:Europe/Ljubljana
X-WR-TIMEZONE:Europe/Ljubljana
BEGIN:VEVENT
UID:544@kjuc.si
DTSTART;TZID=Europe/Ljubljana:20171128T170000
DTEND;TZID=Europe/Ljubljana:20171128T180000
DTSTAMP:20250331T101221Z
URL:https://www.kjuc.si/dogodki/predstava-s-carodejem-tonijem/
SUMMARY:Predstava s čarodejem Tonijem
DESCRIPTION:\n\n[gallery link="file" size="full" ids="eyJ1cmwiOiJodHRwczpcL
 1wvd3d3LmtqdWMuc2lcL3dwLWNvbnRlbnRcL3VwbG9hZHNcLzIwMTdcLzExXC9JTUdfMjAxNzE
 xMjhfMTczMjI3LmpwZyIsInRpdGxlIjoiSU1HXzIwMTcxMTI4XzE3MzIyNyIsImNhcHRpb24iO
 iIiLCJhbHQiOiIiLCJkZXNjcmlwdGlvbiI6IiJ9\,eyJ1cmwiOiJodHRwczpcL1wvd3d3Lmtqd
 WMuc2lcL3dwLWNvbnRlbnRcL3VwbG9hZHNcLzIwMTdcLzExXC9JTUdfMjAxNzExMjhfMTczNzQ
 0LmpwZyIsInRpdGxlIjoiSU1HXzIwMTcxMTI4XzE3Mzc0NCIsImNhcHRpb24iOiIiLCJhbHQiO
 iIiLCJkZXNjcmlwdGlvbiI6IiJ9\,eyJ1cmwiOiJodHRwczpcL1wvd3d3LmtqdWMuc2lcL3dwL
 WNvbnRlbnRcL3VwbG9hZHNcLzIwMTdcLzExXC9JTUdfMjAxNzExMjhfMTczODUxLmpwZyIsInR
 pdGxlIjoiSU1HXzIwMTcxMTI4XzE3Mzg1MSIsImNhcHRpb24iOiIiLCJhbHQiOiIiLCJkZXNjc
 mlwdGlvbiI6IiJ9\,eyJ1cmwiOiJodHRwczpcL1wvd3d3LmtqdWMuc2lcL3dwLWNvbnRlbnRcL
 3VwbG9hZHNcLzIwMTdcLzExXC9JTUdfMjAxNzExMjhfMTc0MTA0LmpwZyIsInRpdGxlIjoiSU1
 HXzIwMTcxMTI4XzE3NDEwNCIsImNhcHRpb24iOiIiLCJhbHQiOiIiLCJkZXNjcmlwdGlvbiI6I
 iJ9\,eyJ1cmwiOiJodHRwczpcL1wvd3d3LmtqdWMuc2lcL3dwLWNvbnRlbnRcL3VwbG9hZHNcL
 zIwMTdcLzExXC9QQjI4MDA2My5qcGciLCJ0aXRsZSI6IlBCMjgwMDYzIiwiY2FwdGlvbiI6IiI
 sImFsdCI6IiIsImRlc2NyaXB0aW9uIjoiIn0=\,eyJ1cmwiOiJodHRwczpcL1wvd3d3LmtqdWM
 uc2lcL3dwLWNvbnRlbnRcL3VwbG9hZHNcLzIwMTdcLzExXC9QQjI4MDA2NC5qcGciLCJ0aXRsZ
 SI6IlBCMjgwMDY0IiwiY2FwdGlvbiI6IiIsImFsdCI6IiIsImRlc2NyaXB0aW9uIjoiIn0=\,e
 yJ1cmwiOiJodHRwczpcL1wvd3d3LmtqdWMuc2lcL3dwLWNvbnRlbnRcL3VwbG9hZHNcLzIwMTd
 cLzExXC9QQjI4MDA2OC5qcGciLCJ0aXRsZSI6IlBCMjgwMDY4IiwiY2FwdGlvbiI6IiIsImFsd
 CI6IiIsImRlc2NyaXB0aW9uIjoiIn0=\,eyJ1cmwiOiJodHRwczpcL1wvd3d3LmtqdWMuc2lcL
 3dwLWNvbnRlbnRcL3VwbG9hZHNcLzIwMTdcLzExXC9QQjI4MDA3MS5qcGciLCJ0aXRsZSI6IlB
 CMjgwMDcxIiwiY2FwdGlvbiI6IiIsImFsdCI6IiIsImRlc2NyaXB0aW9uIjoiIn0=\,eyJ1cmw
 iOiJodHRwczpcL1wvd3d3LmtqdWMuc2lcL3dwLWNvbnRlbnRcL3VwbG9hZHNcLzIwMTdcLzExX
 C9QQjI4MDA3Mi5qcGciLCJ0aXRsZSI6IlBCMjgwMDcyIiwiY2FwdGlvbiI6IiIsImFsdCI6IiI
 sImRlc2NyaXB0aW9uIjoiIn0=\,eyJ1cmwiOiJodHRwczpcL1wvd3d3LmtqdWMuc2lcL3dwLWN
 vbnRlbnRcL3VwbG9hZHNcLzIwMTdcLzExXC9QQjI4MDA3NS5qcGciLCJ0aXRsZSI6IlBCMjgwM
 Dc1IiwiY2FwdGlvbiI6IiIsImFsdCI6IiIsImRlc2NyaXB0aW9uIjoiIn0=\,eyJ1cmwiOiJod
 HRwczpcL1wvd3d3LmtqdWMuc2lcL3dwLWNvbnRlbnRcL3VwbG9hZHNcLzIwMTdcLzExXC9QQjI
 4MDA4MC5qcGciLCJ0aXRsZSI6IlBCMjgwMDgwIiwiY2FwdGlvbiI6IiIsImFsdCI6IiIsImRlc
 2NyaXB0aW9uIjoiIn0=\,eyJ1cmwiOiJodHRwczpcL1wvd3d3LmtqdWMuc2lcL3dwLWNvbnRlb
 nRcL3VwbG9hZHNcLzIwMTdcLzExXC9QQjI4MDA4My5qcGciLCJ0aXRsZSI6IlBCMjgwMDgzIiw
 iY2FwdGlvbiI6IiIsImFsdCI6IiIsImRlc2NyaXB0aW9uIjoiIn0=\,eyJ1cmwiOiJodHRwczp
 cL1wvd3d3LmtqdWMuc2lcL3dwLWNvbnRlbnRcL3VwbG9hZHNcLzIwMTdcLzExXC9QQjI4MDA4O
 C5qcGciLCJ0aXRsZSI6IlBCMjgwMDg4IiwiY2FwdGlvbiI6IiIsImFsdCI6IiIsImRlc2NyaXB
 0aW9uIjoiIn0=\,eyJ1cmwiOiJodHRwczpcL1wvd3d3LmtqdWMuc2lcL3dwLWNvbnRlbnRcL3V
 wbG9hZHNcLzIwMTdcLzExXC9QQjI4MDA5My5qcGciLCJ0aXRsZSI6IlBCMjgwMDkzIiwiY2Fwd
 GlvbiI6IiIsImFsdCI6IiIsImRlc2NyaXB0aW9uIjoiIn0=\,eyJ1cmwiOiJodHRwczpcL1wvd
 3d3LmtqdWMuc2lcL3dwLWNvbnRlbnRcL3VwbG9hZHNcLzIwMTdcLzExXC9QQjI4MDA5NS5qcGc
 iLCJ0aXRsZSI6IlBCMjgwMDk1IiwiY2FwdGlvbiI6IiIsImFsdCI6IiIsImRlc2NyaXB0aW9uI
 joiIn0=\,eyJ1cmwiOiJodHRwczpcL1wvd3d3LmtqdWMuc2lcL3dwLWNvbnRlbnRcL3VwbG9hZ
 HNcLzIwMTdcLzExXC9QQjI4MDA5Ny5qcGciLCJ0aXRsZSI6IlBCMjgwMDk3IiwiY2FwdGlvbiI
 6IiIsImFsdCI6IiIsImRlc2NyaXB0aW9uIjoiIn0=\,eyJ1cmwiOiJodHRwczpcL1wvd3d3Lmt
 qdWMuc2lcL3dwLWNvbnRlbnRcL3VwbG9hZHNcLzIwMTdcLzExXC9QQjI4MDA5OC5qcGciLCJ0a
 XRsZSI6IlBCMjgwMDk4IiwiY2FwdGlvbiI6IiIsImFsdCI6IiIsImRlc2NyaXB0aW9uIjoiIn0
 =\,eyJ1cmwiOiJodHRwczpcL1wvd3d3LmtqdWMuc2lcL3dwLWNvbnRlbnRcL3VwbG9hZHNcLzI
 wMTdcLzExXC9QQjI4MDEwMS5qcGciLCJ0aXRsZSI6IlBCMjgwMTAxIiwiY2FwdGlvbiI6IiIsI
 mFsdCI6IiIsImRlc2NyaXB0aW9uIjoiIn0=\,eyJ1cmwiOiJodHRwczpcL1wvd3d3LmtqdWMuc
 2lcL3dwLWNvbnRlbnRcL3VwbG9hZHNcLzIwMTdcLzExXC9QQjI4MDEwNi5qcGciLCJ0aXRsZSI
 6IlBCMjgwMTA2IiwiY2FwdGlvbiI6IiIsImFsdCI6IiIsImRlc2NyaXB0aW9uIjoiIn0=\,eyJ
 1cmwiOiJodHRwczpcL1wvd3d3LmtqdWMuc2lcL3dwLWNvbnRlbnRcL3VwbG9hZHNcLzIwMTdcL
 zExXC9QQjI4MDExMi5qcGciLCJ0aXRsZSI6IlBCMjgwMTEyIiwiY2FwdGlvbiI6IiIsImFsdCI
 6IiIsImRlc2NyaXB0aW9uIjoiIn0=\,eyJ1cmwiOiJodHRwczpcL1wvd3d3LmtqdWMuc2lcL3d
 wLWNvbnRlbnRcL3VwbG9hZHNcLzIwMTdcLzExXC9QQjI4MDExMy5qcGciLCJ0aXRsZSI6IlBCM
 jgwMTEzIiwiY2FwdGlvbiI6IiIsImFsdCI6IiIsImRlc2NyaXB0aW9uIjoiIn0="]\n\nVabil
 o
ATTACH;FMTTYPE=image/jpeg:https://www.kjuc.si/wp-content/uploads/2025/03/w
 wwZakajZatoPredstavazaradovedneotroke.jpg
CATEGORIES:Prireditev,Za otroke
LOCATION:Knjižnica Jožeta Udoviča Cerknica\, Partizanska cesta 22\, Cerk
 nica\, Slovenia
GEO:45.795484;14.362483
X-APPLE-STRUCTURED-LOCATION;VALUE=URI;X-ADDRESS=Partizanska cesta 22\, Cerk
 nica\, Slovenia;X-APPLE-RADIUS=100;X-TITLE=Knjižnica Jožeta Udoviča Cer
 knica:geo:45.795484,14.362483
END:VEVENT
BEGIN:VTIMEZONE
TZID:Europe/Ljubljana
X-LIC-LOCATION:Europe/Ljubljana
BEGIN:STANDARD
DTSTART:20171029T020000
TZOFFSETFROM:+0200
TZOFFSETTO:+0100
TZNAME:CET
END:STANDARD
END:VTIMEZONE
END:VCALENDAR