BEGIN:VCALENDAR
VERSION:2.0
PRODID:-//wp-events-plugin.com//7.2.3.1//EN
TZID:Europe/Ljubljana
X-WR-TIMEZONE:Europe/Ljubljana
BEGIN:VEVENT
UID:1374@kjuc.si
DTSTART;TZID=Europe/Ljubljana:20221124T180000
DTEND;TZID=Europe/Ljubljana:20221124T190000
DTSTAMP:20250331T104051Z
URL:https://www.kjuc.si/dogodki/predstavitev-knjige-domna-cesarka-tam-med-
 malo-in-veliko-goro/
SUMMARY:Predstavitev knjige Domna Češarka - Tam med Malo in Véliko goró
DESCRIPTION:\n\nČešarek. Tam med Malo in Veliko goro\n\n[gallery link="no
 ne" size="medium" ids="eyJ1cmwiOiJodHRwczpcL1wvd3d3LmtqdWMuc2lcL3dwLWNvbnR
 lbnRcL3VwbG9hZHNcLzIwMjJcLzExXC9JTUdfMjAyMjExMjRfMTgwMDI3LmpwZyIsInRpdGxlI
 joiSU1HXzIwMjIxMTI0XzE4MDAyNyIsImNhcHRpb24iOiIiLCJhbHQiOiIiLCJkZXNjcmlwdGl
 vbiI6IiJ9\,eyJ1cmwiOiJodHRwczpcL1wvd3d3LmtqdWMuc2lcL3dwLWNvbnRlbnRcL3VwbG9
 hZHNcLzIwMjJcLzExXC9JTUdfMjAyMjExMjRfMTgwMDQxLTEuanBnIiwidGl0bGUiOiJJTUdfM
 jAyMjExMjRfMTgwMDQxIiwiY2FwdGlvbiI6IiIsImFsdCI6IiIsImRlc2NyaXB0aW9uIjoiIn0
 =\,eyJ1cmwiOiJodHRwczpcL1wvd3d3LmtqdWMuc2lcL3dwLWNvbnRlbnRcL3VwbG9hZHNcLzI
 wMjJcLzExXC9JTUdfMjAyMjExMjRfMTgwMzA5LmpwZyIsInRpdGxlIjoiSU1HXzIwMjIxMTI0X
 zE4MDMwOSIsImNhcHRpb24iOiIiLCJhbHQiOiIiLCJkZXNjcmlwdGlvbiI6IiJ9\,eyJ1cmwiO
 iJodHRwczpcL1wvd3d3LmtqdWMuc2lcL3dwLWNvbnRlbnRcL3VwbG9hZHNcLzIwMjJcLzExXC9
 JTUdfMjAyMjExMjRfMTgwMzQyLTEuanBnIiwidGl0bGUiOiJJTUdfMjAyMjExMjRfMTgwMzQyI
 iwiY2FwdGlvbiI6IiIsImFsdCI6IiIsImRlc2NyaXB0aW9uIjoiIn0=\,eyJ1cmwiOiJodHRwc
 zpcL1wvd3d3LmtqdWMuc2lcL3dwLWNvbnRlbnRcL3VwbG9hZHNcLzIwMjJcLzExXC9JTUdfMjA
 yMjExMjRfMTgwNDE3LmpwZyIsInRpdGxlIjoiSU1HXzIwMjIxMTI0XzE4MDQxNyIsImNhcHRpb
 24iOiIiLCJhbHQiOiIiLCJkZXNjcmlwdGlvbiI6IiJ9"]
ATTACH;FMTTYPE=image/jpeg:https://www.kjuc.si/wp-content/uploads/2025/03/C
 esarek.-Tam-med-Malo-in-Veliko-goro-page-001.jpg
CATEGORIES:Predstavitve,Prireditev,Razno
LOCATION:Enota Ivana Čampa Nova vas\, Nova vas 4a\, Nova vas\, Slovenia
GEO:45.363149;13.640599
X-APPLE-STRUCTURED-LOCATION;VALUE=URI;X-ADDRESS=Nova vas 4a\, Nova vas\, Sl
 ovenia;X-APPLE-RADIUS=100;X-TITLE=Enota Ivana Čampa Nova vas:geo:45.36314
 9,13.640599
END:VEVENT
BEGIN:VTIMEZONE
TZID:Europe/Ljubljana
X-LIC-LOCATION:Europe/Ljubljana
BEGIN:STANDARD
DTSTART:20221030T020000
TZOFFSETFROM:+0200
TZOFFSETTO:+0100
TZNAME:CET
END:STANDARD
END:VTIMEZONE
END:VCALENDAR