BEGIN:VCALENDAR
VERSION:2.0
PRODID:-//wp-events-plugin.com//7.2.3.1//EN
TZID:Europe/Ljubljana
X-WR-TIMEZONE:Europe/Ljubljana
BEGIN:VEVENT
UID:29@kjuc.si
DTSTART;TZID=Europe/Ljubljana:20150203T180000
DTEND;TZID=Europe/Ljubljana:20150203T200000
DTSTAMP:20250331T094538Z
URL:https://www.kjuc.si/dogodki/predstavitev-notranjskega-regijskega-parka
 /
SUMMARY:Predstavitev Notranjskega regijskega parka
DESCRIPTION:\n\nVabimo vas na predstavitev dela in načrtov Notranjskega re
 gijskega parka.\n\nTematike\n1. Zgodovina\n2. Narava\n3. Turizem\n4. Vizij
 a razvoja\n5. Splošna razprava\n\nNotranjski regijski park je v preteklih
  mesecih doživel precej sprememb. Tako Notranjski park ni več ustanova\,
  ki bi se ukvarjala izključno z naravovarstvom\, pač pa so ji bile zaupa
 ne tudi naloge\, ki so dotikajo razvoja turizma\, skrbi za kulturno dediš
 čino in promocijo naštetega. Ker nam to prinaša niz novih načrtov\, bi
  se o tem radi pogovorili tudi z Vami.\n\nV upanju\, da se nam pridružite
 \, Vas lepo pozdravljamo.\n\nNotranjski regijski park\ndirektor Matevž Po
 djed\n\n[gallery ids="eyJ1cmwiOiJodHRwczpcL1wvd3d3LmtqdWMuc2lcL3dwLWNvbnRl
 bnRcL3VwbG9hZHNcLzIwMTVcLzA2XC84MDBfMi5qcGciLCJ0aXRsZSI6IjgwMF8yIiwiY2FwdG
 lvbiI6IiIsImFsdCI6IiIsImRlc2NyaXB0aW9uIjoiIn0=\,eyJ1cmwiOiJodHRwczpcL1wvd3
 d3LmtqdWMuc2lcL3dwLWNvbnRlbnRcL3VwbG9hZHNcLzIwMTVcLzA2XC84MDBfMy5qcGciLCJ0
 aXRsZSI6IjgwMF8zIiwiY2FwdGlvbiI6IiIsImFsdCI6IiIsImRlc2NyaXB0aW9uIjoiIn0=\,
 eyJ1cmwiOiJodHRwczpcL1wvd3d3LmtqdWMuc2lcL3dwLWNvbnRlbnRcL3VwbG9hZHNcLzIwMT
 VcLzA2XC84MDBfNC5qcGciLCJ0aXRsZSI6IjgwMF80IiwiY2FwdGlvbiI6IiIsImFsdCI6IiIs
 ImRlc2NyaXB0aW9uIjoiIn0=\,eyJ1cmwiOiJodHRwczpcL1wvd3d3LmtqdWMuc2lcL3dwLWNv
 bnRlbnRcL3VwbG9hZHNcLzIwMTVcLzA2XC84MDBfNS5qcGciLCJ0aXRsZSI6IjgwMF81IiwiY2
 FwdGlvbiI6IiIsImFsdCI6IiIsImRlc2NyaXB0aW9uIjoiIn0=\,eyJ1cmwiOiJodHRwczpcL1
 wvd3d3LmtqdWMuc2lcL3dwLWNvbnRlbnRcL3VwbG9hZHNcLzIwMTVcLzA2XC84MDBfNi5qcGci
 LCJ0aXRsZSI6IjgwMF82IiwiY2FwdGlvbiI6IiIsImFsdCI6IiIsImRlc2NyaXB0aW9uIjoiIn
 0=\,eyJ1cmwiOiJodHRwczpcL1wvd3d3LmtqdWMuc2lcL3dwLWNvbnRlbnRcL3VwbG9hZHNcLz
 IwMTVcLzA2XC84MDBfNy5qcGciLCJ0aXRsZSI6IjgwMF83IiwiY2FwdGlvbiI6IiIsImFsdCI6
 IiIsImRlc2NyaXB0aW9uIjoiIn0=\,eyJ1cmwiOiJodHRwczpcL1wvd3d3LmtqdWMuc2lcL3dw
 LWNvbnRlbnRcL3VwbG9hZHNcLzIwMTVcLzA2XC84MDBfOC5qcGciLCJ0aXRsZSI6IjgwMF84Ii
 wiY2FwdGlvbiI6IiIsImFsdCI6IiIsImRlc2NyaXB0aW9uIjoiIn0=\,eyJ1cmwiOiJodHRwcz
 pcL1wvd3d3LmtqdWMuc2lcL3dwLWNvbnRlbnRcL3VwbG9hZHNcLzIwMTVcLzA2XC84MDBfOS5q
 cGciLCJ0aXRsZSI6IjgwMF85IiwiY2FwdGlvbiI6IiIsImFsdCI6IiIsImRlc2NyaXB0aW9uIj
 oiIn0="]\n\nvabilo: NRP_feb2015
ATTACH;FMTTYPE=image/jpeg:https://www.kjuc.si/wp-content/uploads/2025/03/8
 00_1.jpg
CATEGORIES:Predstavitve
LOCATION:Enota Ivana Matičiča Rakek\, Partizanska cesta 8a\, Rakek\, Slov
 enia
GEO:45.8127;14.319238
X-APPLE-STRUCTURED-LOCATION;VALUE=URI;X-ADDRESS=Partizanska cesta 8a\, Rake
 k\, Slovenia;X-APPLE-RADIUS=100;X-TITLE=Enota Ivana Matičiča Rakek:geo:4
 5.8127,14.319238
END:VEVENT
BEGIN:VTIMEZONE
TZID:Europe/Ljubljana
X-LIC-LOCATION:Europe/Ljubljana
BEGIN:STANDARD
DTSTART:20141026T020000
TZOFFSETFROM:+0200
TZOFFSETTO:+0100
TZNAME:CET
END:STANDARD
END:VTIMEZONE
END:VCALENDAR