BEGIN:VCALENDAR
VERSION:2.0
PRODID:-//wp-events-plugin.com//7.2.3.1//EN
TZID:Europe/Ljubljana
X-WR-TIMEZONE:Europe/Ljubljana
BEGIN:VEVENT
UID:1197@kjuc.si
DTSTART;TZID=Europe/Ljubljana;VALUE=DATE:20220124
DTEND;TZID=Europe/Ljubljana;VALUE=DATE:20220305
DTSTAMP:20250331T103734Z
URL:https://www.kjuc.si/dogodki/priklicimo-pomlad-razstavljajo-clani-likov
 ne-sekcije-kd-rak-rakek/
SUMMARY:Prikličimo pomlad - razstavljajo člani likovne sekcije  KD Rak Ra
 kek
DESCRIPTION:\n\nPrikličimo pomlad 
ATTACH;FMTTYPE=image/jpeg:https://www.kjuc.si/wp-content/uploads/2025/03/P
 riklicimo-pomlad-jan-mar-2022-page-001-1024x726-1.jpg
CATEGORIES:Razstave
LOCATION:Knjižnica Jožeta Udoviča Cerknica\, Partizanska cesta 22\, Cerk
 nica\, Slovenia
GEO:45.795484;14.362483
X-APPLE-STRUCTURED-LOCATION;VALUE=URI;X-ADDRESS=Partizanska cesta 22\, Cerk
 nica\, Slovenia;X-APPLE-RADIUS=100;X-TITLE=Knjižnica Jožeta Udoviča Cer
 knica:geo:45.795484,14.362483
END:VEVENT
BEGIN:VTIMEZONE
TZID:Europe/Ljubljana
X-LIC-LOCATION:Europe/Ljubljana
BEGIN:STANDARD
DTSTART:20211031T020000
TZOFFSETFROM:+0200
TZOFFSETTO:+0100
TZNAME:CET
END:STANDARD
END:VTIMEZONE
END:VCALENDAR