BEGIN:VCALENDAR
VERSION:2.0
PRODID:-//wp-events-plugin.com//7.2.3.1//EN
TZID:Europe/Ljubljana
X-WR-TIMEZONE:Europe/Ljubljana
BEGIN:VEVENT
UID:30@kjuc.si
DTSTART;TZID=Europe/Ljubljana:20150205T180000
DTEND;TZID=Europe/Ljubljana:20150205T200000
DTSTAMP:20250331T094541Z
URL:https://www.kjuc.si/dogodki/prireditev-ob-slovenskem-kulturnem-praznik
 u-in-otvoritev-likovne-razstave-clanov-kd-rak-rakek/
SUMMARY:Prireditev ob slovenskem kulturnem prazniku in otvoritev likovne ra
 zstave članov KD Rak Rakek
DESCRIPTION:\n\n[gallery ids="eyJ1cmwiOiJodHRwczpcL1wvd3d3LmtqdWMuc2lcL3dwL
 WNvbnRlbnRcL3VwbG9hZHNcLzIwMTVcLzA2XC84MDJfMi5qcGciLCJ0aXRsZSI6IjgwMl8yIiw
 iY2FwdGlvbiI6IiIsImFsdCI6IiIsImRlc2NyaXB0aW9uIjoiIn0=\,eyJ1cmwiOiJodHRwczp
 cL1wvd3d3LmtqdWMuc2lcL3dwLWNvbnRlbnRcL3VwbG9hZHNcLzIwMTVcLzA2XC84MDJfMy5qc
 GciLCJ0aXRsZSI6IjgwMl8zIiwiY2FwdGlvbiI6IiIsImFsdCI6IiIsImRlc2NyaXB0aW9uIjo
 iIn0=\,eyJ1cmwiOiJodHRwczpcL1wvd3d3LmtqdWMuc2lcL3dwLWNvbnRlbnRcL3VwbG9hZHN
 cLzIwMTVcLzA2XC84MDJfNC5qcGciLCJ0aXRsZSI6IjgwMl80IiwiY2FwdGlvbiI6IiIsImFsd
 CI6IiIsImRlc2NyaXB0aW9uIjoiIn0=\,eyJ1cmwiOiJodHRwczpcL1wvd3d3LmtqdWMuc2lcL
 3dwLWNvbnRlbnRcL3VwbG9hZHNcLzIwMTVcLzA2XC84MDJfNS5qcGciLCJ0aXRsZSI6IjgwMl8
 1IiwiY2FwdGlvbiI6IiIsImFsdCI6IiIsImRlc2NyaXB0aW9uIjoiIn0=\,eyJ1cmwiOiJodHR
 wczpcL1wvd3d3LmtqdWMuc2lcL3dwLWNvbnRlbnRcL3VwbG9hZHNcLzIwMTVcLzA2XC84MDJfN
 i5qcGciLCJ0aXRsZSI6IjgwMl82IiwiY2FwdGlvbiI6IiIsImFsdCI6IiIsImRlc2NyaXB0aW9
 uIjoiIn0=\,eyJ1cmwiOiJodHRwczpcL1wvd3d3LmtqdWMuc2lcL3dwLWNvbnRlbnRcL3VwbG9
 hZHNcLzIwMTVcLzA2XC84MDJfNy5qcGciLCJ0aXRsZSI6IjgwMl83IiwiY2FwdGlvbiI6IiIsI
 mFsdCI6IiIsImRlc2NyaXB0aW9uIjoiIn0=\,eyJ1cmwiOiJodHRwczpcL1wvd3d3LmtqdWMuc
 2lcL3dwLWNvbnRlbnRcL3VwbG9hZHNcLzIwMTVcLzA2XC84MDJfOC5qcGciLCJ0aXRsZSI6Ijg
 wMl84IiwiY2FwdGlvbiI6IiIsImFsdCI6IiIsImRlc2NyaXB0aW9uIjoiIn0=\,eyJ1cmwiOiJ
 odHRwczpcL1wvd3d3LmtqdWMuc2lcL3dwLWNvbnRlbnRcL3VwbG9hZHNcLzIwMTVcLzA2XC84M
 DJfOS5qcGciLCJ0aXRsZSI6IjgwMl85IiwiY2FwdGlvbiI6IiIsImFsdCI6IiIsImRlc2NyaXB
 0aW9uIjoiIn0=\,eyJ1cmwiOiJodHRwczpcL1wvd3d3LmtqdWMuc2lcL3dwLWNvbnRlbnRcL3V
 wbG9hZHNcLzIwMTVcLzA2XC84MDJfMTAuanBnIiwidGl0bGUiOiI4MDJfMTAiLCJjYXB0aW9uI
 joiIiwiYWx0IjoiIiwiZGVzY3JpcHRpb24iOiIifQ=="]\n\nvabilo: r_kulturni_prazn
 ik_feb2015
ATTACH;FMTTYPE=image/jpeg:https://www.kjuc.si/wp-content/uploads/2025/03/8
 02_1.jpg
CATEGORIES:Prireditev,Razstave
LOCATION:Enota Ivana Matičiča Rakek\, Partizanska cesta 8a\, Rakek\, Slov
 enia
GEO:45.8127;14.319238
X-APPLE-STRUCTURED-LOCATION;VALUE=URI;X-ADDRESS=Partizanska cesta 8a\, Rake
 k\, Slovenia;X-APPLE-RADIUS=100;X-TITLE=Enota Ivana Matičiča Rakek:geo:4
 5.8127,14.319238
END:VEVENT
BEGIN:VTIMEZONE
TZID:Europe/Ljubljana
X-LIC-LOCATION:Europe/Ljubljana
BEGIN:STANDARD
DTSTART:20141026T020000
TZOFFSETFROM:+0200
TZOFFSETTO:+0100
TZNAME:CET
END:STANDARD
END:VTIMEZONE
END:VCALENDAR