BEGIN:VCALENDAR
VERSION:2.0
PRODID:-//wp-events-plugin.com//7.2.3.1//EN
TZID:Europe/Ljubljana
X-WR-TIMEZONE:Europe/Ljubljana
BEGIN:VEVENT
UID:1016@kjuc.si
DTSTART;TZID=Europe/Ljubljana:20200213T100000
DTEND;TZID=Europe/Ljubljana:20200213T120000
DTSTAMP:20250331T103525Z
URL:https://www.kjuc.si/dogodki/prodaja-pridelkov-in-izdelkov-s-kmetij-obd
 avcitev-in-izdajanje-racunov-v-osnovni-in-dopolnilni-dejavnosti/
SUMMARY:Prodaja pridelkov in izdelkov s kmetij\, obdavčitev in izdajanje r
 ačunov v osnovni in dopolnilni dejavnosti
DESCRIPTION:
ATTACH;FMTTYPE=image/jpeg:https://www.kjuc.si/wp-content/uploads/2025/03/V
 ABILO-PRODAJA-NA-KMETIJI-IN-OBDAVCITEV-.jpg
CATEGORIES:Predavanja,Predstavitve
LOCATION:Knjižnica Jožeta Udoviča Cerknica\, Partizanska cesta 22\, Cerk
 nica\, Slovenia
GEO:45.795484;14.362483
X-APPLE-STRUCTURED-LOCATION;VALUE=URI;X-ADDRESS=Partizanska cesta 22\, Cerk
 nica\, Slovenia;X-APPLE-RADIUS=100;X-TITLE=Knjižnica Jožeta Udoviča Cer
 knica:geo:45.795484,14.362483
END:VEVENT
BEGIN:VTIMEZONE
TZID:Europe/Ljubljana
X-LIC-LOCATION:Europe/Ljubljana
BEGIN:STANDARD
DTSTART:20191027T020000
TZOFFSETFROM:+0200
TZOFFSETTO:+0100
TZNAME:CET
END:STANDARD
END:VTIMEZONE
END:VCALENDAR