BEGIN:VCALENDAR
VERSION:2.0
PRODID:-//wp-events-plugin.com//7.2.3.1//EN
TZID:Europe/Ljubljana
X-WR-TIMEZONE:Europe/Ljubljana
BEGIN:VEVENT
UID:1067@kjuc.si
DTSTART;TZID=Europe/Ljubljana;VALUE=DATE:20200921
DTEND;TZID=Europe/Ljubljana;VALUE=DATE:20201017
DTSTAMP:20250331T103611Z
URL:https://www.kjuc.si/dogodki/ptice-nasih-krajev-razstava-sekcije-mozaik
 -kd-rak-rakek/
SUMMARY:Ptice naših krajev – razstava sekcije Mozaik KD Rak Rakek
DESCRIPTION:\n\n[gallery link="file" columns="2" size="full" ids="eyJ1cmwiO
 iJodHRwczpcL1wvd3d3LmtqdWMuc2lcL3dwLWNvbnRlbnRcL3VwbG9hZHNcLzIwMjBcLzA5XC8
 yMDIwMDkxOF8xOTE0NTQuanBnIiwidGl0bGUiOiIyMDIwMDkxOF8xOTE0NTQiLCJjYXB0aW9uI
 joiIiwiYWx0IjoiIiwiZGVzY3JpcHRpb24iOiIifQ==\,eyJ1cmwiOiJodHRwczpcL1wvd3d3L
 mtqdWMuc2lcL3dwLWNvbnRlbnRcL3VwbG9hZHNcLzIwMjBcLzA5XC8yMDIwMDkxOF8xOTE1MzI
 uanBnIiwidGl0bGUiOiIyMDIwMDkxOF8xOTE1MzIiLCJjYXB0aW9uIjoiIiwiYWx0IjoiIiwiZ
 GVzY3JpcHRpb24iOiIifQ==\,eyJ1cmwiOiJodHRwczpcL1wvd3d3LmtqdWMuc2lcL3dwLWNvb
 nRlbnRcL3VwbG9hZHNcLzIwMjBcLzA5XC8yMDIwMDkxOF8xOTE2MTcuanBnIiwidGl0bGUiOiI
 yMDIwMDkxOF8xOTE2MTciLCJjYXB0aW9uIjoiIiwiYWx0IjoiIiwiZGVzY3JpcHRpb24iOiIif
 Q==\,eyJ1cmwiOiJodHRwczpcL1wvd3d3LmtqdWMuc2lcL3dwLWNvbnRlbnRcL3VwbG9hZHNcL
 zIwMjBcLzA5XC8yMDIwMDkxOF8xOTE2NDQuanBnIiwidGl0bGUiOiIyMDIwMDkxOF8xOTE2NDQ
 iLCJjYXB0aW9uIjoiIiwiYWx0IjoiIiwiZGVzY3JpcHRpb24iOiIifQ==\,eyJ1cmwiOiJodHR
 wczpcL1wvd3d3LmtqdWMuc2lcL3dwLWNvbnRlbnRcL3VwbG9hZHNcLzIwMjBcLzA5XC8yMDIwM
 DkxOF8xOTE3MDYuanBnIiwidGl0bGUiOiIyMDIwMDkxOF8xOTE3MDYiLCJjYXB0aW9uIjoiIiw
 iYWx0IjoiIiwiZGVzY3JpcHRpb24iOiIifQ==\,eyJ1cmwiOiJodHRwczpcL1wvd3d3LmtqdWM
 uc2lcL3dwLWNvbnRlbnRcL3VwbG9hZHNcLzIwMjBcLzA5XC8yMDIwMDkxOF8xOTE3MjMuanBnI
 iwidGl0bGUiOiIyMDIwMDkxOF8xOTE3MjMiLCJjYXB0aW9uIjoiIiwiYWx0IjoiIiwiZGVzY3J
 pcHRpb24iOiIifQ==\,eyJ1cmwiOiJodHRwczpcL1wvd3d3LmtqdWMuc2lcL3dwLWNvbnRlbnR
 cL3VwbG9hZHNcLzIwMjBcLzA5XC8yMDIwMDkxOF8xOTE3NDguanBnIiwidGl0bGUiOiIyMDIwM
 DkxOF8xOTE3NDgiLCJjYXB0aW9uIjoiIiwiYWx0IjoiIiwiZGVzY3JpcHRpb24iOiIifQ==\,e
 yJ1cmwiOiJodHRwczpcL1wvd3d3LmtqdWMuc2lcL3dwLWNvbnRlbnRcL3VwbG9hZHNcLzIwMjB
 cLzA5XC8yMDIwMDkxOF8xOTE4MjUuanBnIiwidGl0bGUiOiIyMDIwMDkxOF8xOTE4MjUiLCJjY
 XB0aW9uIjoiIiwiYWx0IjoiIiwiZGVzY3JpcHRpb24iOiIifQ==\,eyJ1cmwiOiJodHRwczpcL
 1wvd3d3LmtqdWMuc2lcL3dwLWNvbnRlbnRcL3VwbG9hZHNcLzIwMjBcLzA5XC8yMDIwMDkxOF8
 xOTE4NTUuanBnIiwidGl0bGUiOiIyMDIwMDkxOF8xOTE4NTUiLCJjYXB0aW9uIjoiIiwiYWx0I
 joiIiwiZGVzY3JpcHRpb24iOiIifQ==\,eyJ1cmwiOiJodHRwczpcL1wvd3d3LmtqdWMuc2lcL
 3dwLWNvbnRlbnRcL3VwbG9hZHNcLzIwMjBcLzA5XC8yMDIwMDkxOF8xOTE5MjEuanBnIiwidGl
 0bGUiOiIyMDIwMDkxOF8xOTE5MjEiLCJjYXB0aW9uIjoiIiwiYWx0IjoiIiwiZGVzY3JpcHRpb
 24iOiIifQ=="]
ATTACH;FMTTYPE=image/jpeg:https://www.kjuc.si/wp-content/uploads/2025/03/c
 over2-14.jpg
CATEGORIES:Razstave
LOCATION:Enota Ivana Matičiča Rakek\, Partizanska cesta 8a\, Rakek\, Slov
 enia
GEO:45.8127;14.319238
X-APPLE-STRUCTURED-LOCATION;VALUE=URI;X-ADDRESS=Partizanska cesta 8a\, Rake
 k\, Slovenia;X-APPLE-RADIUS=100;X-TITLE=Enota Ivana Matičiča Rakek:geo:4
 5.8127,14.319238
END:VEVENT
BEGIN:VTIMEZONE
TZID:Europe/Ljubljana
X-LIC-LOCATION:Europe/Ljubljana
BEGIN:DAYLIGHT
DTSTART:20200329T030000
TZOFFSETFROM:+0100
TZOFFSETTO:+0200
TZNAME:CEST
END:DAYLIGHT
END:VTIMEZONE
END:VCALENDAR