BEGIN:VCALENDAR
VERSION:2.0
PRODID:-//wp-events-plugin.com//7.2.3.1//EN
TZID:Europe/Ljubljana
X-WR-TIMEZONE:Europe/Ljubljana
BEGIN:VEVENT
UID:722@kjuc.si
DTSTART;TZID=Europe/Ljubljana:20180918T000000
DTEND;TZID=Europe/Ljubljana:20181030T000000
DTSTAMP:20250331T103100Z
URL:https://www.kjuc.si/dogodki/puncke-iz-cunj/
SUMMARY:Punčke iz cunj - razstava izdelkov\, ki so nastali v sodelovanju z
  Večgeneracijskim centrom Bloke
DESCRIPTION:\n\nVabilo
CATEGORIES:Razstave
LOCATION:Enota Ivana Čampa Nova vas\, Nova vas 4a\, Nova vas\, Slovenia
GEO:45.363149;13.640599
X-APPLE-STRUCTURED-LOCATION;VALUE=URI;X-ADDRESS=Nova vas 4a\, Nova vas\, Sl
 ovenia;X-APPLE-RADIUS=100;X-TITLE=Enota Ivana Čampa Nova vas:geo:45.36314
 9,13.640599
END:VEVENT
BEGIN:VTIMEZONE
TZID:Europe/Ljubljana
X-LIC-LOCATION:Europe/Ljubljana
BEGIN:DAYLIGHT
DTSTART:20180325T030000
TZOFFSETFROM:+0100
TZOFFSETTO:+0200
TZNAME:CEST
END:DAYLIGHT
BEGIN:STANDARD
DTSTART:20181028T020000
TZOFFSETFROM:+0200
TZOFFSETTO:+0100
TZNAME:CET
END:STANDARD
END:VTIMEZONE
END:VCALENDAR