BEGIN:VCALENDAR
VERSION:2.0
PRODID:-//wp-events-plugin.com//7.2.3.1//EN
TZID:Europe/Ljubljana
X-WR-TIMEZONE:Europe/Ljubljana
BEGIN:VEVENT
UID:1576@kjuc.si
DTSTART;TZID=Europe/Ljubljana:20231019T190000
DTEND;TZID=Europe/Ljubljana:20231019T200000
DTSTAMP:20250331T104344Z
URL:https://www.kjuc.si/dogodki/raziskovanje-abstrakcije-skozi-mozaik-odpr
 tje-letne-razstave-izdelkov-mozaicne-sekcije-kd-rak-rakek/
SUMMARY:Raziskovanje abstrakcije skozi mozaik - odprtje letne razstave izde
 lkov Mozaične sekcije KD Rak Rakek
DESCRIPTION:\n\nabstrakcija_mozaik&nbsp\;\n\n[gallery link="none" size="ful
 l" ids="eyJ1cmwiOiJodHRwczpcL1wvd3d3LmtqdWMuc2lcL3dwLWNvbnRlbnRcL3VwbG9hZH
 NcLzIwMjNcLzEwXC9EU0NONDY3MC5qcGciLCJ0aXRsZSI6IkRTQ040NjcwIiwiY2FwdGlvbiI6
 IiIsImFsdCI6IiIsImRlc2NyaXB0aW9uIjoiIn0=\,eyJ1cmwiOiJodHRwczpcL1wvd3d3Lmtq
 dWMuc2lcL3dwLWNvbnRlbnRcL3VwbG9hZHNcLzIwMjNcLzEwXC9EU0NONDY2My5qcGciLCJ0aX
 RsZSI6IkRTQ040NjYzIiwiY2FwdGlvbiI6IiIsImFsdCI6IiIsImRlc2NyaXB0aW9uIjoiIn0=
 \,eyJ1cmwiOiJodHRwczpcL1wvd3d3LmtqdWMuc2lcL3dwLWNvbnRlbnRcL3VwbG9hZHNcLzIw
 MjNcLzEwXC9EU0NONDU3OC5qcGciLCJ0aXRsZSI6IkRTQ040NTc4IiwiY2FwdGlvbiI6IiIsIm
 FsdCI6IiIsImRlc2NyaXB0aW9uIjoiIn0=\,eyJ1cmwiOiJodHRwczpcL1wvd3d3LmtqdWMuc2
 lcL3dwLWNvbnRlbnRcL3VwbG9hZHNcLzIwMjNcLzEwXC9EU0NONDYxOC5qcGciLCJ0aXRsZSI6
 IkRTQ040NjE4IiwiY2FwdGlvbiI6IiIsImFsdCI6IiIsImRlc2NyaXB0aW9uIjoiIn0=\,eyJ1
 cmwiOiJodHRwczpcL1wvd3d3LmtqdWMuc2lcL3dwLWNvbnRlbnRcL3VwbG9hZHNcLzIwMjNcLz
 EwXC9EU0NONDYxMi5qcGciLCJ0aXRsZSI6IkRTQ040NjEyIiwiY2FwdGlvbiI6IiIsImFsdCI6
 IiIsImRlc2NyaXB0aW9uIjoiIn0=\,eyJ1cmwiOiJodHRwczpcL1wvd3d3LmtqdWMuc2lcL3dw
 LWNvbnRlbnRcL3VwbG9hZHNcLzIwMjNcLzEwXC9EU0NONDYwNC5qcGciLCJ0aXRsZSI6IkRTQ0
 40NjA0IiwiY2FwdGlvbiI6IiIsImFsdCI6IiIsImRlc2NyaXB0aW9uIjoiIn0=\,eyJ1cmwiOi
 JodHRwczpcL1wvd3d3LmtqdWMuc2lcL3dwLWNvbnRlbnRcL3VwbG9hZHNcLzIwMjNcLzEwXC9E
 U0NONDU3OS5qcGciLCJ0aXRsZSI6IkRTQ040NTc5IiwiY2FwdGlvbiI6IiIsImFsdCI6IiIsIm
 Rlc2NyaXB0aW9uIjoiIn0=\,eyJ1cmwiOiJodHRwczpcL1wvd3d3LmtqdWMuc2lcL3dwLWNvbn
 RlbnRcL3VwbG9hZHNcLzIwMjNcLzEwXC9EU0NONDYxOS5qcGciLCJ0aXRsZSI6IkRTQ040NjE5
 IiwiY2FwdGlvbiI6IiIsImFsdCI6IiIsImRlc2NyaXB0aW9uIjoiIn0=\,eyJ1cmwiOiJodHRw
 czpcL1wvd3d3LmtqdWMuc2lcL3dwLWNvbnRlbnRcL3VwbG9hZHNcLzIwMjNcLzEwXC9EU0NOND
 U5NS5qcGciLCJ0aXRsZSI6IkRTQ040NTk1IiwiY2FwdGlvbiI6IiIsImFsdCI6IiIsImRlc2Ny
 aXB0aW9uIjoiIn0="]
ATTACH;FMTTYPE=image/jpeg:https://www.kjuc.si/wp-content/uploads/2025/03/a
 bstrakcija_mozaik-page-001.jpg
CATEGORIES:Prireditev,Razno
LOCATION:Enota Ivana Matičiča Rakek\, Partizanska cesta 8a\, Rakek\, Slov
 enia
GEO:45.8127;14.319238
X-APPLE-STRUCTURED-LOCATION;VALUE=URI;X-ADDRESS=Partizanska cesta 8a\, Rake
 k\, Slovenia;X-APPLE-RADIUS=100;X-TITLE=Enota Ivana Matičiča Rakek:geo:4
 5.8127,14.319238
END:VEVENT
BEGIN:VTIMEZONE
TZID:Europe/Ljubljana
X-LIC-LOCATION:Europe/Ljubljana
BEGIN:DAYLIGHT
DTSTART:20230326T030000
TZOFFSETFROM:+0100
TZOFFSETTO:+0200
TZNAME:CEST
END:DAYLIGHT
END:VTIMEZONE
END:VCALENDAR