BEGIN:VCALENDAR
VERSION:2.0
PRODID:-//wp-events-plugin.com//7.2.3.1//EN
TZID:Europe/Ljubljana
X-WR-TIMEZONE:Europe/Ljubljana
BEGIN:VEVENT
UID:1585@kjuc.si
DTSTART;TZID=Europe/Ljubljana;VALUE=DATE:20231019
DTEND;TZID=Europe/Ljubljana;VALUE=DATE:20231111
DTSTAMP:20250331T104353Z
URL:https://www.kjuc.si/dogodki/raziskovanje-abstrakcije-skozi-mozaik-razs
 tava-izdelkov-mozaicne-sekcije-kd-rak-rakek/
SUMMARY:Raziskovanje abstrakcije skozi mozaik - razstava izdelkov Mozaične
  sekcije KD Rak Rakek
DESCRIPTION:&nbsp\;\n\n\n\nKopija izd. Raziskovanje abstrakcije skozi mozai
 k\n\n[gallery link="none" size="full" ids="eyJ1cmwiOiJodHRwczpcL1wvd3d3Lmt
 qdWMuc2lcL3dwLWNvbnRlbnRcL3VwbG9hZHNcLzIwMjNcLzEwXC8yMDIzMTExMF8xOTE2NDYua
 nBnIiwidGl0bGUiOiIyMDIzMTExMF8xOTE2NDYiLCJjYXB0aW9uIjoiIiwiYWx0IjoiIiwiZGV
 zY3JpcHRpb24iOiIifQ==\,eyJ1cmwiOiJodHRwczpcL1wvd3d3LmtqdWMuc2lcL3dwLWNvbnR
 lbnRcL3VwbG9hZHNcLzIwMjNcLzEwXC8yMDIzMTExMF8xOTE2NTgtZTE2OTk5NzQ4Mjc3Nzcua
 nBnIiwidGl0bGUiOiIyMDIzMTExMF8xOTE2NTgiLCJjYXB0aW9uIjoiIiwiYWx0IjoiIiwiZGV
 zY3JpcHRpb24iOiIifQ==\,eyJ1cmwiOiJodHRwczpcL1wvd3d3LmtqdWMuc2lcL3dwLWNvbnR
 lbnRcL3VwbG9hZHNcLzIwMjNcLzEwXC8yMDIzMTExMF8xOTE3MDIuanBnIiwidGl0bGUiOiIyM
 DIzMTExMF8xOTE3MDIiLCJjYXB0aW9uIjoiIiwiYWx0IjoiIiwiZGVzY3JpcHRpb24iOiIifQ=
 =\,eyJ1cmwiOiJodHRwczpcL1wvd3d3LmtqdWMuc2lcL3dwLWNvbnRlbnRcL3VwbG9hZHNcLzI
 wMjNcLzEwXC8yMDIzMTExMF8xOTE3MTEuanBnIiwidGl0bGUiOiIyMDIzMTExMF8xOTE3MTEiL
 CJjYXB0aW9uIjoiIiwiYWx0IjoiIiwiZGVzY3JpcHRpb24iOiIifQ==\,eyJ1cmwiOiJodHRwc
 zpcL1wvd3d3LmtqdWMuc2lcL3dwLWNvbnRlbnRcL3VwbG9hZHNcLzIwMjNcLzEwXC8yMDIzMTE
 xMF8xOTE3MTUuanBnIiwidGl0bGUiOiIyMDIzMTExMF8xOTE3MTUiLCJjYXB0aW9uIjoiIiwiY
 Wx0IjoiIiwiZGVzY3JpcHRpb24iOiIifQ==\,eyJ1cmwiOiJodHRwczpcL1wvd3d3LmtqdWMuc
 2lcL3dwLWNvbnRlbnRcL3VwbG9hZHNcLzIwMjNcLzEwXC8yMDIzMTExMF8xOTE3MjkuanBnIiw
 idGl0bGUiOiIyMDIzMTExMF8xOTE3MjkiLCJjYXB0aW9uIjoiIiwiYWx0IjoiIiwiZGVzY3Jpc
 HRpb24iOiIifQ==\,eyJ1cmwiOiJodHRwczpcL1wvd3d3LmtqdWMuc2lcL3dwLWNvbnRlbnRcL
 3VwbG9hZHNcLzIwMjNcLzEwXC8yMDIzMTExMF8xOTE3MzQtZTE2OTk5NzQ4NjA4NzIuanBnIiw
 idGl0bGUiOiIyMDIzMTExMF8xOTE3MzQiLCJjYXB0aW9uIjoiIiwiYWx0IjoiIiwiZGVzY3Jpc
 HRpb24iOiIifQ=="]\n\n&nbsp\;
ATTACH;FMTTYPE=image/jpeg:https://www.kjuc.si/wp-content/uploads/2025/03/K
 opija-izd.-Raziskovanje-abstrakcije-skozi-mozaik-page-001.jpg
CATEGORIES:Razstave
LOCATION:Enota Ivana Matičiča Rakek\, Partizanska cesta 8a\, Rakek\, Slov
 enia
GEO:45.8127;14.319238
X-APPLE-STRUCTURED-LOCATION;VALUE=URI;X-ADDRESS=Partizanska cesta 8a\, Rake
 k\, Slovenia;X-APPLE-RADIUS=100;X-TITLE=Enota Ivana Matičiča Rakek:geo:4
 5.8127,14.319238
END:VEVENT
BEGIN:VTIMEZONE
TZID:Europe/Ljubljana
X-LIC-LOCATION:Europe/Ljubljana
BEGIN:DAYLIGHT
DTSTART:20230326T030000
TZOFFSETFROM:+0100
TZOFFSETTO:+0200
TZNAME:CEST
END:DAYLIGHT
BEGIN:STANDARD
DTSTART:20231029T020000
TZOFFSETFROM:+0200
TZOFFSETTO:+0100
TZNAME:CET
END:STANDARD
END:VTIMEZONE
END:VCALENDAR