BEGIN:VCALENDAR
VERSION:2.0
PRODID:-//wp-events-plugin.com//7.2.3.1//EN
TZID:Europe/Ljubljana
X-WR-TIMEZONE:Europe/Ljubljana
BEGIN:VEVENT
UID:688@kjuc.si
DTSTART;TZID=Europe/Ljubljana:20180703T000000
DTEND;TZID=Europe/Ljubljana:20180905T000000
DTSTAMP:20250331T103013Z
URL:https://www.kjuc.si/dogodki/razstava-cipk-klekljarske-sekcije-kd-rak-r
 akek/
SUMMARY:Razstava čipk Klekljarske sekcije KD Rak Rakek
DESCRIPTION: čipke nova vas (1)
CATEGORIES:Razstave
LOCATION:Enota Ivana Čampa Nova vas\, Nova vas 4a\, Nova vas\, Slovenia
GEO:45.363149;13.640599
X-APPLE-STRUCTURED-LOCATION;VALUE=URI;X-ADDRESS=Nova vas 4a\, Nova vas\, Sl
 ovenia;X-APPLE-RADIUS=100;X-TITLE=Enota Ivana Čampa Nova vas:geo:45.36314
 9,13.640599
END:VEVENT
BEGIN:VTIMEZONE
TZID:Europe/Ljubljana
X-LIC-LOCATION:Europe/Ljubljana
BEGIN:DAYLIGHT
DTSTART:20180325T030000
TZOFFSETFROM:+0100
TZOFFSETTO:+0200
TZNAME:CEST
END:DAYLIGHT
END:VTIMEZONE
END:VCALENDAR